Workbook
Name _7A1_I21: #REF!
Name _7A1_I21: #REF!

Sheet 市町村調査表１を加工
A1: 令和７年度 入湯税の使途状況等 | H1: 市町村名 | I1: 壮瞥町 | J1: 全国地方公共団体コード | K1: 015750
H2: 主な温泉名 | I2: 壮瞥温泉、洞爺湖温泉、蟠渓温泉 | L2: ←温泉地名がない場合は、施設の個別名称は記載せず、「―」としてください。
K3: (単位：千円)
A4: 区 分 | B4: 事 業 名 | D4: 事 業 費 | E4: 当 該 事 業 の 財 源 内 訳 | K4: 備 考
E5: 支 出 金 | G5: 地方債 | H5: 負担金 その他 | I5: 一般財源等
E6: 国 | F6: 都道府県 | I6: 入湯税 | J6: その他
L7: ＊網掛け部分については、自動計算式が入っています。
B8: う ち 入 湯 税 充 当 事 業 | C8: 西いぶり広域連合負担金 | D8: =SUM(E8:J8) -> 40200 | G8: 10900 | I8: 12997 | J8: 16303 | L8: ←基金からの取崩しがある場合は、事業ごとに基金の名称および取崩し額を記載してください。
D9: =SUM(E9:J9) -> 0
A10: 環境衛生施設の整備 | D10: =SUM(E10:J10) -> 0
D11: =SUM(E11:J11) -> 0
D12: =SUM(E12:J12) -> 0
C13: 計 Ａ | D13: =SUM(E13:J13) -> 40200 | E13: =SUM(E8:E12) -> 0 | F13: =SUM(F8:F12) -> 0 | G13: =SUM(G8:G12) -> 10900 | H13: =SUM(H8:H12) -> 0 | I13: =SUM(I8:I12) -> 12997 | J13: =SUM(J8:J12) -> 16303
B14: 小計(入湯税を充当していない分を含む) Ｇ | D14: =SUM(E14:J14) -> 40200 | G14: 10900 | I14: 12997 | J14: 16303 | L14: ←上記の充当事業にプラスしてその他充当可能な事業があれば、必ず記載してください。
B15: う ち 入 湯 税 充 当 事 業 | C15: 廃止鉱山鉱害防止事業 | D15: =SUM(E15:J15) -> 401532 | F15: 400345 | I15: 527 | J15: 660 | L15: ←基金からの取崩しがある場合は、事業ごとに基金の名称および取崩し額を記載してください。
C16: 各泉源ポンプ等交換工事 | D16: =SUM(E16:J16) -> 10032 | I16: 8900 | J16: 1132
A17: 鉱泉源の保護管理施設 | C17: 機械器具費（ポンプ等） | D17: =SUM(E17:J17) -> 10835 | I17: 9613 | J17: 1222
D18: =SUM(E18:J18) -> 0
D19: =SUM(E19:J19) -> 0
C20: 計 Ｂ | D20: =SUM(E20:J20) -> 422399 | E20: =SUM(E15:E19) -> 0 | F20: =SUM(F15:F19) -> 400345 | G20: =SUM(G15:G19) -> 0 | H20: =SUM(H15:H19) -> 0 | I20: =SUM(I15:I19) -> 19040 | J20: =SUM(J15:J19) -> 3014
B21: 小計(入湯税を充当していない分を含む) Ｈ | D21: =SUM(E21:J21) -> 422399 | F21: 400345 | I21: 19040 | J21: 3014 | L21: ←上記の充当事業にプラスしてその他充当可能な事業があれば、必ず記載してください。
B22: う ち 入 湯 税 充 当 事 業 | C22: 西胆振行政事務組合消防負担金 | D22: =SUM(E22:J22) -> 311844 | G22: 146800 | H22: 136001 | I22: 12884 | J22: 16159 | L22: ←基金からの取崩しがある場合は、事業ごとに基金の名称および取崩し額を記載してください。
D23: =SUM(E23:J23) -> 0
A24: 消防施設等の整備 | D24: =SUM(E24:J24) -> 0
D25: =SUM(E25:J25) -> 0
D26: =SUM(E26:J26) -> 0
C27: 計 Ｃ | D27: =SUM(E27:J27) -> 311844 | E27: =SUM(E22:E26) -> 0 | F27: =SUM(F22:F26) -> 0 | G27: =SUM(G22:G26) -> 146800 | H27: =SUM(H22:H26) -> 136001 | I27: =SUM(I22:I26) -> 12884 | J27: =SUM(J22:J26) -> 16159
B28: 小計(入湯税を充当していない分を含む) Ｉ | D28: =SUM(E28:J28) -> 311844 | G28: 146800 | H28: 136001 | I28: 12884 | J28: 16159 | L28: ←上記の充当事業にプラスしてその他充当可能な事業があれば、必ず記載してください。
B29: う ち 入 湯 税 充 当 事 業 | C29: オロフレスキー場リフトモーター長寿命化工事 | D29: =SUM(E29:J29) -> 6050 | G29: 4500 | I29: 688 | J29: 862 | L29: ←基金からの取崩しがある場合は、事業ごとに基金の名称および取崩し額を記載してください。
C30: 蟠渓地区観光看板設置工事 | D30: =SUM(E30:J30) -> 271 | I30: 240 | J30: 31
A31: 観光施設の整備 | C31: そうべつ情報館機能拡充工事 | D31: =SUM(E31:J31) -> 74579 | E31: 36496 | G31: 38000 | I31: 37 | J31: 46
D32: =SUM(E32:J32) -> 0
D33: =SUM(E33:J33) -> 0
C34: 計 Ｄ | D34: =SUM(E34:J34) -> 80900 | E34: =SUM(E29:E33) -> 36496 | F34: =SUM(F29:F33) -> 0 | G34: =SUM(G29:G33) -> 42500 | H34: =SUM(H29:H33) -> 0 | I34: =SUM(I29:I33) -> 965 | J34: =SUM(J29:J33) -> 939
B35: 小計(入湯税を充当していない分を含む) Ｊ | D35: =SUM(E35:J35) -> 80900 | E35: 36496 | G35: 42500 | I35: 965 | J35: 939 | L35: ←上記の充当事業にプラスしてその他充当可能な事業があれば、必ず記載してください。
B36: う ち 入 湯 税 充 当 事 業 | C36: 洞爺湖ロングラン花火大会補助金 | D36: =SUM(E36:J36) -> 12000 | I36: 12000 | L36: ←基金からの取崩しがある場合は、事業ごとに基金の名称および取崩し額を記載してください。
C37: 道の駅連絡会負担金 | D37: =SUM(E37:J37) -> 70 | I37: 62 | J37: 8
A38: 観光振興 | C38: 北海道観光振興機構負担金 | D38: =SUM(E38:J38) -> 225 | I38: 200 | J38: 25
A39: （観光施設の整備除く） | C39: 北海道観光地所在町村協議会負担金 | D39: =SUM(E39:J39) -> 11 | I39: 10 | J39: 1
C40: その他観光奨励に関する経費 | D40: =SUM(E40:J40) -> 80256 | E40: 5532 | F40: 1500 | G40: 9400 | H40: 16797 | I40: 20861 | J40: 26166
...

Sheet 執行成果概要貼付用・HP公表用
C2: 令和７年度 入湯税の使途状況について
C3: 入湯税は、環境衛生施設、鉱泉源の保護管理施設及び消防施設その他消防活動に必要な施設の整備並びに観光の振興（観光施設の整備を含む。）に要する費用に充てる目的税です。 令和７年度の充当状況は下記のとおりです。
J6: (単位：千円)
C7: 区 分 | D7: 事 業 費 | E7: 当 該 事 業 の 財 源 内 訳
E8: 支 出 金 | G8: 地方債 | H8: 負担金 その他 | I8: 一般財源等
E9: 国 | F9: 都道府県 | I9: 入湯税 | J9: その他
C11: 環境衛生施設の整備 | D11: =市町村調査表１を加工!D13 -> 40200 | E11: =市町村調査表１を加工!E13 -> 0 | F11: =市町村調査表１を加工!F13 -> 0 | G11: =市町村調査表１を加工!G13 -> 10900 | H11: =市町村調査表１を加工!H13 -> 0 | I11: =市町村調査表１を加工!I13 -> 12997 | J11: =市町村調査表１を加工!J13 -> 16303 | M11: =SUM(E11:J13) -> 40200 | N11: =IF(D11=M11,"","エラー")
C14: 鉱泉源の保護管理施設 | D14: =市町村調査表１を加工!D20 -> 422399 | E14: =市町村調査表１を加工!E20 -> 0 | F14: =市町村調査表１を加工!F20 -> 400345 | G14: =市町村調査表１を加工!G20 -> 0 | H14: =市町村調査表１を加工!H20 -> 0 | I14: =市町村調査表１を加工!I20 -> 19040 | J14: =市町村調査表１を加工!J20 -> 3014 | M14: =SUM(E14:J16) -> 422399 | N14: =IF(D14=M14,"","エラー")
C17: 消防施設等の整備 | D17: =市町村調査表１を加工!D27 -> 311844 | E17: =市町村調査表１を加工!E27 -> 0 | F17: =市町村調査表１を加工!F27 -> 0 | G17: =市町村調査表１を加工!G27 -> 146800 | H17: =市町村調査表１を加工!H27 -> 136001 | I17: =市町村調査表１を加工!I27 -> 12884 | J17: =市町村調査表１を加工!J27 -> 16159 | M17: =SUM(E17:J19) -> 311844 | N17: =IF(D17=M17,"","エラー")
C20: 観光施設の整備 | D20: =市町村調査表１を加工!D34 -> 80900 | E20: =市町村調査表１を加工!E34 -> 36496 | F20: =市町村調査表１を加工!F34 -> 0 | G20: =市町村調査表１を加工!G34 -> 42500 | H20: =市町村調査表１を加工!H34 -> 0 | I20: =市町村調査表１を加工!I34 -> 965 | J20: =市町村調査表１を加工!J34 -> 939 | M20: =SUM(E20:J22) -> 80900 | N20: =IF(D20=M20,"","エラー")
C23: 観光振興 （観光施設の整備除く） | D23: =市町村調査表１を加工!D41 -> 92562 | E23: =市町村調査表１を加工!E41 -> 5532 | F23: =市町村調査表１を加工!F41 -> 1500 | G23: =市町村調査表１を加工!G41 -> 9400 | H23: =市町村調査表１を加工!H41 -> 16797 | I23: =市町村調査表１を加工!I41 -> 33133 | J23: =市町村調査表１を加工!J41 -> 26200 | M23: =SUM(E23:J25) -> 92562 | N23: =IF(D23=M23,"","エラー")
C26: 合 計 | D26: =市町村調査表１を加工!D44 -> 947905 | E26: =市町村調査表１を加工!E44 -> 42028 | F26: =市町村調査表１を加工!F44 -> 401845 | G26: =市町村調査表１を加工!G44 -> 209600 | H26: =市町村調査表１を加工!H44 -> 152798 | I26: =市町村調査表１を加工!I44 -> 79019 | J26: =市町村調査表１を加工!J44 -> 62615
D30: =SUM(D11:D25) -> 947905 | E30: =SUM(E11:E25) -> 42028 | F30: =SUM(F11:F25) -> 401845 | G30: =SUM(G11:G25) -> 209600 | H30: =SUM(H11:H25) -> 152798 | I30: =SUM(I11:I25) -> 79019 | J30: =SUM(J11:J25) -> 62615
D31: =IF(D26=D30,"","エラー") | E31: =IF(E26=E30,"","エラー") | F31: =IF(F26=F30,"","エラー") | G31: =IF(G26=G30,"","エラー") | H31: =IF(H26=H30,"","エラー") | I31: =IF(I26=I30,"","エラー") | J31: =IF(J26=J30,"","エラー")
