Workbook
Name 見出し: 'R07決算内訳'!$A$4:$J$4
Name 年度: リスト!$B$2:$B$50
Name 年度２: リスト!$C$2:$C$51
Name 列: リスト!$E$2:$E$53

Sheet リスト
B1: 年度 | C1: 年度２ | E1: 列
A2: 1 | B2: 令和１年度 | C2: R01 | E2: =SUBSTITUTE(ADDRESS(1,ROW()-1,4),1,"") -> A
A3: 2 | B3: 令和２年度 | C3: R02 | E3: =SUBSTITUTE(ADDRESS(1,ROW()-1,4),1,"") -> B
A4: 3 | B4: 令和３年度 | C4: R03 | E4: =SUBSTITUTE(ADDRESS(1,ROW()-1,4),1,"") -> C
A5: 4 | B5: 令和４年度 | C5: R04 | E5: =SUBSTITUTE(ADDRESS(1,ROW()-1,4),1,"") -> D
A6: 5 | B6: 令和５年度 | C6: R05 | E6: =SUBSTITUTE(ADDRESS(1,ROW()-1,4),1,"") -> E
A7: 6 | B7: 令和６年度 | C7: R06 | E7: =SUBSTITUTE(ADDRESS(1,ROW()-1,4),1,"") -> F
A8: 7 | B8: 令和７年度 | C8: R07 | E8: =SUBSTITUTE(ADDRESS(1,ROW()-1,4),1,"") -> G
A9: 8 | B9: 令和８年度 | C9: R08 | E9: =SUBSTITUTE(ADDRESS(1,ROW()-1,4),1,"") -> H
A10: 9 | B10: 令和９年度 | C10: R09 | E10: =SUBSTITUTE(ADDRESS(1,ROW()-1,4),1,"") -> I
A11: 10 | B11: 令和10年度 | C11: R10 | E11: =SUBSTITUTE(ADDRESS(1,ROW()-1,4),1,"") -> J
A12: 11 | B12: 令和11年度 | C12: R11 | E12: =SUBSTITUTE(ADDRESS(1,ROW()-1,4),1,"") -> K
A13: 12 | B13: 令和12年度 | C13: R12 | E13: =SUBSTITUTE(ADDRESS(1,ROW()-1,4),1,"") -> L
... A51: 50 | B51: 令和50年度 | C51: R50 | E51: =SUBSTITUTE(ADDRESS(1,ROW()-1,4),1,"") -> AX
E52: =SUBSTITUTE(ADDRESS(1,ROW()-1,4),1,"") -> AY
E53: =SUBSTITUTE(ADDRESS(1,ROW()-1,4),1,"") -> AZ

Sheet R07決算
A1: =CONCATENATE(A$2,A$3,A$4,A$2,A$5) -> B1:B100 | B1: ="'"&$C$1&"決算内訳'!" -> 'R07決算内訳'! | C1: =MID(RIGHT(CELL("filename",$AB$1),LEN(CELL("filename",$AB$1))-FIND("]",CELL("filename",$AB$1))),1,3) -> R07 | D1: =MATCH($C$1,年度２,0) -> 7 | G1: =INDEX(列,MATCH(G$12,見出し,0),1) -> D | H1: =INDEX(列,MATCH(H$12,見出し,0),1) -> F | I1: =INDEX(列,MATCH(I$12,見出し,0),1) -> G | J1: =INDEX(列,MATCH(J$12,見出し,0),1) -> H | K1: =$G$1 -> D
A2: =INDEX(列,MATCH($E$10,見出し,0),1) -> B | D2: =INDEX(年度,$D$1,1)&"一般会計決算における地方消費税交付金（社会保障財源化分）が充てられる社会保障施策に要する経費" -> 令和７年度一般会計決算における地方消費税交付金（社会保障財源化分）が充てられる社会保障施策に要する経費
A3: 1
A4: :
A5: 100 | D5: （歳入） | E5: 地方消費税交付金（社会保障財源化分） | K5: 44357
B6: 合計
A7: =A$1 -> B1:B100 | B7: =MATCH($B$6,INDIRECT($B$1&A7),0) -> 55 | D7: （歳出） | E7: 地方消費税交付金（社会保障財源化分）が充てられる社会保障施策に要する経費 | K7: =ROUND(INDIRECT($B$1&K$1&$B7),-3)/1000 -> 569894
D9: 【社会保障施策に要する経費】 | G9: =IF(G25=K7,"","☟調整必要") | H9: =IF(H28=H16+H20+H24,"","☟調整必要") | I9: =IF(I28=I16+I20+I24,"","☟調整必要") | J9: =IF(J28=J16+J20+J24,"","☟調整必要") | K9: =IF(K25=K5,"","☟調整必要") | L9: （単位：千円）
D10: 区分 | E10: 事業名 | H10: 財源内訳
G11: =INDEX(年度,$D$1,1) -> 令和７年度 | H11: 特定財源 | K11: 一般財源
G12: 決算額 | H12: 国・道支出金 | I12: 地方債 | J12: その他 | K12: 地方消費税交付金 （社会保障財源化分） | L12: その他 | O12: 一般財源 総額 | P12: 一般財源 総額
A13: =A$1 -> B1:B100 | B13: =MATCH($E13,INDIRECT($B$1&A13),0) -> 6 | D13: 社会福祉 | E13: 障害者福祉事業 | G13: =ROUND(INDIRECT($B$1&G$1&$B13),-3)/1000 -> 201272 | H13: =ROUND(INDIRECT($B$1&H$1&$B13),-3)/1000 -> 143070 | I13: =ROUND(INDIRECT($B$1&I$1&$B13),-3)/1000 -> 0 | J13: =ROUND(INDIRECT($B$1&J$1&$B13),-3)/1000 -> 370 | K13: =ROUND($K$5/$O$25*$O13,0) -> 8621 | L13: =$G13-SUM($H13:$K13) -> 49211 | O13: =$G13-(SUM($H13:$J13)) -> 57832 | P13: =SUM($K13:$L13) -> 57832 | Q13: =O13-P13 -> 0 | R13: =O13/O25*K25 -> 8621.3406
A14: =A$1 -> B1:B100 | B14: =MATCH($E14,INDIRECT($B$1&A14),0) -> 12 | E14: 高齢者福祉事業 | G14: =ROUND(INDIRECT($B$1&G$1&$B14),-3)/1000 -> 52489 | H14: =ROUND(INDIRECT($B$1&H$1&$B14),-3)/1000 -> 181 | I14: =ROUND(INDIRECT($B$1&I$1&$B14),-3)/1000 -> 1400 | J14: =ROUND(INDIRECT($B$1&J$1&$B14),-3)/1000+1 -> 750 | K14: =ROUND($K$5/$O$25*$O14,0) -> 7477 | L14: =$G14-SUM($H14:$K14) -> 42681 | O14: =$G14-(SUM($H14:$J14)) -> 50158 | P14: =SUM($K14:$L14) -> 50158 | Q14: =O14-P14 -> 0 | R14: =O14/O25*K25 -> 7477.3344
A15: =A$1 -> B1:B100 | B15: =MATCH($E15,INDIRECT($B$1&A15),0) -> 25 | E15: 児童福祉事業 | G15: =ROUND(INDIRECT($B$1&G$1&$B15),-3)/1000+1 -> 145905 | H15: =ROUND(INDIRECT($B$1&H$1&$B15),-3)/1000 -> 47706 | I15: =ROUND(INDIRECT($B$1&I$1&$B15),-3)/1000 -> 6100 | J15: =ROUND(INDIRECT($B$1&J$1&$B15),-3)/1000 -> 34579 | K15: =ROUND($K$5/$O$25*$O15,0) -> 8575 | L15: =$G15-SUM($H15:$K15) -> 48945 | O15: =$G15-(SUM($H15:$J15)) -> 57520 | P15: =SUM($K15:$L15) -> 57520 | Q15: =O15-P15 -> 0 | R15: =O15/O25*K25 -> 8574.829
A16: － | B16: － | E16: 小 計 | G16: =SUBTOTAL(9,G13:G15) -> 399666 | H16: =SUBTOTAL(9,H13:H15) -> 190957 | I16: =SUBTOTAL(9,I13:I15) -> 7500 | J16: =SUBTOTAL(9,J13:J15) -> 35699 | K16: =SUBTOTAL(9,K13:K15) -> 24673 | L16: =SUBTOTAL(9,L13:L15) -> 140837 | O16: =$G16-(SUM($H16:$J16)) -> 165510 | P16: =SUM($K16:$L16) -> 165510 | Q16: =O16-P16 -> 0 | R16: =O16/O25*K25 -> 24673.504
A17: =A$1 -> B1:B100 | B17: =MATCH($E17,INDIRECT($B$1&A17),0) -> 35 | D17: 社会保険 | E17: 国民健康保険事業 | G17: =ROUND(INDIRECT($B$1&G$1&$B17),-3)/1000 -> 25482 | H17: =ROUND(INDIRECT($B$1&H$1&$B17),-3)/1000 -> 14893 | I17: =ROUND(INDIRECT($B$1&I$1&$B17),-3)/1000 -> 0 | J17: =ROUND(INDIRECT($B$1&J$1&$B17),-3)/1000 -> 0 | K17: =ROUND($K$5/$O$25*$O17,0) -> 1579 | L17: =$G17-SUM($H17:$K17) -> 9010 | O17: =$G17-(SUM($H17:$J17)) -> 10589 | P17: =SUM($K17:$L17) -> 10589 | Q17: =O17-P17 -> 0 | R17: =O17/O25*K25 -> 1578.5616
A18: =A$1 -> B1:B100 | B18: =MATCH($E18,INDIRECT($B$1&A18),0) -> 37 | E18: 介護保険事業 | G18: =ROUND(INDIRECT($B$1&G$1&$B18),-3)/1000 -> 48441 | H18: =ROUND(INDIRECT($B$1&H$1&$B18),-3)/1000 -> 3317 | I18: =ROUND(INDIRECT($B$1&I$1&$B18),-3)/1000 -> 0 | J18: =ROUND(INDIRECT($B$1&J$1&$B18),-3)/1000 -> 0 | K18: =ROUND($K$5/$O$25*$O18,0) -> 6727 | L18: =$G18-SUM($H18:$K18) -> 38397 | O18: =$G18-(SUM($H18:$J18)) -> 45124 | P18: =SUM($K18:$L18) -> 45124 | Q18: =O18-P18 -> 0 | R18: =O18/O25*K25 -> 6726.8877
A19: =A$1 -> B1:B100 | B19: =MATCH($E19,INDIRECT($B$1&A19),0) -> 39 | E19: 後期高齢者医療事業 | G19: =ROUND(INDIRECT($B$1&G$1&$B19),-3)/1000 -> 71297 | H19: =ROUND(INDIRECT($B$1&H$1&$B19),-3)/1000-1 -> 9128 | I19: =ROUND(INDIRECT($B$1&I$1&$B19),-3)/1000 -> 0 | J19: =ROUND(INDIRECT($B$1&J$1&$B19),-3)/1000 -> 0 | K19: =ROUND($K$5/$O$25*$O19,0) -> 9268 | L19: =$G19-SUM($H19:$K19) -> 52901 | O19: =$G19-(SUM($H19:$J19)) -> 62169 | P19: =SUM($K19:$L19) -> 62169 | Q19: =O19-P19 -> 0 | R19: =O19/O25*K25 -> 9267.8815
A20: － | B20: － | E20: 小 計 | G20: =SUBTOTAL(9,G17:G19) -> 145220 | H20: =SUBTOTAL(9,H17:H19) -> 27338 | I20: =SUBTOTAL(9,I17:I19) -> 0 | J20: =SUBTOTAL(9,J17:J19) -> 0 | K20: =SUBTOTAL(9,K17:K19) -> 17574 | L20: =SUBTOTAL(9,L17:L19) -> 100308 | O20: =$G20-(SUM($H20:$J20)) -> 117882 | P20: =SUM($K20:$L20) -> 117882 | Q20: =O20-P20 -> 0 | R20: =O20/O25*K25 -> 17573.331
A21: =A$1 -> B1:B100 | B21: =MATCH($E21,INDIRECT($B$1&A21),0) -> 43 | D21: 保健衛生 | E21: 医療施策事業 | G21: =ROUND(INDIRECT($B$1&G$1&$B21),-3)/1000 -> 7839 | H21: =ROUND(INDIRECT($B$1&H$1&$B21),-3)/1000 -> 1398 | I21: =ROUND(INDIRECT($B$1&I$1&$B21),-3)/1000 -> 3900 | J21: =ROUND(INDIRECT($B$1&J$1&$B21),-3)/1000 -> 0 | K21: =ROUND($K$5/$O$25*$O21,0) -> 379 | L21: =$G21-SUM($H21:$K21) -> 2162 | O21: =$G21-(SUM($H21:$J21)) -> 2541 | P21: =SUM($K21:$L21) -> 2541 | Q21: =O21-P21 -> 0 | R21: =O21/O25*K25 -> 378.80112
A22: =A$1 -> B1:B100 | B22: =MATCH($E22,INDIRECT($B$1&A22),0) -> 47 | E22: 疾病予防対策事業 | G22: =ROUND(INDIRECT($B$1&G$1&$B22),-3)/1000+1 -> 7075 | H22: =ROUND(INDIRECT($B$1&H$1&$B22),-3)/1000 -> 5 | I22: =ROUND(INDIRECT($B$1&I$1&$B22),-3)/1000 -> 0 | J22: =ROUND(INDIRECT($B$1&J$1&$B22),-3)/1000 -> 0 | K22: =ROUND($K$5/$O$25*$O22,0) -> 1054 | L22: =$G22-SUM($H22:$K22) -> 6016 | O22: =$G22-(SUM($H22:$J22)) -> 7070 | P22: =SUM($K22:$L22) -> 7070 | Q22: =O22-P22 -> 0 | R22: =O22/O25*K25 -> 1053.9646
A23: =A$1 -> B1:B100 | B23: =MATCH($E23,INDIRECT($B$1&A23),0) -> 50 | E23: 健康増進対策事業 | G23: =ROUND(INDIRECT($B$1&G$1&$B23),-3)/1000 -> 10094 | H23: =ROUND(INDIRECT($B$1&H$1&$B23),-3)/1000 -> 1783 | I23: =ROUND(INDIRECT($B$1&I$1&$B23),-3)/1000 -> 0 | J23: =ROUND(INDIRECT($B$1&J$1&$B23),-3)/1000 -> 3767 | K23: =ROUND($K$5/$O$25*$O23,0) -> 677 | L23: =$G23-SUM($H23:$K23) -> 3867 | O23: =$G23-(SUM($H23:$J23)) -> 4544 | P23: =SUM($K23:$L23) -> 4544 | Q23: =O23-P23 -> 0 | R23: =O23/O25*K25 -> 677.39956
A24: － | B24: － | E24: 小 計 | G24: =SUBTOTAL(9,G21:G23) -> 25008 | H24: =SUBTOTAL(9,H21:H23) -> 3186 | I24: =SUBTOTAL(9,I21:I23) -> 3900 | J24: =SUBTOTAL(9,J21:J23) -> 3767 | K24: =SUBTOTAL(9,K21:K23) -> 2110 | L24: =SUBTOTAL(9,L21:L23) -> 12045 | O24: =$G24-(SUM($H24:$J24)) -> 14155 | P24: =SUM($K24:$L24) -> 14155 | Q24: =O24-P24 -> 0 | R24: =O24/O25*K25 -> 2110.1652
D25: 合 計 | G25: =SUBTOTAL(9,G13:G24) -> 569894 | H25: =SUBTOTAL(9,H13:H24) -> 221481 | I25: =SUBTOTAL(9,I13:I24) -> 11400 | J25: =SUBTOTAL(9,J13:J24) -> 39466 | K25: =SUBTOTAL(9,K13:K24) -> 44357 | L25: =SUBTOTAL(9,L13:L24) -> 253190 | O25: =$G25-(SUM($H25:$J25)) -> 297547 | P25: =SUM($K25:$L25) -> 297547 | Q25: =O25-P25 -> 0 | R25: =O25/O25*K25 -> 44357
D26: ※地方消費税交付金（社会保障財源化分）は、各事業に要する一般財源の比率に応じて按分して充当しています。
B28: =$B$7 -> 55 | G28: =ROUND(INDIRECT($B$1&G$1&$B28),-3)/1000 -> 569894 | H28: =ROUND(INDIRECT($B$1&H$1&$B28),-3)/1000 -> 221481 | I28: =ROUND(INDIRECT($B$1&I$1&$B28),-3)/1000 -> 11400 | J28: =ROUND(INDIRECT($B$1&J$1&$B28),-3)/1000 -> 39466
G29: =IF(G$25=G$28,"OK","*NG*") -> OK | H29: =IF(H$25=H$28,"OK","*NG*") -> OK | I29: =IF(I$25=I$28,"OK","*NG*") -> OK | J29: =IF(J$25=J$28,"OK","*NG*") -> OK

Sheet R07決算内訳
A1: =MID(RIGHT(CELL("filename",$Z$1),LEN(CELL("filename",$Z$1))-FIND("]",CELL("filename",$Z$1))),1,3) -> R07 | B1: =MATCH($A$1,年度２,0) -> 7
A2: =INDEX(年度,$B$1,1)&"一般会計決算における地方消費税交付金（社会保障財源化分）が充てられる社会保障施策に要する経費" -> 令和７年度一般会計決算における地方消費税交付金（社会保障財源化分）が充てられる社会保障施策に要する経費
J3: （単位：円）
A4: 区分 | B4: 事業名 | C4: 対象（款項又は事業） | D4: 決算額 | E4: 事業名 | F4: 国・道支出金 | G4: 地方債 | H4: その他 | I4: 一般財源 | J4: 計
A5: 社会福祉 | D5: =SUM(D6,D12,D25) -> 399665856 | E5: 区分計 | F5: =SUM(F6,F12,F25) -> 190956812 | G5: =SUM(G6,G12,G25) -> 7500000 | H5: =SUM(H6,H12,H25) -> 35698345 | I5: =SUM(I6,I12,I25) -> 165510699 | J5: =SUM(J6,J12,J25) -> 399665856
B6: 障害者福祉事業 | C6: 款）民生費 項）心身障害者福祉費 | D6: =SUM(J6) -> 201272285 | E6: 事業計 | F6: =SUM(F7:F11) -> 143069500 | G6: =SUM(G7:G11) -> 0 | H6: =SUM(H7:H11) -> 369848 | I6: =SUM(I7:I11) -> 57832937 | J6: =SUM(J7:J11) -> 201272285
E7: 重度心身障害者医療費助成事業 | F7: 1489000 | H7: 369848 | I7: =J7-SUM(F7,G7,H7) -> 1491850 | J7: 3350698 | K7: ←歳出決算額
E8: 身体障害児支援費事業 | I8: =J8-SUM(F8,G8,H8) -> 0 | J8: 0 | K8: ←歳出決算額
E9: 障害者自立支援給付等事業 | F9: 139870000 | I9: =J9-SUM(F9,G9,H9) -> 48771937 | J9: 188641937 | K9: ←歳出決算額
E10: 障害者自立支援医療給付事業 | F10: 687500 | I10: =J10-SUM(F10,G10,H10) -> 47390 | J10: 734890 | K10: ←歳出決算額
E11: 地域生活支援事業 | F11: 1023000 | I11: =J11-SUM(F11,G11,H11) -> 7521760 | J11: 8544760 | K11: ←歳出決算額
B12: 高齢者福祉事業 | C12: 款）民生費 項）老人福祉費 | D12: =SUM(J12) -> 52489155 | E12: 事業計 | F12: =SUM(F13:F24) -> 181466 | G12: =SUM(G13:G24) -> 1400000 | H12: =SUM(H13:H24) -> 749467 | I12: =SUM(I13:I24) -> 50158222 | J12: =SUM(J13:J24) -> 52489155
E13: 生活支援ハウス運営委託事業 | H13: 653958 | I13: =J13-SUM(F13,G13,H13) -> 16981187 | J13: 17635145 | K13: ←歳出決算額
E14: 在宅高齢者短期入所委託事業 | H14: 8320 | I14: =J14-SUM(F14,G14,H14) -> 74880 | J14: 83200 | K14: ←歳出決算額
E15: 介護予防通所委託事業 | H15: 63643 | I15: =J15-SUM(F15,G15,H15) -> 23336357 | J15: 23400000 | K15: ←歳出決算額
E16: 介護予防家事援助委託事業 | H16: 8296 | I16: =J16-SUM(F16,G16,H16) -> 7943658 | J16: 7951954 | K16: ←歳出決算額
E17: 高齢者在宅生活支援事業 | I17: =J17-SUM(F17,G17,H17) -> 602228 | J17: 602228 | K17: ←歳出決算額
E18: 緊急通報システム管理委託事業 | H18: 15250 | I18: =J18-SUM(F18,G18,H18) -> 144448 | J18: 159698 | K18: ←歳出決算額
E19: 老人福祉一般事務経費 | I19: =J19-SUM(F19,G19,H19) -> 24000 | J19: 24000 | K19: ←歳出決算額
E20: 長寿祝金支給事業 | I20: =J20-SUM(F20,G20,H20) -> 402970 | J20: 402970 | K20: ←歳出決算額
E21: 老人クラブ活動事業 | F21: 181466 | I21: =J21-SUM(F21,G21,H21) -> 548534 | J21: 730000 | K21: ←歳出決算額
E22: 介護サービス利用者負担軽減事業 | I22: =J22-SUM(F22,G22,H22) -> 0 | J22: 0 | K22: ←歳出決算額
E23: 路線バス無料化事業 | G23: 1400000 | I23: =J23-SUM(F23,G23,H23) -> 99960 | J23: 1499960 | K23: ←歳出決算額
E24: 老人福祉施設入所措置事業 | I24: =J24-SUM(F24,G24,H24) -> 0 | J24: 0 | K24: ←歳出決算額
B25: 児童福祉事業 | C25: 款）民生費 項）児童福祉費 | D25: =SUM(J25) -> 145904416 | E25: 事業計 | F25: =SUM(F26:F33) -> 47705846 | G25: =SUM(G26:G33) -> 6100000 | H25: =SUM(H26:H33) -> 34579030 | I25: =SUM(I26:I33) -> 57519540 | J25: =SUM(J26:J33) -> 145904416
E26: 児童手当事業 | F26: 29956331 | I26: =J26-SUM(F26,G26,H26) -> 6091997 | J26: 36048328 | K26: ←歳出決算額
E27: 子育て応援祝金事業 | I27: =J27-SUM(F27,G27,H27) -> 7705090 | J27: 7705090 | K27: ←歳出決算額
E28: 結婚新生活支援事業 | I28: =J28-SUM(F28,G28,H28) -> 206000 | J28: 206000 | K28: ←歳出決算額
E29: 出産・子育て応援給付金事業 | F29: 859000 | I29: =J29-SUM(F29,G29,H29) -> 27735 | J29: 886735 | K29: ←歳出決算額
E30: 保育及び子育て環境整備事業 | F30: 12032515 | G30: 6100000 | H30: 34579030 | I30: =J30-SUM(F30,G30,H30) -> 38795962 | J30: 91507507 | K30: ←歳出決算額
E31: そうべつ児童クラブ運営事業 | F31: 4858000 | I31: =J31-SUM(F31,G31,H31) -> 4549583 | J31: 9407583 | K31: ←歳出決算額
E32: 保育ＩＣＴシステム導入事業 | I32: =J32-SUM(F32,G32,H32) -> 0 | J32: 0 | K32: ←歳出決算額
E33: 公用車運行管理経費 | I33: =J33-SUM(F33,G33,H33) -> 143173 | J33: 143173 | K33: ←歳出決算額
A34: 社会保険 | D34: =SUM(D35,D37,D39) -> 145220306 | E34: 区分計 | F34: =SUM(F35,F37,F39) -> 27338397 | G34: =SUM(G35,G37,G39) -> 0 | H34: =SUM(H35,H37,H39) -> 0 | I34: =SUM(I35,I37,I39) -> 117881909 | J34: =SUM(J35,J37,J39) -> 145220306
B35: 国民健康保険事業 | C35: 事業名）国民健康保険特別会計繰出金 | D35: =SUM(J35) -> 25482268 | E35: 事業計 | F35: =SUM(F36) -> 14892948 | G35: =SUM(G36) -> 0 | H35: =SUM(H36) -> 0 | I35: =SUM(I36) -> 10589320 | J35: =SUM(J36) -> 25482268
E36: 国民健康保険特別会計繰出金 | F36: 14892948 | I36: =J36-SUM(F36,G36,H36) -> 10589320 | J36: 25482268 | K36: ←歳出決算額
B37: 介護保険事業 | C37: 事業名）介護保険特別会計繰出金 | D37: =SUM(J37) -> 48440782 | E37: 事業計 | F37: =SUM(F38) -> 3316800 | G37: =SUM(G38) -> 0 | H37: =SUM(H38) -> 0 | I37: =SUM(I38) -> 45123982 | J37: =SUM(J38) -> 48440782
E38: 介護保険特別会計繰出金 | F38: 3316800 | I38: =J38-SUM(F38,G38,H38) -> 45123982 | J38: 48440782 | K38: ←歳出決算額
B39: 後期高齢者医療事業 | C39: 事業名）後期高齢者医療療養給付費負担金 | D39: =SUM(J39) -> 71297256 | E39: 事業計 | F39: =SUM(F40:F41) -> 9128649 | G39: =SUM(G40:G41) -> 0 | H39: =SUM(H40:H41) -> 0 | I39: =SUM(I40:I41) -> 62168607 | J39: =SUM(J40:J41) -> 71297256
C40: 事業名）後期高齢者医療特別会計繰出金 | E40: 後期高齢者医療療養給付費負担金 | I40: =J40-SUM(F40,G40,H40) -> 55066724 | J40: 55066724 | K40: ←歳出決算額
E41: 後期高齢者医療特別会計繰出金 | F41: 9128649 | I41: =J41-SUM(F41,G41,H41) -> 7101883 | J41: 16230532 | K41: ←歳出決算額
A42: 保健衛生 | D42: =SUM(D43,D47,D50) -> 25007964 | E42: 区分計 | F42: =SUM(F43,F47,F50) -> 3186000 | G42: =SUM(G43,G47,G50) -> 3900000 | H42: =SUM(H43,H47,H50) -> 3767290 | I42: =SUM(I43,I47,I50) -> 14154674 | J42: =SUM(J43,J47,J50) -> 25007964
B43: 医療施策事業 | C43: 事業名）ひとり親家庭等医療費助成事業 | D43: =SUM(J43) -> 7839306 | E43: 事業計 | F43: =SUM(F44:F46) -> 1398000 | G43: =SUM(G44:G46) -> 3900000 | H43: =SUM(H44:H46) -> 0 | I43: =SUM(I44:I46) -> 2541306 | J43: =SUM(J44:J46) -> 7839306
C44: 事業名）子ども医療費助成事業 | E44: ひとり親家庭等医療費助成事業 | F44: 225000 | I44: =J44-SUM(F44,G44,H44) -> 324147 | J44: 549147 | K44: ←歳出決算額
C45: 事業名）未熟児養育医療費助成事業 | E45: 子ども医療費助成事業 | F45: 1173000 | G45: 3900000 | I45: =J45-SUM(F45,G45,H45) -> 2217159 | J45: 7290159 | K45: ←歳出決算額
E46: 未熟児養育医療費助成事業 | I46: =J46-SUM(F46,G46,H46) -> 0 | J46: 0 | K46: ←歳出決算額
B47: 疾病予防対策事業 | C47: 事業名）予防事業一般事務経費 | D47: =SUM(J47) -> 7074406 | E47: 事業計 | F47: =SUM(F48:F49) -> 5000 | G47: =SUM(G48:G49) -> 0 | H47: =SUM(H48:H49) -> 0 | I47: =SUM(I48:I49) -> 7069406 | J47: =SUM(J48:J49) -> 7074406
C48: 事業名）各種予防接種事業経費 | E48: 予防事業一般事務経費 | F48: 5000 | I48: =J48-SUM(F48,G48,H48) -> 299075 | J48: 304075 | K48: ←歳出決算額
E49: 各種予防接種事業経費 | I49: =J49-SUM(F49,G49,H49) -> 6770331 | J49: 6770331 | K49: ←歳出決算額
B50: 健康増進対策事業 | C50: 事業名）各種がん検診事業経費 | D50: =SUM(J50) -> 10094252 | E50: 事業計 | F50: =SUM(F51:F54) -> 1783000 | G50: =SUM(G51:G54) -> 0 | H50: =SUM(H51:H54) -> 3767290 | I50: =SUM(I51:I54) -> 4543962 | J50: =SUM(J51:J54) -> 10094252
C51: 事業名）乳幼児・母子の保健事業経費 | E51: 各種がん検診事業経費 | F51: 6000 | H51: 294760 | I51: =J51-SUM(F51,G51,H51) -> 1992474 | J51: 2293234 | K51: ←歳出決算額
C52: 事業名）特定健康診査・特定保健指導事業経費 | E52: 乳幼児・母子の保健事業経費 | F52: 474000 | I52: =J52-SUM(F52,G52,H52) -> 1533396 | J52: 2007396 | K52: ←歳出決算額
C53: 事業名）脳ドック検診事業経費 | E53: 特定健康診査・特定保健指導事業経費 | F53: 1303000 | H53: 3218065 | I53: =J53-SUM(F53,G53,H53) -> 922757 | J53: 5443822 | K53: ←歳出決算額
E54: 脳ドック検診事業経費 | H54: 254465 | I54: =J54-SUM(F54,G54,H54) -> 95335 | J54: 349800 | K54: ←歳出決算額
A55: － | B55: 合計 | C55: － | D55: =SUM(D5,D34,D42) -> 569894126 | E55: － | F55: =SUM(F5,F34,F42) -> 221481209 | G55: =SUM(G5,G34,G42) -> 11400000 | H55: =SUM(H5,H34,H42) -> 39465635 | I55: =SUM(I5,I34,I42) -> 297547282 | J55: =SUM(J5,J34,J42) -> 569894126
D56: =ROUND(D$55,-3)/1000 -> 569894 | F56: =ROUND(F$55,-3)/1000 -> 221481 | G56: =ROUND(G$55,-3)/1000 -> 11400 | H56: =ROUND(H$55,-3)/1000 -> 39466 | I56: =ROUND(I$55,-3)/1000 -> 297547

Sheet 以下参考⇒

Sheet R06決算
B1: 令和6年度一般会計決算における地方消費税交付金（社会保障財源化分）が充てられる社会保障施策に要する経費
B4: （歳入） | C4: 地方消費税交付金（社会保障財源化分） | I4: 41073
B6: （歳出） | C6: 地方消費税交付金（社会保障財源化分）が充てられる社会保障施策に要する経費 | I6: =ROUND('R06決算内訳'!D54,-3)/1000 -> 528639
B8: 【社会保障施策に要する経費】 | E8: =IF(E24=I6,"","☟調整必要") | F8: =IF(F27=F15+F19+F23,"","☟調整必要") | G8: =IF(G27=G15+G19+G23,"","☟調整必要") | H8: =IF(H27=H15+H19+H23,"","☟調整必要") | I8: =IF(I24=I4,"","☟調整必要") | J8: （単位：千円）
B9: 区分 | C9: 事業名 | E9: 令和6年度 決算額 | F9: 財源内訳
F10: 特定財源 | I10: 一般財源
F11: 国・道支出金 | G11: 地方債 | H11: その他 | I11: 地方消費税交付金 （社会保障財源化分） | J11: その他 | M11: 一般財源 総額 | N11: 一般財源 総額
B12: 社会福祉 | C12: 障害者福祉事業 | E12: =ROUND('R06決算内訳'!D5,-3)/1000 -> 191902 | F12: =ROUND('R06決算内訳'!F5,-3)/1000 -> 139588 | G12: =ROUND('R06決算内訳'!G5,-3)/1000 -> 0 | H12: =ROUND('R06決算内訳'!H5,-3)/1000 -> 416 | I12: =ROUND(I4/M24*M12,0) -> 7039 | J12: =E12-(F12+G12+H12+I12) -> 44859 | M12: =E12-(SUM(F12,G12,H12)) -> 51898 | N12: =I12+J12 -> 51898 | O12: =M12-N12 -> 0 | P12: =M12/M24*I24 -> 7039.1868
C13: 高齢者福祉事業 | E13: =ROUND('R06決算内訳'!D11,-3)/1000 -> 54776 | F13: =ROUND('R06決算内訳'!F11,-3)/1000 -> 151 | G13: =ROUND('R06決算内訳'!G11,-3)/1000 -> 1300 | H13: =ROUND('R06決算内訳'!H11,-3)/1000 -> 606 | I13: =ROUND(I4/M24*M13,0) -> 7151 | J13: =E13-(F13+G13+H13+I13) -> 45568 | M13: =E13-(SUM(F13,G13,H13)) -> 52719 | N13: =I13+J13 -> 52719 | O13: =M13-N13 -> 0 | P13: =M13/M24*I24 -> 7150.5432
C14: 児童福祉事業 | E14: =ROUND('R06決算内訳'!D24,-3)/1000 -> 121863 | F14: =ROUND('R06決算内訳'!F24,-3)/1000 -> 34689 | G14: =ROUND('R06決算内訳'!G24,-3)/1000 -> 0 | H14: =ROUND('R06決算内訳'!H24,-3)/1000 -> 10156 | I14: =ROUND(I4/M24*M14,0)-1 -> 10445 | J14: =E14-(F14+G14+H14+I14) -> 66573 | M14: =E14-(SUM(F14,G14,H14)) -> 77018 | N14: =I14+J14 -> 77018 | O14: =M14-N14 -> 0 | P14: =M14/M24*I24 -> 10446.339
C15: 小 計 | E15: =SUBTOTAL(9,E12:E14) -> 368541 | F15: =SUBTOTAL(9,F12:F14) -> 174428 | G15: =SUBTOTAL(9,G12:G14) -> 1300 | H15: =SUBTOTAL(9,H12:H14) -> 11178 | I15: =SUBTOTAL(9,I12:I14) -> 24635 | J15: =SUBTOTAL(9,J12:J14) -> 157000 | M15: =E15-(SUM(F15,G15,H15)) -> 181635 | N15: =I15+J15 -> 181635 | O15: =M15-N15 -> 0 | P15: =M15/M24*I24 -> 24636.069
B16: 社会保険 | C16: 国民健康保険事業 | E16: =ROUND('R06決算内訳'!D34,-3)/1000 -> 26262 | F16: =ROUND('R06決算内訳'!F34,-3)/1000 -> 14395 | G16: =ROUND('R06決算内訳'!G34,-3)/1000 -> 0 | H16: =ROUND('R06決算内訳'!H34,-3)/1000 -> 0 | I16: =ROUND(I4/M24*M16,0) -> 1610 | J16: =E16-(F16+G16+H16+I16) -> 10257 | M16: =E16-(SUM(F16,G16,H16)) -> 11867 | N16: =I16+J16 -> 11867 | O16: =M16-N16 -> 0 | P16: =M16/M24*I24 -> 1609.5809
C17: 介護保険事業 | E17: =ROUND('R06決算内訳'!D36,-3)/1000-1 -> 52493 | F17: =ROUND('R06決算内訳'!F36,-3)/1000 -> 3600 | G17: =ROUND('R06決算内訳'!G36,-3)/1000 -> 0 | H17: =ROUND('R06決算内訳'!H36,-3)/1000 -> 0 | I17: =ROUND(I4/M24*M17,0) -> 6632 | J17: =E17-(F17+G17+H17+I17) -> 42261 | M17: =E17-(SUM(F17,G17,H17)) -> 48893 | N17: =I17+J17 -> 48893 | O17: =M17-N17 -> 0 | P17: =M17/M24*I24 -> 6631.6036
C18: 後期高齢者医療事業 | E18: =ROUND('R06決算内訳'!D38,-3)/1000 -> 56175 | F18: =ROUND('R06決算内訳'!F38,-3)/1000 -> 9581 | G18: =ROUND('R06決算内訳'!G38,-3)/1000 -> 0 | H18: =ROUND('R06決算内訳'!H38,-3)/1000 -> 0 | I18: =ROUND(I4/M24*M18,0) -> 6320 | J18: =E18-(F18+G18+H18+I18) -> 40274 | M18: =E18-(SUM(F18,G18,H18)) -> 46594 | N18: =I18+J18 -> 46594 | O18: =M18-N18 -> 0 | P18: =M18/M24*I24 -> 6319.7786
C19: 小 計 | E19: =SUBTOTAL(9,E16:E18) -> 134930 | F19: =SUBTOTAL(9,F16:F18) -> 27576 | G19: =SUBTOTAL(9,G16:G18) -> 0 | H19: =SUBTOTAL(9,H16:H18) -> 0 | I19: =SUBTOTAL(9,I16:I18) -> 14562 | J19: =SUBTOTAL(9,J16:J18) -> 92792 | M19: =E19-(SUM(F19,G19,H19)) -> 107354 | N19: =I19+J19 -> 107354 | O19: =M19-N19 -> 0 | P19: =M19/M24*I24 -> 14560.963
B20: 保健衛生 | C20: 医療施策事業 | E20: =ROUND('R06決算内訳'!D42,-3)/1000 -> 8416 | F20: =ROUND('R06決算内訳'!F42,-3)/1000 -> 1656 | G20: =ROUND('R06決算内訳'!G42,-3)/1000 -> 3900 | H20: =ROUND('R06決算内訳'!H42,-3)/1000 -> 88 | I20: =ROUND(I4/M24*M20,0) -> 376 | J20: =E20-(F20+G20+H20+I20) -> 2396 | M20: =E20-(SUM(F20,G20,H20)) -> 2772 | N20: =I20+J20 -> 2772 | O20: =M20-N20 -> 0 | P20: =M20/M24*I24 -> 375.98031
C21: 疾病予防対策事業 | E21: =ROUND('R06決算内訳'!D46,-3)/1000 -> 7628 | F21: =ROUND('R06決算内訳'!F46,-3)/1000 -> 41 | G21: =ROUND('R06決算内訳'!G46,-3)/1000 -> 0 | H21: =ROUND('R06決算内訳'!H46,-3)/1000 -> 1349 | I21: =ROUND(I4/M24*M21,0) -> 846 | J21: =E21-(F21+G21+H21+I21) -> 5392 | M21: =E21-(SUM(F21,G21,H21)) -> 6238 | N21: =I21+J21 -> 6238 | O21: =M21-N21 -> 0 | P21: =M21/M24*I24 -> 846.09132
C22: 健康増進対策事業 | E22: =ROUND('R06決算内訳'!D49,-3)/1000 -> 9124 | F22: =ROUND('R06決算内訳'!F49,-3)/1000 -> 699 | G22: =ROUND('R06決算内訳'!G49,-3)/1000 -> 0 | H22: =ROUND('R06決算内訳'!H49,-3)/1000 -> 3604 | I22: =ROUND(I4/M24*M22,0) -> 654 | J22: =E22-(F22+G22+H22+I22) -> 4167 | M22: =E22-(SUM(F22,G22,H22)) -> 4821 | N22: =I22+J22 -> 4821 | O22: =M22-N22 -> 0 | P22: =M22/M24*I24 -> 653.89648
C23: 小 計 | E23: =SUBTOTAL(9,E20:E22) -> 25168 | F23: =SUBTOTAL(9,F20:F22) -> 2396 | G23: =SUBTOTAL(9,G20:G22) -> 3900 | H23: =SUBTOTAL(9,H20:H22) -> 5041 | I23: =SUBTOTAL(9,I20:I22) -> 1876 | J23: =SUBTOTAL(9,J20:J22) -> 11955 | M23: =E23-(SUM(F23,G23,H23)) -> 13831 | N23: =I23+J23 -> 13831 | O23: =M23-N23 -> 0 | P23: =M23/M24*I24 -> 1875.9681
B24: 合 計 | E24: =SUBTOTAL(9,E12:E23) -> 528639 | F24: =SUBTOTAL(9,F12:F23) -> 204400 | G24: =SUBTOTAL(9,G12:G23) -> 5200 | H24: =SUBTOTAL(9,H12:H23) -> 16219 | I24: =SUBTOTAL(9,I12:I23) -> 41073 | J24: =SUBTOTAL(9,J12:J23) -> 261747 | M24: =E24-(SUM(F24,G24,H24)) -> 302820 | N24: =I24+J24 -> 302820 | O24: =M24-N24 -> 0 | P24: =M24/M24*I24 -> 41073
B25: ※地方消費税交付金（社会保障財源化分）は、各事業に要する一般財源の比率に応じて按分して充当しています。
F27: =ROUND('R06決算内訳'!F54,-3)/1000 -> 204400 | G27: =ROUND('R06決算内訳'!G54,-3)/1000 -> 5200 | H27: =ROUND('R06決算内訳'!H54,-3)/1000 -> 16219

Sheet R06決算内訳
A1: 令和6年度一般会計決算における地方消費税交付金（社会保障財源化分）が充てられる社会保障施策に要する経費
J2: （単位：円）
A3: 区分 | B3: 事業名 | C3: 対象（款項又は事業） | D3: 決算額 | E3: 事業名 | F3: 国・道支出金 | G3: 地方債 | H3: その他 | I3: 一般財源 | J3: 計
A4: 社会福祉 | D4: =SUM(D5,D11,D24) -> 368540784 | E4: 区分計 | F4: =SUM(F5,F11,F24) -> 174428023 | G4: =SUM(G5,G11,G24) -> 1300000 | H4: =SUM(H5,H11,H24) -> 11177974 | I4: =SUM(I5,I11,I24) -> 181634787 | J4: =SUM(J5,J11,J24) -> 368540784
B5: 障害者福祉事業 | C5: 款）民生費 項）心身障害者福祉費 | D5: =SUM(J5) -> 191902329 | E5: 事業計 | F5: =SUM(F6:F10) -> 139587657 | G5: =SUM(G6:G10) -> 0 | H5: =SUM(H6:H10) -> 416030 | I5: =SUM(I6:I10) -> 51898642 | J5: =SUM(J6:J10) -> 191902329
E6: 重度心身障害者医療費助成事業 | F6: 1810000 | H6: 416030 | I6: =J6-SUM(F6,G6,H6) -> 1839919 | J6: 4065949
E7: 身体障害児支援費事業 | I7: =J7-SUM(F7,G7,H7) -> 0 | J7: 0
E8: 障害者自立支援給付等事業 | F8: 136039778 | I8: =J8-SUM(F8,G8,H8) -> 42703591 | J8: 178743369
E9: 障害者自立支援医療給付事業 | F9: 609879 | I9: =J9-SUM(F9,G9,H9) -> 4132 | J9: 614011
E10: 地域生活支援事業 | F10: 1128000 | I10: =J10-SUM(F10,G10,H10) -> 7351000 | J10: 8479000
B11: 高齢者福祉事業 | C11: 款）民生費 項）老人福祉費 | D11: =SUM(J11) -> 54775609 | E11: 事業計 | F11: =SUM(F12:F23) -> 150993 | G11: =SUM(G12:G23) -> 1300000 | H11: =SUM(H12:H23) -> 605714 | I11: =SUM(I12:I23) -> 52718902 | J11: =SUM(J12:J23) -> 54775609
E12: 生活支援ハウス運営委託事業 | H12: 353300 | I12: =J12-SUM(F12,G12,H12) -> 18007551 | J12: 18360851
E13: 在宅高齢者短期入所委託事業 | H13: 44619 | I13: =J13-SUM(F13,G13,H13) -> 401571 | J13: 446190
E14: 介護予防通所委託事業 | H14: 157605 | I14: =J14-SUM(F14,G14,H14) -> 23518395 | J14: 23676000
E15: 介護予防家事援助委託事業 | H15: 32940 | I15: =J15-SUM(F15,G15,H15) -> 9067470 | J15: 9100410
E16: 高齢者在宅生活支援事業 | I16: =J16-SUM(F16,G16,H16) -> 626574 | J16: 626574
E17: 緊急通報システム管理委託事業 | H17: 17250 | I17: =J17-SUM(F17,G17,H17) -> 173710 | J17: 190960
E18: 老人福祉一般事務経費 | I18: =J18-SUM(F18,G18,H18) -> 48000 | J18: 48000
E19: 長寿祝金支給事業 | I19: =J19-SUM(F19,G19,H19) -> 210624 | J19: 210624
E20: 老人クラブ活動事業 | F20: 150993 | I20: =J20-SUM(F20,G20,H20) -> 579007 | J20: 730000
E21: 介護サービス利用者負担軽減事業 | I21: =J21-SUM(F21,G21,H21) -> 0 | J21: 0
E22: 路線バス無料化事業 | G22: 1300000 | I22: =J22-SUM(F22,G22,H22) -> 86000 | J22: 1386000
E23: 老人福祉施設入所措置事業 | I23: =J23-SUM(F23,G23,H23) -> 0 | J23: 0
B24: 児童福祉事業 | C24: 款）民生費 項）児童福祉費 | D24: =SUM(J24) -> 121862846 | E24: 事業計 | F24: =SUM(F25:F32) -> 34689373 | G24: =SUM(G25:G32) -> 0 | H24: =SUM(H25:H32) -> 10156230 | I24: =SUM(I25:I32) -> 77017243 | J24: =SUM(J25:J32) -> 121862846
E25: 児童手当事業 | F25: 21343500 | I25: =J25-SUM(F25,G25,H25) -> 7710680 | J25: 29054180
E26: 子育て応援祝金事業 | I26: =J26-SUM(F26,G26,H26) -> 2803348 | J26: 2803348
E27: 結婚新生活支援事業 | F27: 150000 | I27: =J27-SUM(F27,G27,H27) -> 559400 | J27: 709400
E28: 出産・子育て応援給付金事業 | F28: 391000 | I28: =J28-SUM(F28,G28,H28) -> 309000 | J28: 700000
E29: 保育及び子育て環境整備事業 | F29: 8193873 | H29: 10156230 | I29: =J29-SUM(F29,G29,H29) -> 61328089 | J29: 79678192
E30: そうべつ児童クラブ運営事業 | F30: 4611000 | I30: =J30-SUM(F30,G30,H30) -> 4095661 | J30: 8706661
E31: 保育ＩＣＴシステム導入事業 | I31: =J31-SUM(F31,G31,H31) -> 0 | J31: 0
E32: 公用車運行管理経費 | I32: =J32-SUM(F32,G32,H32) -> 211065 | J32: 211065
A33: 社会保険 | D33: =SUM(D34,D36,D38) -> 134930600 | E33: 区分計 | F33: =SUM(F34,F36,F38) -> 27576476 | G33: =SUM(G34,G36,G38) -> 0 | H33: =SUM(H34,H36,H38) -> 0 | I33: =SUM(I34,I36,I38) -> 107354124 | J33: =SUM(J34,J36,J38) -> 134930600
B34: 国民健康保険事業 | C34: 事業名）国民健康保険特別会計繰出金 | D34: =SUM(J34) -> 26261578 | E34: 事業計 | F34: =SUM(F35) -> 14395292 | G34: =SUM(G35) -> 0 | H34: =SUM(H35) -> 0 | I34: =SUM(I35) -> 11866286 | J34: =SUM(J35) -> 26261578
E35: 国民健康保険特別会計繰出金 | F35: 14395292 | I35: =J35-SUM(F35,G35,H35) -> 11866286 | J35: 26261578
B36: 介護保険事業 | C36: 事業名）介護保険特別会計繰出金 | D36: =SUM(J36) -> 52493559 | E36: 事業計 | F36: =SUM(F37) -> 3599775 | G36: =SUM(G37) -> 0 | H36: =SUM(H37) -> 0 | I36: =SUM(I37) -> 48893784 | J36: =SUM(J37) -> 52493559
E37: 介護保険特別会計繰出金 | F37: 3599775 | I37: =J37-SUM(F37,G37,H37) -> 48893784 | J37: 52493559
B38: 後期高齢者医療事業 | C38: 事業名）後期高齢者医療療養給付費負担金 | D38: =SUM(J38) -> 56175463 | E38: 事業計 | F38: =SUM(F39:F40) -> 9581409 | G38: =SUM(G39:G40) -> 0 | H38: =SUM(H39:H40) -> 0 | I38: =SUM(I39:I40) -> 46594054 | J38: =SUM(J39:J40) -> 56175463
C39: 事業名）後期高齢者医療特別会計繰出金 | E39: 後期高齢者医療療養給付費負担金 | I39: =J39-SUM(F39,G39,H39) -> 39875250 | J39: 39875250
E40: 後期高齢者医療特別会計繰出金 | F40: 9581409 | I40: =J40-SUM(F40,G40,H40) -> 6718804 | J40: 16300213
A41: 保健衛生 | D41: =SUM(D42,D46,D49) -> 25168104 | E41: 区分計 | F41: =SUM(F42,F46,F49) -> 2395811 | G41: =SUM(G42,G46,G49) -> 3900000 | H41: =SUM(H42,H46,H49) -> 5040770 | I41: =SUM(I42,I46,I49) -> 13831523 | J41: =SUM(J42,J46,J49) -> 25168104
B42: 医療施策事業 | C42: 事業名）ひとり親家庭等医療費助成事業 | D42: =SUM(J42) -> 8416018 | E42: 事業計 | F42: =SUM(F43:F45) -> 1655811 | G42: =SUM(G43:G45) -> 3900000 | H42: =SUM(H43:H45) -> 87960 | I42: =SUM(I43:I45) -> 2772247 | J42: =SUM(J43:J45) -> 8416018
C43: 事業名）子ども医療費助成事業 | E43: ひとり親家庭等医療費助成事業 | F43: 219000 | I43: =J43-SUM(F43,G43,H43) -> 298137 | J43: 517137
C44: 事業名）未熟児養育医療費助成事業 | E44: 子ども医療費助成事業 | F44: 1289000 | G44: 3900000 | I44: =J44-SUM(F44,G44,H44) -> 2424721 | J44: 7613721
E45: 未熟児養育医療費助成事業 | F45: 147811 | H45: 87960 | I45: =J45-SUM(F45,G45,H45) -> 49389 | J45: 285160
B46: 疾病予防対策事業 | C46: 事業名）予防事業一般事務経費 | D46: =SUM(J46) -> 7628237 | E46: 事業計 | F46: =SUM(F47:F48) -> 41000 | G46: =SUM(G47:G48) -> 0 | H46: =SUM(H47:H48) -> 1348750 | I46: =SUM(I47:I48) -> 6238487 | J46: =SUM(J47:J48) -> 7628237
C47: 事業名）各種予防接種事業経費 | E47: 予防事業一般事務経費 | I47: =J47-SUM(F47,G47,H47) -> 152158 | J47: 152158
E48: 各種予防接種事業経費 | F48: 41000 | H48: 1348750 | I48: =J48-SUM(F48,G48,H48) -> 6086329 | J48: 7476079
B49: 健康増進対策事業 | C49: 事業名）各種がん検診事業経費 | D49: =SUM(J49) -> 9123849 | E49: 事業計 | F49: =SUM(F50:F53) -> 699000 | G49: =SUM(G50:G53) -> 0 | H49: =SUM(H50:H53) -> 3604060 | I49: =SUM(I50:I53) -> 4820789 | J49: =SUM(J50:J53) -> 9123849
C50: 事業名）乳幼児・母子の保健事業経費 | E50: 各種がん検診事業経費 | F50: 5000 | H50: 339160 | I50: =J50-SUM(F50,G50,H50) -> 1913381 | J50: 2257541
C51: 事業名）特定健康診査・特定保健指導事業経費 | E51: 乳幼児・母子の保健事業経費 | F51: 332000 | I51: =J51-SUM(F51,G51,H51) -> 1028979 | J51: 1360979
C52: 事業名）脳ドック検診事業経費 | E52: 特定健康診査・特定保健指導事業経費 | F52: 362000 | H52: 2913392 | I52: =J52-SUM(F52,G52,H52) -> 1434937 | J52: 4710329
E53: 脳ドック検診事業経費 | H53: 351508 | I53: =J53-SUM(F53,G53,H53) -> 443492 | J53: 795000
A54: 総計 | D54: =SUM(D4,D33,D41) -> 528639488 | F54: =SUM(F4,F33,F41) -> 204400310 | G54: =SUM(G4,G33,G41) -> 5200000 | H54: =SUM(H4,H33,H41) -> 16218744 | I54: =SUM(I4,I33,I41) -> 302820434 | J54: =SUM(J4,J33,J41) -> 528639488

Sheet R05決算
B1: 令和5年度一般会計決算における地方消費税交付金（社会保障財源化分）が充てられる社会保障施策に要する経費
B4: （歳入） | C4: 地方消費税交付金（社会保障財源化分） | I4: 40075
B6: （歳出） | C6: 地方消費税交付金（社会保障財源化分）が充てられる社会保障施策に要する経費 | I6: =ROUND('R05決算内訳'!D54,-3)/1000 -> 531423
B8: 【社会保障施策に要する経費】 | E8: =IF(E24=I6,"","☟調整必要") | F8: =IF(F27=F15+F19+F23,"","☟調整必要") | G8: =IF(G27=G15+G19+G23,"","☟調整必要") | H8: =IF(H27=H15+H19+H23,"","☟調整必要") | I8: =IF(I24=I4,"","☟調整必要") | J8: （単位：千円）
B9: 区分 | C9: 事業名 | E9: 令和5年度 決算額 | F9: 財源内訳
F10: 特定財源 | I10: 一般財源
F11: 国・道支出金 | G11: 地方債 | H11: その他 | I11: 地方消費税交付金 （社会保障財源化分） | J11: その他 | M11: 一般財源 総額 | N11: 一般財源 総額
B12: 社会福祉 | C12: 障害者福祉事業 | E12: =ROUND('R05決算内訳'!D5,-3)/1000 -> 192590 | F12: =ROUND('R05決算内訳'!F5,-3)/1000 -> 142688 | G12: =ROUND('R05決算内訳'!G5,-3)/1000 -> 0 | H12: =ROUND('R05決算内訳'!H5,-3)/1000+1 -> 510 | I12: =ROUND(I4/M24*M12,0) -> 6728 | J12: =E12-(F12+G12+H12+I12) -> 42664 | M12: =E12-(SUM(F12,G12,H12)) -> 49392 | N12: =I12+J12 -> 49392 | O12: =M12-N12 -> 0 | P12: =M12/M24*I24 -> 6728.0917
C13: 高齢者福祉事業 | E13: =ROUND('R05決算内訳'!D11,-3)/1000 -> 47832 | F13: =ROUND('R05決算内訳'!F11,-3)/1000 -> 146 | G13: =ROUND('R05決算内訳'!G11,-3)/1000 -> 1500 | H13: =ROUND('R05決算内訳'!H11,-3)/1000 -> 1070 | I13: =ROUND(I4/M24*M13,0) -> 6146 | J13: =E13-(F13+G13+H13+I13) -> 38970 | M13: =E13-(SUM(F13,G13,H13)) -> 45116 | N13: =I13+J13 -> 45116 | O13: =M13-N13 -> 0 | P13: =M13/M24*I24 -> 6145.6225
C14: 児童福祉事業 | E14: =ROUND('R05決算内訳'!D24,-3)/1000 -> 112640 | F14: =ROUND('R05決算内訳'!F24,-3)/1000 -> 35071 | G14: =ROUND('R05決算内訳'!G24,-3)/1000 -> 0 | H14: =ROUND('R05決算内訳'!H24,-3)/1000 -> 15555 | I14: =ROUND(I4/M24*M14,0) -> 8447 | J14: =E14-(F14+G14+H14+I14) -> 53567 | M14: =E14-(SUM(F14,G14,H14)) -> 62014 | N14: =I14+J14 -> 62014 | O14: =M14-N14 -> 0 | P14: =M14/M24*I24 -> 8447.4385
C15: 小 計 | E15: =SUBTOTAL(9,E12:E14) -> 353062 | F15: =SUBTOTAL(9,F12:F14) -> 177905 | G15: =SUBTOTAL(9,G12:G14) -> 1500 | H15: =SUBTOTAL(9,H12:H14) -> 17135 | I15: =SUBTOTAL(9,I12:I14) -> 21321 | J15: =SUBTOTAL(9,J12:J14) -> 135201 | M15: =E15-(SUM(F15,G15,H15)) -> 156522 | N15: =I15+J15 -> 156522 | O15: =M15-N15 -> 0 | P15: =M15/M24*I24 -> 21321.153
B16: 社会保険 | C16: 国民健康保険事業 | E16: =ROUND('R05決算内訳'!D34,-3)/1000 -> 26604 | F16: =ROUND('R05決算内訳'!F34,-3)/1000 -> 14873 | G16: =ROUND('R05決算内訳'!G34,-3)/1000 -> 0 | H16: =ROUND('R05決算内訳'!H34,-3)/1000 -> 0 | I16: =ROUND(I4/M24*M16,0) -> 1598 | J16: =E16-(F16+G16+H16+I16) -> 10133 | M16: =E16-(SUM(F16,G16,H16)) -> 11731 | N16: =I16+J16 -> 11731 | O16: =M16-N16 -> 0 | P16: =M16/M24*I24 -> 1597.9763
C17: 介護保険事業 | E17: =ROUND('R05決算内訳'!D36,-3)/1000 -> 55839 | F17: =ROUND('R05決算内訳'!F36,-3)/1000 -> 4716 | G17: =ROUND('R05決算内訳'!G36,-3)/1000 -> 0 | H17: =ROUND('R05決算内訳'!H36,-3)/1000 -> 0 | I17: =ROUND(I4/M24*M17,0) -> 6964 | J17: =E17-(F17+G17+H17+I17) -> 44159 | M17: =E17-(SUM(F17,G17,H17)) -> 51123 | N17: =I17+J17 -> 51123 | O17: =M17-N17 -> 0 | P17: =M17/M24*I24 -> 6963.8855
C18: 後期高齢者医療事業 | E18: =ROUND('R05決算内訳'!D38,-3)/1000 -> 69770 | F18: =ROUND('R05決算内訳'!F38,-3)/1000 -> 10025 | G18: =ROUND('R05決算内訳'!G38,-3)/1000 -> 0 | H18: =ROUND('R05決算内訳'!H38,-3)/1000 -> 0 | I18: =ROUND(I4/M24*M18,0) -> 8138 | J18: =E18-(F18+G18+H18+I18) -> 51607 | M18: =E18-(SUM(F18,G18,H18)) -> 59745 | N18: =I18+J18 -> 59745 | O18: =M18-N18 -> 0 | P18: =M18/M24*I24 -> 8138.3592
C19: 小 計 | E19: =SUBTOTAL(9,E16:E18) -> 152213 | F19: =SUBTOTAL(9,F16:F18) -> 29614 | G19: =SUBTOTAL(9,G16:G18) -> 0 | H19: =SUBTOTAL(9,H16:H18) -> 0 | I19: =SUBTOTAL(9,I16:I18) -> 16700 | J19: =SUBTOTAL(9,J16:J18) -> 105899 | M19: =E19-(SUM(F19,G19,H19)) -> 122599 | N19: =I19+J19 -> 122599 | O19: =M19-N19 -> 0 | P19: =M19/M24*I24 -> 16700.221
B20: 保健衛生 | C20: 医療施策事業 | E20: =ROUND('R05決算内訳'!D42,-3)/1000 -> 10162 | F20: =ROUND('R05決算内訳'!F42,-3)/1000 -> 1932 | G20: =ROUND('R05決算内訳'!G42,-3)/1000 -> 4500 | H20: =ROUND('R05決算内訳'!H42,-3)/1000 -> 0 | I20: =ROUND(I4/M24*M20,0) -> 508 | J20: =E20-(F20+G20+H20+I20) -> 3222 | M20: =E20-(SUM(F20,G20,H20)) -> 3730 | N20: =I20+J20 -> 3730 | O20: =M20-N20 -> 0 | P20: =M20/M24*I24 -> 508.09407
C21: 疾病予防対策事業 | E21: =ROUND('R05決算内訳'!D46,-3)/1000 -> 6347 | F21: =ROUND('R05決算内訳'!F46,-3)/1000 -> 88 | G21: =ROUND('R05決算内訳'!G46,-3)/1000 -> 0 | H21: =ROUND('R05決算内訳'!H46,-3)/1000 -> 0 | I21: =ROUND(I4/M24*M21,0) -> 853 | J21: =E21-(F21+G21+H21+I21) -> 5406 | M21: =E21-(SUM(F21,G21,H21)) -> 6259 | N21: =I21+J21 -> 6259 | O21: =M21-N21 -> 0 | P21: =M21/M24*I24 -> 852.59002
C22: 健康増進対策事業 | E22: =ROUND('R05決算内訳'!D49,-3)/1000 -> 9639 | F22: =ROUND('R05決算内訳'!F49,-3)/1000 -> 876 | G22: =ROUND('R05決算内訳'!G49,-3)/1000 -> 0 | H22: =ROUND('R05決算内訳'!H49,-3)/1000+1 -> 3676 | I22: =ROUND(I4/M24*M22,0) -> 693 | J22: =E22-(F22+G22+H22+I22) -> 4394 | M22: =E22-(SUM(F22,G22,H22)) -> 5087 | N22: =I22+J22 -> 5087 | O22: =M22-N22 -> 0 | P22: =M22/M24*I24 -> 692.94223
C23: 小 計 | E23: =SUBTOTAL(9,E20:E22) -> 26148 | F23: =SUBTOTAL(9,F20:F22) -> 2896 | G23: =SUBTOTAL(9,G20:G22) -> 4500 | H23: =SUBTOTAL(9,H20:H22) -> 3676 | I23: =SUBTOTAL(9,I20:I22) -> 2054 | J23: =SUBTOTAL(9,J20:J22) -> 13022 | M23: =E23-(SUM(F23,G23,H23)) -> 15076 | N23: =I23+J23 -> 15076 | O23: =M23-N23 -> 0 | P23: =M23/M24*I24 -> 2053.6263
B24: 合 計 | E24: =SUBTOTAL(9,E12:E23) -> 531423 | F24: =SUBTOTAL(9,F12:F23) -> 210415 | G24: =SUBTOTAL(9,G12:G23) -> 6000 | H24: =SUBTOTAL(9,H12:H23) -> 20811 | I24: =SUBTOTAL(9,I12:I23) -> 40075 | J24: =SUBTOTAL(9,J12:J23) -> 254122 | M24: =E24-(SUM(F24,G24,H24)) -> 294197 | N24: =I24+J24 -> 294197 | O24: =M24-N24 -> 0 | P24: =M24/M24*I24 -> 40075
B25: ※地方消費税交付金（社会保障財源化分）は、各事業に要する一般財源の比率に応じて按分して充当しています。
F27: =ROUND('R05決算内訳'!F54,-3)/1000 -> 210415 | G27: =ROUND('R05決算内訳'!G54,-3)/1000 -> 6000 | H27: =ROUND('R05決算内訳'!H54,-3)/1000 -> 20811

Sheet R05決算内訳
A1: 令和5年度一般会計決算における地方消費税交付金（社会保障財源化分）が充てられる社会保障施策に要する経費
J2: （単位：円）
A3: 区分 | B3: 事業名 | C3: 対象（款項又は事業） | D3: 決算額 | E3: 事業名 | F3: 国・道支出金 | G3: 地方債 | H3: その他 | I3: 一般財源 | J3: 計
A4: 社会福祉 | D4: =SUM(D5,D11,D24) -> 353062163 | E4: 区分計 | F4: =SUM(F5,F11,F24) -> 177905649 | G4: =SUM(G5,G11,G24) -> 1500000 | H4: =SUM(H5,H11,H24) -> 17135114 | I4: =SUM(I5,I11,I24) -> 156521400 | J4: =SUM(J5,J11,J24) -> 353062163
B5: 障害者福祉事業 | C5: 款）民生費 項）心身障害者福祉費 | D5: =SUM(J5) -> 192589571 | E5: 事業計 | F5: =SUM(F6:F10) -> 142688000 | G5: =SUM(G6:G10) -> 0 | H5: =SUM(H6:H10) -> 509495 | I5: =SUM(I6:I10) -> 49392076 | J5: =SUM(J6:J10) -> 192589571
E6: 重度心身障害者医療費助成事業 | F6: 2072000 | H6: 509495 | I6: =J6-SUM(F6,G6,H6) -> 2409307 | J6: 4990802
E7: 身体障害児支援費事業 | I7: =J7-SUM(F7,G7,H7) -> 72550 | J7: 72550
E8: 障害者自立支援給付等事業 | F8: 138642000 | I8: =J8-SUM(F8,G8,H8) -> 39678421 | J8: 178320421
E9: 障害者自立支援医療給付事業 | F9: 760000 | I9: =J9-SUM(F9,G9,H9) -> 4898 | J9: 764898
E10: 地域生活支援事業 | F10: 1214000 | I10: =J10-SUM(F10,G10,H10) -> 7226900 | J10: 8440900
B11: 高齢者福祉事業 | C11: 款）民生費 項）老人福祉費 | D11: =SUM(J11) -> 47832418 | E11: 事業計 | F11: =SUM(F12:F23) -> 146380 | G11: =SUM(G12:G23) -> 1500000 | H11: =SUM(H12:H23) -> 1070319 | I11: =SUM(I12:I23) -> 45115719 | J11: =SUM(J12:J23) -> 47832418
E12: 生活支援ハウス運営委託事業 | H12: 864148 | I12: =J12-SUM(F12,G12,H12) -> 16426444 | J12: 17290592
E13: 在宅高齢者短期入所委託事業 | H13: 28953 | I13: =J13-SUM(F13,G13,H13) -> 410027 | J13: 438980
E14: 介護予防通所委託事業 | H14: 127770 | I14: =J14-SUM(F14,G14,H14) -> 19055230 | J14: 19183000
E15: 介護予防家事援助委託事業 | H15: 22448 | I15: =J15-SUM(F15,G15,H15) -> 7327552 | J15: 7350000
E16: 高齢者在宅生活支援事業 | I16: =J16-SUM(F16,G16,H16) -> 577332 | J16: 577332
E17: 緊急通報システム管理委託事業 | G17: 200000 | H17: 27000 | I17: =J17-SUM(F17,G17,H17) -> 69582 | J17: 296582
E18: 老人福祉一般事務経費 | I18: =J18-SUM(F18,G18,H18) -> 8000 | J18: 8000
E19: 長寿祝金支給事業 | I19: =J19-SUM(F19,G19,H19) -> 571932 | J19: 571932
E20: 老人クラブ活動事業 | F20: 146380 | I20: =J20-SUM(F20,G20,H20) -> 583620 | J20: 730000
E21: 介護サービス利用者負担軽減事業 | I21: =J21-SUM(F21,G21,H21) -> 0 | J21: 0
E22: 路線バス無料化事業 | G22: 1300000 | I22: =J22-SUM(F22,G22,H22) -> 86000 | J22: 1386000
E23: 老人福祉施設入所措置事業 | I23: =J23-SUM(F23,G23,H23) -> 0 | J23: 0
B24: 児童福祉事業 | C24: 款）民生費 項）児童福祉費 | D24: =SUM(J24) -> 112640174 | E24: 事業計 | F24: =SUM(F25:F32) -> 35071269 | G24: =SUM(G25:G32) -> 0 | H24: =SUM(H25:H32) -> 15555300 | I24: =SUM(I25:I32) -> 62013605 | J24: =SUM(J25:J32) -> 112640174
E25: 児童手当事業 | F25: 21594330 | I25: =J25-SUM(F25,G25,H25) -> 3992168 | J25: 25586498
E26: 子育て応援祝金事業 | I26: =J26-SUM(F26,G26,H26) -> 3459626 | J26: 3459626
E27: 保育及び子育て環境整備事業 | F27: 8203939 | H27: 15555300 | I27: =J27-SUM(F27,G27,H27) -> 50538066 | J27: 74297305
E28: 出産・子育て応援給付金事業 | F28: 824000 | I28: =J28-SUM(F28,G28,H28) -> 168898 | J28: 992898
E29: そうべつ児童クラブ運営事業 | F29: 3958000 | I29: =J29-SUM(F29,G29,H29) -> 3301777 | J29: 7259777
E30: 結婚新生活支援事業（新規） | F30: 51000 | I30: =J30-SUM(F30,G30,H30) -> 111600 | J30: 162600
E31: 保育ＩＣＴシステム導入事業（新規） | F31: 440000 | I31: =J31-SUM(F31,G31,H31) -> 293829 | J31: 733829
E32: 公用車運行管理経費 | I32: =J32-SUM(F32,G32,H32) -> 147641 | J32: 147641
A33: 社会保険 | D33: =SUM(D34,D36,D38) -> 152212724 | E33: 区分計 | F33: =SUM(F34,F36,F38) -> 29613431 | G33: =SUM(G34,G36,G38) -> 0 | H33: =SUM(H34,H36,H38) -> 0 | I33: =SUM(I34,I36,I38) -> 122599293 | J33: =SUM(J34,J36,J38) -> 152212724
B34: 国民健康保険事業 | C34: 事業名）国民健康保険特別会計繰出金 | D34: =SUM(J34) -> 26604127 | E34: 事業計 | F34: =SUM(F35) -> 14873149 | G34: =SUM(G35) -> 0 | H34: =SUM(H35) -> 0 | I34: =SUM(I35) -> 11730978 | J34: =SUM(J35) -> 26604127
E35: 国民健康保険特別会計繰出金 | F35: 14873149 | I35: =J35-SUM(F35,G35,H35) -> 11730978 | J35: 26604127
B36: 介護保険事業 | C36: 事業名）介護保険特別会計繰出金 | D36: =SUM(J36) -> 55839005 | E36: 事業計 | F36: =SUM(F37) -> 4715575 | G36: =SUM(G37) -> 0 | H36: =SUM(H37) -> 0 | I36: =SUM(I37) -> 51123430 | J36: =SUM(J37) -> 55839005
E37: 介護保険特別会計繰出金 | F37: 4715575 | I37: =J37-SUM(F37,G37,H37) -> 51123430 | J37: 55839005
B38: 後期高齢者医療事業 | C38: 事業名）後期高齢者医療療養給付費負担金 | D38: =SUM(J38) -> 69769592 | E38: 事業計 | F38: =SUM(F39:F40) -> 10024707 | G38: =SUM(G39:G40) -> 0 | H38: =SUM(H39:H40) -> 0 | I38: =SUM(I39:I40) -> 59744885 | J38: =SUM(J39:J40) -> 69769592
C39: 事業名）後期高齢者医療特別会計繰出金 | E39: 後期高齢者医療療養給付費負担金 | I39: =J39-SUM(F39,G39,H39) -> 53736315 | J39: 53736315
E40: 後期高齢者医療特別会計繰出金 | F40: 10024707 | I40: =J40-SUM(F40,G40,H40) -> 6008570 | J40: 16033277
A41: 保健衛生 | D41: =SUM(D42,D46,D49) -> 26148306 | E41: 区分計 | F41: =SUM(F42,F46,F49) -> 2896000 | G41: =SUM(G42,G46,G49) -> 4500000 | H41: =SUM(H42,H46,H49) -> 3675499 | I41: =SUM(I42,I46,I49) -> 15076807 | J41: =SUM(J42,J46,J49) -> 26148306
B42: 医療施策事業 | C42: 事業名）ひとり親家庭等医療費助成事業 | D42: =SUM(J42) -> 10162300 | E42: 事業計 | F42: =SUM(F43:F45) -> 1932000 | G42: =SUM(G43:G45) -> 4500000 | H42: =SUM(H43:H45) -> 0 | I42: =SUM(I43:I45) -> 3730300 | J42: =SUM(J43:J45) -> 10162300
C43: 事業名）子ども医療費助成事業 | E43: ひとり親家庭等医療費助成事業 | F43: 452000 | I43: =J43-SUM(F43,G43,H43) -> 626749 | J43: 1078749
C44: 事業名）未熟児養育医療費助成事業 | E44: 子ども医療費助成事業 | F44: 1480000 | G44: 4500000 | I44: =J44-SUM(F44,G44,H44) -> 3103551 | J44: 9083551
E45: 未熟児養育医療費助成事業 | I45: =J45-SUM(F45,G45,H45) -> 0 | J45: 0
B46: 疾病予防対策事業 | C46: 事業名）予防事業一般事務経費 | D46: =SUM(J46) -> 6347203 | E46: 事業計 | F46: =SUM(F47:F48) -> 88000 | G46: =SUM(G47:G48) -> 0 | H46: =SUM(H47:H48) -> 0 | I46: =SUM(I47:I48) -> 6259203 | J46: =SUM(J47:J48) -> 6347203
C47: 事業名）各種予防接種事業経費 | E47: 予防事業一般事務経費 | I47: =J47-SUM(F47,G47,H47) -> 190753 | J47: 190753
E48: 各種予防接種事業経費 | F48: 88000 | I48: =J48-SUM(F48,G48,H48) -> 6068450 | J48: 6156450
B49: 健康増進対策事業 | C49: 事業名）各種がん検診事業経費 | D49: =SUM(J49) -> 9638803 | E49: 事業計 | F49: =SUM(F50:F53) -> 876000 | G49: =SUM(G50:G53) -> 0 | H49: =SUM(H50:H53) -> 3675499 | I49: =SUM(I50:I53) -> 5087304 | J49: =SUM(J50:J53) -> 9638803
C50: 事業名）乳幼児・母子の保健事業経費 | E50: 各種がん検診事業経費 | F50: 5000 | H50: 580880 | I50: =J50-SUM(F50,G50,H50) -> 1625119 | J50: 2210999
C51: 事業名）特定健康診査・特定保健指導事業経費 | E51: 乳幼児・母子の保健事業経費 | F51: 366000 | I51: =J51-SUM(F51,G51,H51) -> 1737106 | J51: 2103106
C52: 事業名）脳ドック検診事業経費 | E52: 特定健康診査・特定保健指導事業経費 | F52: 505000 | H52: 2877453 | I52: =J52-SUM(F52,G52,H52) -> 1242645 | J52: 4625098
E53: 脳ドック検診事業経費 | H53: 217166 | I53: =J53-SUM(F53,G53,H53) -> 482434 | J53: 699600
A54: 総計 | D54: =SUM(D4,D33,D41) -> 531423193 | F54: =SUM(F4,F33,F41) -> 210415080 | G54: =SUM(G4,G33,G41) -> 6000000 | H54: =SUM(H4,H33,H41) -> 20810613 | I54: =SUM(I4,I33,I41) -> 294197500 | J54: =SUM(J4,J33,J41) -> 531423193

Sheet R04決算
B1: 令和4年度一般会計決算における地方消費税交付金（社会保障財源化分）が充てられる社会保障施策に要する経費
B4: （歳入） | C4: 地方消費税交付金（社会保障財源化分） | I4: 40330
B6: （歳出） | C6: 地方消費税交付金（社会保障財源化分）が充てられる社会保障施策に要する経費 | I6: 523855
B8: 【社会保障施策に要する経費】 | J8: （単位：千円）
B9: 区分 | C9: 事業名 | E9: 令和4年度 決算額 | F9: 財源内訳
F10: 特定財源 | I10: 一般財源
F11: 国・道支出金 | G11: 地方債 | H11: その他 | I11: 地方消費税交付金 （社会保障財源化分） | J11: その他 | M11: 一般財源 総額 | N11: 一般財源 総額
B12: 社会福祉 | C12: 障害者福祉事業 | E12: 199298 | F12: 144297 | G12: 0 | H12: 478 | I12: =ROUND(I24/M24*M12,0) -> 7857 | J12: =E12-(F12+G12+H12+I12) -> 46666 | M12: =E12-(SUM(F12,G12,H12)) -> 54523 | N12: =I12+J12 -> 54523 | O12: =M12-N12 -> 0 | P12: =M12/M24*I24 -> 7856.879
C13: 高齢者福祉事業 | E13: 39994 | F13: 2708 | G13: 1600 | H13: 1845 | I13: =ROUND(I24/M24*M13,0)-1 -> 4876 | J13: =E13-(F13+G13+H13+I13) -> 28965 | M13: =E13-(SUM(F13,G13,H13)) -> 33841 | N13: =I13+J13 -> 33841 | O13: =M13-N13 -> 0 | P13: =M13/M24*I24 -> 4876.5593
C14: 児童福祉事業 | E14: 104847 | F14: 34070 | G14: 0 | H14: 19948 | I14: =ROUND(I24/M24*M14,0) -> 7325 | J14: =E14-(F14+G14+H14+I14) -> 43504 | M14: =E14-(SUM(F14,G14,H14)) -> 50829 | N14: =I14+J14 -> 50829 | O14: =M14-N14 -> 0 | P14: =M14/M24*I24 -> 7324.5659
C15: 小 計 | E15: =SUM(E12:E14) -> 344139 | F15: =SUM(F12:F14) -> 181075 | G15: =SUM(G12:G14) -> 1600 | H15: =SUM(H12:H14) -> 22271 | I15: =SUM(I12:I14) -> 20058 | J15: =SUM(J12:J14) -> 119135 | M15: =E15-(SUM(F15,G15,H15)) -> 139193 | N15: =I15+J15 -> 139193 | O15: =M15-N15 -> 0 | P15: =M15/M24*I24 -> 20058.004
B16: 社会保険 | C16: 国民健康保険事業 | E16: 28396 | F16: 15867 | G16: 0 | H16: 0 | I16: =ROUND(I24/M24*M16,0) -> 1805 | J16: =E16-(F16+G16+H16+I16) -> 10724 | M16: =E16-(SUM(F16,G16,H16)) -> 12529 | N16: =I16+J16 -> 12529 | O16: =M16-N16 -> 0 | P16: =M16/M24*I24 -> 1805.4553
C17: 介護保険事業 | E17: 60781 | F17: 4597 | G17: 0 | H17: 50 | I17: =ROUND(I24/M24*M17,0) -> 8089 | J17: =E17-(F17+G17+H17+I17) -> 48045 | M17: =E17-(SUM(F17,G17,H17)) -> 56134 | N17: =I17+J17 -> 56134 | O17: =M17-N17 -> 0 | P17: =M17/M24*I24 -> 8089.0275
C18: 後期高齢者医療事業 | E18: 69083 | F18: 9841 | G18: 0 | H18: 0 | I18: =ROUND(I24/M24*M18,0) -> 8537 | J18: =E18-(F18+G18+H18+I18) -> 50705 | M18: =E18-(SUM(F18,G18,H18)) -> 59242 | N18: =I18+J18 -> 59242 | O18: =M18-N18 -> 0 | P18: =M18/M24*I24 -> 8536.8969
C19: 小 計 | E19: =SUM(E16:E18) -> 158260 | F19: =SUM(F16:F18) -> 30305 | G19: =SUM(G16:G18) -> 0 | H19: =SUM(H16:H18) -> 50 | I19: =SUM(I16:I18) -> 18431 | J19: =SUM(J16:J18) -> 109474 | M19: =E19-(SUM(F19,G19,H19)) -> 127905 | N19: =I19+J19 -> 127905 | O19: =M19-N19 -> 0 | P19: =M19/M24*I24 -> 18431.38
B20: 保健衛生 | C20: 医療施策事業 | E20: 6970 | F20: 1459 | G20: 3800 | H20: 60 | I20: =ROUND(I24/M24*M20,0) -> 238 | J20: =E20-(F20+G20+H20+I20) -> 1413 | M20: =E20-(SUM(F20,G20,H20)) -> 1651 | N20: =I20+J20 -> 1651 | O20: =M20-N20 -> 0 | P20: =M20/M24*I24 -> 237.91257
C21: 疾病予防対策事業 | E21: 5837 | F21: 91 | G21: 0 | H21: 0 | I21: =ROUND(I24/M24*M21,0) -> 828 | J21: =E21-(F21+G21+H21+I21) -> 4918 | M21: =E21-(SUM(F21,G21,H21)) -> 5746 | N21: =I21+J21 -> 5746 | O21: =M21-N21 -> 0 | P21: =M21/M24*I24 -> 828.01069
C22: 健康増進対策事業 | E22: 8649 | F22: 361 | G22: 0 | H22: 2912 | I22: =ROUND(I24/M24*M22,0) -> 775 | J22: =E22-(F22+G22+H22+I22) -> 4601 | M22: =E22-(SUM(F22,G22,H22)) -> 5376 | N22: =I22+J22 -> 5376 | O22: =M22-N22 -> 0 | P22: =M22/M24*I24 -> 774.69291
C23: 小 計 | E23: =SUM(E20:E22) -> 21456 | F23: =SUM(F20:F22) -> 1911 | G23: =SUM(G20:G22) -> 3800 | H23: =SUM(H20:H22) -> 2972 | I23: =SUM(I20:I22) -> 1841 | J23: =SUM(J20:J22) -> 10932 | M23: =E23-(SUM(F23,G23,H23)) -> 12773 | N23: =I23+J23 -> 12773 | O23: =M23-N23 -> 0 | P23: =M23/M24*I24 -> 1840.6162
B24: 合 計 | E24: =SUM(E23,E19,E15) -> 523855 | F24: =SUM(F23,F19,F15) -> 213291 | G24: =SUM(G23,G19,G15) -> 5400 | H24: =SUM(H23,H19,H15) -> 25293 | I24: =I4 -> 40330 | J24: =SUM(J23,J19,J15) -> 239541 | M24: =E24-(SUM(F24,G24,H24)) -> 279871 | N24: =I24+J24 -> 279871 | O24: =M24-N24 -> 0 | P24: =M24/M24*I24 -> 40330
B25: ※地方消費税交付金（社会保障財源化分）は、各事業に要する一般財源の比率に応じて按分して充当しています。

Sheet R04決算内訳
A1: 令和4年度一般会計決算における地方消費税交付金（社会保障財源化分）が充てられる社会保障施策に要する経費
J2: （単位：円）
A3: 区分 | B3: 事業名 | C3: 対象（款項又は事業） | D3: 決算額 | E3: 事業名 | F3: 国・道支出金 | G3: 地方債 | H3: その他 | I3: 一般財源 | J3: 計
A4: 社会福祉 | D4: =SUM(D5,D11,D24) -> 344139238 | E4: 区分計 | F4: =SUM(F5,F11,F24) -> 181075394 | G4: =SUM(G5,G11,G24) -> 1600000 | H4: =SUM(H5,H11,H24) -> 22270989 | I4: =SUM(I5,I11,I24) -> 139192855 | J4: =SUM(J5,J11,J24) -> 344139238
B5: 障害者福祉事業 | C5: 款）民生費 項）心身障害者福祉費 | D5: =SUM(J5) -> 199298422 | E5: 事業計 | F5: =SUM(F6:F10) -> 144296500 | G5: =SUM(G6:G10) -> 0 | H5: =SUM(H6:H10) -> 478201 | I5: =SUM(I6:I10) -> 54523721 | J5: =SUM(J6:J10) -> 199298422
E6: 重度心身障害者医療費助成事業 | F6: 2099000 | H6: 478201 | I6: =J6-SUM(F6,G6,H6) -> 2110420 | J6: 4687621
E7: 身体障害児支援費事業 | I7: =J7-SUM(F7,G7,H7) -> 273622 | J7: 273622
E8: 障害者自立支援給付等事業 | F8: 139860000 | I8: =J8-SUM(F8,G8,H8) -> 44985514 | J8: 184845514
E9: 障害者自立支援医療給付事業 | F9: 862500 | I9: =J9-SUM(F9,G9,H9) -> 160925 | J9: 1023425
E10: 地域生活支援事業 | F10: 1475000 | I10: =J10-SUM(F10,G10,H10) -> 6993240 | J10: 8468240
B11: 高齢者福祉事業 | C11: 款）民生費 項）老人福祉費 | D11: =SUM(J11) -> 39993553 | E11: 事業計 | F11: =SUM(F12:F23) -> 2708399 | G11: =SUM(G12:G23) -> 1600000 | H11: =SUM(H12:H23) -> 1845135 | I11: =SUM(I12:I23) -> 33840019 | J11: =SUM(J12:J23) -> 39993553
E12: 生活支援ハウス運営委託事業 | F12: 2550000 | H12: 1648499 | I12: =J12-SUM(F12,G12,H12) -> 12131691 | J12: 16330190
E13: 在宅高齢者短期入所委託事業 | H13: 27775 | I13: =J13-SUM(F13,G13,H13) -> 100525 | J13: 128300
E14: 介護予防通所委託事業 | H14: 109955 | I14: =J14-SUM(F14,G14,H14) -> 12690045 | J14: 12800000
E15: 介護予防家事援助委託事業 | H15: 24156 | I15: =J15-SUM(F15,G15,H15) -> 7199329 | J15: 7223485
E16: 高齢者在宅生活支援事業 | I16: =J16-SUM(F16,G16,H16) -> 550009 | J16: 550009
E17: 緊急通報システム管理委託事業 | G17: 300000 | H17: 34750 | I17: =J17-SUM(F17,G17,H17) -> 50690 | J17: 385440
E18: 老人福祉一般事務経費 | I18: =J18-SUM(F18,G18,H18) -> 176000 | J18: 176000
E19: 長寿祝金支給事業 | I19: =J19-SUM(F19,G19,H19) -> 452940 | J19: 452940
E20: 老人クラブ活動事業 | F20: 158399 | I20: =J20-SUM(F20,G20,H20) -> 291601 | J20: 450000
E21: 介護サービス利用者負担軽減事業 | I21: =J21-SUM(F21,G21,H21) -> 0 | J21: 0
E22: 路線バス無料化事業 | G22: 1300000 | I22: =J22-SUM(F22,G22,H22) -> 86000 | J22: 1386000
E23: 老人福祉施設入所措置事業 | I23: =J23-SUM(F23,G23,H23) -> 111189 | J23: 111189
B24: 児童福祉事業 | C24: 款）民生費 項）児童福祉費 | D24: =SUM(J24) -> 104847263 | E24: 事業計 | F24: =SUM(F25:F30) -> 34070495 | G24: =SUM(G25:G30) -> 0 | H24: =SUM(H25:H30) -> 19947653 | I24: =SUM(I25:I30) -> 50829115 | J24: =SUM(J25:J30) -> 104847263
E25: 児童手当事業 | F25: 22532137 | I25: =J25-SUM(F25,G25,H25) -> 4172209 | J25: 26704346
E26: 子育て応援祝金事業 | I26: =J26-SUM(F26,G26,H26) -> 3415334 | J26: 3415334
E27: 保育及び子育て環境整備事業 | F27: 8568358 | H27: 19947653 | I27: =J27-SUM(F27,G27,H27) -> 37764309 | J27: 66280320
E28: 出産・子育て応援給付金事業（新規） | F28: 1016000 | I28: =J28-SUM(F28,G28,H28) -> 246252 | J28: 1262252
E29: そうべつ児童クラブ運営事業（新規） | F29: 1954000 | I29: =J29-SUM(F29,G29,H29) -> 5024270 | J29: 6978270
E30: 公用車運行管理経費 | I30: =J30-SUM(F30,G30,H30) -> 206741 | J30: 206741
A31: 社会保険 | D31: =SUM(D32,D34,D36) -> 158259366 | E31: 区分計 | F31: =SUM(F32,F34,F36) -> 30304914 | G31: =SUM(G32,G34,G36) -> 0 | H31: =SUM(H32,H34,H36) -> 50000 | I31: =SUM(I32,I34,I36) -> 127904452 | J31: =SUM(J32,J34,J36) -> 158259366
B32: 国民健康保険事業 | C32: 事業名）国民健康保険特別会計繰出金 | D32: =SUM(J32) -> 28395906 | E32: 事業計 | F32: =SUM(F33) -> 15867251 | G32: =SUM(G33) -> 0 | H32: =SUM(H33) -> 0 | I32: =SUM(I33) -> 12528655 | J32: =SUM(J33) -> 28395906
E33: 国民健康保険特別会計繰出金 | F33: 15867251 | I33: =J33-SUM(F33,G33,H33) -> 12528655 | J33: 28395906
B34: 介護保険事業 | C34: 事業名）介護保険特別会計繰出金 | D34: =SUM(J34) -> 60780626 | E34: 事業計 | F34: =SUM(F35) -> 4596525 | G34: =SUM(G35) -> 0 | H34: =SUM(H35) -> 50000 | I34: =SUM(I35) -> 56134101 | J34: =SUM(J35) -> 60780626
E35: 介護保険特別会計繰出金 | F35: 4596525 | H35: 50000 | I35: =J35-SUM(F35,G35,H35) -> 56134101 | J35: 60780626
B36: 後期高齢者医療事業 | C36: 事業名）後期高齢者医療療養給付費負担金 | D36: =SUM(J36) -> 69082834 | E36: 事業計 | F36: =SUM(F37:F38) -> 9841138 | G36: =SUM(G37:G38) -> 0 | H36: =SUM(H37:H38) -> 0 | I36: =SUM(I37:I38) -> 59241696 | J36: =SUM(J37:J38) -> 69082834
C37: 事業名）後期高齢者医療特別会計繰出金 | E37: 後期高齢者医療療養給付費負担金 | I37: =J37-SUM(F37,G37,H37) -> 52890316 | J37: 52890316
E38: 後期高齢者医療特別会計繰出金 | F38: 9841138 | I38: =J38-SUM(F38,G38,H38) -> 6351380 | J38: 16192518
A39: 保健衛生 | D39: =SUM(D40,D44,D47) -> 21456163 | E39: 区分計 | F39: =SUM(F40,F44,F47) -> 1910559 | G39: =SUM(G40,G44,G47) -> 3800000 | H39: =SUM(H40,H44,H47) -> 2971975 | I39: =SUM(I40,I44,I47) -> 12773629 | J39: =SUM(J40,J44,J47) -> 21456163
B40: 医療施策事業 | C40: 事業名）ひとり親家庭等医療費助成事業 | D40: =SUM(J40) -> 6969737 | E40: 事業計 | F40: =SUM(F41:F43) -> 1458559 | G40: =SUM(G41:G43) -> 3800000 | H40: =SUM(H41:H43) -> 60420 | I40: =SUM(I41:I43) -> 1650758 | J40: =SUM(J41:J43) -> 6969737
C41: 事業名）子ども医療費助成事業 | E41: ひとり親家庭等医療費助成事業 | F41: 291000 | I41: =J41-SUM(F41,G41,H41) -> 382966 | J41: 673966
C42: 事業名）未熟児養育医療費助成事業 | E42: 子ども医療費助成事業 | F42: 1125000 | G42: 3800000 | I42: =J42-SUM(F42,G42,H42) -> 1238796 | J42: 6163796
E43: 未熟児養育医療費助成事業 | F43: 42559 | H43: 60420 | I43: =J43-SUM(F43,G43,H43) -> 28996 | J43: 131975
B44: 疾病予防対策事業 | C44: 事業名）予防事業一般事務経費 | D44: =SUM(J44) -> 5837423 | E44: 事業計 | F44: =SUM(F45:F46) -> 91000 | G44: =SUM(G45:G46) -> 0 | H44: =SUM(H45:H46) -> 0 | I44: =SUM(I45:I46) -> 5746423 | J44: =SUM(J45:J46) -> 5837423
C45: 事業名）各種予防接種事業経費 | E45: 予防事業一般事務経費 | I45: =J45-SUM(F45,G45,H45) -> 176717 | J45: 176717
E46: 各種予防接種事業経費 | F46: 91000 | I46: =J46-SUM(F46,G46,H46) -> 5569706 | J46: 5660706
B47: 健康増進対策事業 | C47: 事業名）各種がん検診事業経費 | D47: =SUM(J47) -> 8649003 | E47: 事業計 | F47: =SUM(F48:F51) -> 361000 | G47: =SUM(G48:G51) -> 0 | H47: =SUM(H48:H51) -> 2911555 | I47: =SUM(I48:I51) -> 5376448 | J47: =SUM(J48:J51) -> 8649003
C48: 事業名）乳幼児・母子の保健事業経費 | E48: 各種がん検診事業経費 | F48: 4000 | H48: 512510 | I48: =J48-SUM(F48,G48,H48) -> 1691080 | J48: 2207590
C49: 事業名）特定健康診査・特定保健指導事業経費 | E49: 乳幼児・母子の保健事業経費 | F49: 115000 | I49: =J49-SUM(F49,G49,H49) -> 2308010 | J49: 2423010
C50: 事業名）脳ドック検診事業経費 | E50: 特定健康診査・特定保健指導事業経費 | F50: 242000 | H50: 2212958 | I50: =J50-SUM(F50,G50,H50) -> 833149 | J50: 3288107
E51: 脳ドック検診事業経費 | H51: 186087 | I51: =J51-SUM(F51,G51,H51) -> 544209 | J51: 730296
A52: 総計 | D52: =SUM(D4,D31,D39) -> 523854767 | F52: =SUM(F4,F31,F39) -> 213290867 | G52: =SUM(G4,G31,G39) -> 5400000 | H52: =SUM(H4,H31,H39) -> 25292964 | I52: =SUM(I4,I31,I39) -> 279870936 | J52: =SUM(J4,J31,J39) -> 523854767

Sheet R03決算
B1: 令和3年度一般会計決算における地方消費税交付金（社会保障財源化分）が充てられる社会保障施策に要する経費
B4: （歳入） | C4: 地方消費税交付金（社会保障財源化分） | I4: 39940
B6: （歳出） | C6: 地方消費税交付金（社会保障財源化分）が充てられる社会保障施策に要する経費 | I6: 499396
B8: 【社会保障施策に要する経費】 | J8: （単位：千円）
B9: 区分 | C9: 事業名 | E9: 令和3年度 決算額 | F9: 財源内訳
F10: 特定財源 | I10: 一般財源
F11: 国・道支出金 | G11: 地方債 | H11: その他 | I11: 地方消費税交付金 （社会保障財源化分） | J11: その他 | M11: 一般財源 総額 | N11: 一般財源 総額
B12: 社会福祉 | C12: 障害者福祉事業 | E12: 194491 | F12: 139357 | G12: 0 | H12: 977 | I12: =ROUND(I24/M24*M12,0) -> 8462 | J12: =E12-(F12+G12+H12+I12) -> 45695 | M12: =E12-(SUM(F12,G12,H12)) -> 54157 | N12: =I12+J12 -> 54157 | O12: =M12-N12 -> 0 | P12: =M12/M24*I24 -> 8462.4285
C13: 高齢者福祉事業 | E13: 41287 | F13: 2663 | G13: 1900 | H13: 1922 | I13: =ROUND(I24/M24*M13,0) -> 5438 | J13: =E13-(F13+G13+H13+I13) -> 29364 | M13: =E13-(SUM(F13,G13,H13)) -> 34802 | N13: =I13+J13 -> 34802 | O13: =M13-N13 -> 0 | P13: =M13/M24*I24 -> 5438.0678
C14: 児童福祉事業 | E14: 98785 | F14: 31852 | G14: 0 | H14: 26840 | I14: =ROUND(I24/M24*M14,0) -> 6265 | J14: =E14-(F14+G14+H14+I14) -> 33828 | M14: =E14-(SUM(F14,G14,H14)) -> 40093 | N14: =I14+J14 -> 40093 | O14: =M14-N14 -> 0 | P14: =M14/M24*I24 -> 6264.8254
C15: 小 計 | E15: =SUM(E12:E14) -> 334563 | F15: =SUM(F12:F14) -> 173872 | G15: =SUM(G12:G14) -> 1900 | H15: =SUM(H12:H14) -> 29739 | I15: =SUM(I12:I14) -> 20165 | J15: =SUM(J12:J14) -> 108887 | M15: =E15-(SUM(F15,G15,H15)) -> 129052 | N15: =I15+J15 -> 129052 | O15: =M15-N15 -> 0 | P15: =M15/M24*I24 -> 20165.322
B16: 社会保険 | C16: 国民健康保険事業 | E16: 28547 | F16: 14927 | G16: 0 | H16: 0 | I16: =ROUND(I24/M24*M16,0) -> 2128 | J16: =E16-(F16+G16+H16+I16) -> 11492 | M16: =E16-(SUM(F16,G16,H16)) -> 13620 | N16: =I16+J16 -> 13620 | O16: =M16-N16 -> 0 | P16: =M16/M24*I24 -> 2128.2249
C17: 介護保険事業 | E17: 58735 | F17: 4499 | G17: 0 | H17: 0 | I17: =ROUND(I24/M24*M17,0) -> 8475 | J17: =E17-(F17+G17+H17+I17) -> 45761 | M17: =E17-(SUM(F17,G17,H17)) -> 54236 | N17: =I17+J17 -> 54236 | O17: =M17-N17 -> 0 | P17: =M17/M24*I24 -> 8474.7729
C18: 後期高齢者医療事業 | E18: 56146 | F18: 9893 | G18: 0 | H18: 0 | I18: =ROUND(I24/M24*M18,0) -> 7227 | J18: =E18-(F18+G18+H18+I18) -> 39026 | M18: =E18-(SUM(F18,G18,H18)) -> 46253 | N18: =I18+J18 -> 46253 | O18: =M18-N18 -> 0 | P18: =M18/M24*I24 -> 7227.3705
C19: 小 計 | E19: =SUM(E16:E18) -> 143428 | F19: =SUM(F16:F18) -> 29319 | G19: =SUM(G16:G18) -> 0 | H19: =SUM(H16:H18) -> 0 | I19: =SUM(I16:I18) -> 17830 | J19: =SUM(J16:J18) -> 96279 | M19: =E19-(SUM(F19,G19,H19)) -> 114109 | N19: =I19+J19 -> 114109 | O19: =M19-N19 -> 0 | P19: =M19/M24*I24 -> 17830.368
B20: 保健衛生 | C20: 医療施策事業 | E20: 7193 | F20: 1367 | G20: 4200 | H20: 0 | I20: =ROUND(I24/M24*M20,0) -> 254 | J20: =E20-(F20+G20+H20+I20) -> 1372 | M20: =E20-(SUM(F20,G20,H20)) -> 1626 | N20: =I20+J20 -> 1626 | O20: =M20-N20 -> 0 | P20: =M20/M24*I24 -> 254.07443
C21: 疾病予防対策事業 | E21: 5793 | F21: 95 | G21: 0 | H21: 12 | I21: =ROUND(I24/M24*M21,0) -> 888 | J21: =E21-(F21+G21+H21+I21) -> 4798 | M21: =E21-(SUM(F21,G21,H21)) -> 5686 | N21: =I21+J21 -> 5686 | O21: =M21-N21 -> 0 | P21: =M21/M24*I24 -> 888.47921
C22: 健康増進対策事業 | E22: 8419 | F22: 595 | G22: 0 | H22: 2693 | I22: =ROUND(I24/M24*M22,0) -> 802 | J22: =E22-(F22+G22+H22+I22) -> 4329 | M22: =E22-(SUM(F22,G22,H22)) -> 5131 | N22: =I22+J22 -> 5131 | O22: =M22-N22 -> 0 | P22: =M22/M24*I24 -> 801.75639
C23: 小 計 | E23: =SUM(E20:E22) -> 21405 | F23: =SUM(F20:F22) -> 2057 | G23: =SUM(G20:G22) -> 4200 | H23: =SUM(H20:H22) -> 2705 | I23: =SUM(I20:I22) -> 1944 | J23: =SUM(J20:J22) -> 10499 | M23: =E23-(SUM(F23,G23,H23)) -> 12443 | N23: =I23+J23 -> 12443 | O23: =M23-N23 -> 0 | P23: =M23/M24*I24 -> 1944.31
B24: 合 計 | E24: =SUM(E23,E19,E15) -> 499396 | F24: =SUM(F23,F19,F15) -> 205248 | G24: =SUM(G23,G19,G15) -> 6100 | H24: =SUM(H23,H19,H15) -> 32444 | I24: =I4 -> 39940 | J24: =SUM(J23,J19,J15) -> 215665 | M24: =E24-(SUM(F24,G24,H24)) -> 255604 | N24: =I24+J24 -> 255605 | O24: =M24-N24 -> -1 | P24: =M24/M24*I24 -> 39940
B25: ※地方消費税交付金（社会保障財源化分）は、各事業に要する一般財源の比率に応じて按分して充当しています。

Sheet R03決算内訳
A1: 令和3年度一般会計決算における地方消費税交付金（社会保障財源化分）が充てられる社会保障施策に要する経費
J2: （単位：円）
A3: 区分 | B3: 事業名 | C3: 対象（款項又は事業） | D3: 決算額 | E3: 事業名 | F3: 国・道支出金 | G3: 地方債 | H3: その他 | I3: 一般財源 | J3: 計
A4: 社会福祉 | D4: =SUM(D5,D11,D24) -> 334562999 | E4: 区分計 | F4: =SUM(F5,F11,F24) -> 173872715 | G4: =SUM(G5,G11,G24) -> 1900000 | H4: =SUM(H5,H11,H24) -> 29739219 | I4: =SUM(I5,I11,I24) -> 129051065 | J4: =SUM(J5,J11,J24) -> 334562999
B5: 障害者福祉事業 | C5: 款）民生費 項）心身障害者福祉費 | D5: =SUM(J5) -> 194491415 | E5: 事業計 | F5: =SUM(F6:F10) -> 139357391 | G5: =SUM(G6:G10) -> 0 | H5: =SUM(H6:H10) -> 977395 | I5: =SUM(I6:I10) -> 54156629 | J5: =SUM(J6:J10) -> 194491415
E6: 重度心身障害者医療費助成事業 | F6: 2638000 | H6: 977395 | I6: =J6-SUM(F6,G6,H6) -> 2789065 | J6: 6404460
E7: 身体障害児支援費事業 | I7: =J7-SUM(F7,G7,H7) -> 112439 | J7: 112439
E8: 障害者自立支援給付等事業 | F8: 134594891 | I8: =J8-SUM(F8,G8,H8) -> 43713631 | J8: 178308522
E9: 障害者自立支援医療給付事業 | F9: 862500 | I9: =J9-SUM(F9,G9,H9) -> 146586 | J9: 1009086
E10: 地域生活支援事業 | F10: 1262000 | I10: =J10-SUM(F10,G10,H10) -> 7394908 | J10: 8656908
B11: 高齢者福祉事業 | C11: 款）民生費 項）老人福祉費 | D11: =SUM(J11) -> 41286961 | E11: 事業計 | F11: =SUM(F12:F23) -> 2663286 | G11: =SUM(G12:G23) -> 1900000 | H11: =SUM(H12:H23) -> 1921684 | I11: =SUM(I12:I23) -> 34801991 | J11: =SUM(J12:J23) -> 41286961
E12: 生活支援ハウス運営委託事業 | F12: 2550000 | H12: 1700903 | I12: =J12-SUM(F12,G12,H12) -> 11697583 | J12: 15948486
E13: 在宅高齢者短期入所委託事業 | H13: 19175 | I13: =J13-SUM(F13,G13,H13) -> 172575 | J13: 191750
E14: 介護予防通所委託事業 | H14: 127532 | I14: =J14-SUM(F14,G14,H14) -> 12433507 | J14: 12561039
E15: 介護予防家事援助委託事業 | H15: 17324 | I15: =J15-SUM(F15,G15,H15) -> 7133930 | J15: 7151254
E16: 高齢者在宅生活支援事業 | I16: =J16-SUM(F16,G16,H16) -> 597392 | J16: 597392
E17: 緊急通報システム管理委託事業 | G17: 600000 | H17: 56750 | I17: =J17-SUM(F17,G17,H17) -> 1644 | J17: 658394
E18: 老人福祉一般事務経費 | I18: =J18-SUM(F18,G18,H18) -> 143220 | J18: 143220
E19: 長寿祝金支給事業 | I19: =J19-SUM(F19,G19,H19) -> 430000 | J19: 430000
E20: 老人クラブ活動事業 | F20: 113286 | I20: =J20-SUM(F20,G20,H20) -> 336714 | J20: 450000
E21: 介護サービス利用者負担軽減事業 | I21: =J21-SUM(F21,G21,H21) -> 0 | J21: 0
E22: 路線バス無料化事業 | G22: 1300000 | I22: =J22-SUM(F22,G22,H22) -> 86000 | J22: 1386000
E23: 老人福祉施設入所措置事業 | I23: =J23-SUM(F23,G23,H23) -> 1769426 | J23: 1769426
B24: 児童福祉事業 | C24: 款）民生費 項）児童福祉費 | D24: =SUM(J24) -> 98784623 | E24: 事業計 | F24: =SUM(F25:F28) -> 31852038 | G24: =SUM(G25:G28) -> 0 | H24: =SUM(H25:H28) -> 26840140 | I24: =SUM(I25:I28) -> 40092445 | J24: =SUM(J25:J28) -> 98784623
E25: 児童手当事業 | F25: 22478444 | I25: =J25-SUM(F25,G25,H25) -> 4143213 | J25: 26621657
E26: 子育て応援祝金事業 | I26: =J26-SUM(F26,G26,H26) -> 4122326 | J26: 4122326
E27: 保育及び子育て環境整備事業 | F27: 9373594 | H27: 26840140 | I27: =J27-SUM(F27,G27,H27) -> 31705837 | J27: 67919571
E28: 公用車運行管理経費 | I28: =J28-SUM(F28,G28,H28) -> 121069 | J28: 121069
A29: 社会保険 | D29: =SUM(D30,D32,D34) -> 143428613 | E29: 区分計 | F29: =SUM(F30,F32,F34) -> 29319325 | G29: =SUM(G30,G32,G34) -> 0 | H29: =SUM(H30,H32,H34) -> 0 | I29: =SUM(I30,I32,I34) -> 114109288 | J29: =SUM(J30,J32,J34) -> 143428613
B30: 国民健康保険事業 | C30: 事業名）国民健康保険特別会計繰出金 | D30: =SUM(J30) -> 28547194 | E30: 事業計 | F30: =SUM(F31) -> 14926735 | G30: =SUM(G31) -> 0 | H30: =SUM(H31) -> 0 | I30: =SUM(I31) -> 13620459 | J30: =SUM(J31) -> 28547194
E31: 国民健康保険特別会計繰出金 | F31: 14926735 | I31: =J31-SUM(F31,G31,H31) -> 13620459 | J31: 28547194
B32: 介護保険事業 | C32: 事業名）介護保険特別会計繰出金 | D32: =SUM(J32) -> 58735442 | E32: 事業計 | F32: =SUM(F33) -> 4499475 | G32: =SUM(G33) -> 0 | H32: =SUM(H33) -> 0 | I32: =SUM(I33) -> 54235967 | J32: =SUM(J33) -> 58735442
E33: 介護保険特別会計繰出金 | F33: 4499475 | I33: =J33-SUM(F33,G33,H33) -> 54235967 | J33: 58735442
B34: 後期高齢者医療事業 | C34: 事業名）後期高齢者医療療養給付費負担金 | D34: =SUM(J34) -> 56145977 | E34: 事業計 | F34: =SUM(F35:F36) -> 9893115 | G34: =SUM(G35:G36) -> 0 | H34: =SUM(H35:H36) -> 0 | I34: =SUM(I35:I36) -> 46252862 | J34: =SUM(J35:J36) -> 56145977
C35: 事業名）後期高齢者医療特別会計繰出金 | E35: 後期高齢者医療療養給付費負担金 | I35: =J35-SUM(F35,G35,H35) -> 40264157 | J35: 40264157
E36: 後期高齢者医療特別会計繰出金 | F36: 9893115 | I36: =J36-SUM(F36,G36,H36) -> 5988705 | J36: 15881820
A37: 保健衛生 | D37: =SUM(D38,D42,D45) -> 21404706 | E37: 区分計 | F37: =SUM(F38,F42,F45) -> 2057000 | G37: =SUM(G38,G42,G45) -> 4200000 | H37: =SUM(H38,H42,H45) -> 2705445 | I37: =SUM(I38,I42,I45) -> 12442261 | J37: =SUM(J38,J42,J45) -> 21404706
B38: 医療施策事業 | C38: 事業名）ひとり親家庭等医療費助成事業 | D38: =SUM(J38) -> 7192709 | E38: 事業計 | F38: =SUM(F39:F41) -> 1367000 | G38: =SUM(G39:G41) -> 4200000 | H38: =SUM(H39:H41) -> 0 | I38: =SUM(I39:I41) -> 1625709 | J38: =SUM(J39:J41) -> 7192709
C39: 事業名）子ども医療費助成事業 | E39: ひとり親家庭等医療費助成事業 | F39: 337000 | I39: =J39-SUM(F39,G39,H39) -> 420516 | J39: 757516
C40: 事業名）未熟児養育医療費助成事業 | E40: 子ども医療費助成事業 | F40: 1030000 | G40: 4200000 | I40: =J40-SUM(F40,G40,H40) -> 1205193 | J40: 6435193
E41: 未熟児養育医療費助成事業 | F41: 0 | I41: =J41-SUM(F41,G41,H41) -> 0 | J41: 0
B42: 疾病予防対策事業 | C42: 事業名）予防事業一般事務経費 | D42: =SUM(J42) -> 5792973 | E42: 事業計 | F42: =SUM(F43:F44) -> 95000 | G42: =SUM(G43:G44) -> 0 | H42: =SUM(H43:H44) -> 12411 | I42: =SUM(I43:I44) -> 5685562 | J42: =SUM(J43:J44) -> 5792973
C43: 事業名）各種予防接種事業経費 | E43: 予防事業一般事務経費 | H43: 12411 | I43: =J43-SUM(F43,G43,H43) -> 155773 | J43: 168184
E44: 各種予防接種事業経費 | F44: 95000 | I44: =J44-SUM(F44,G44,H44) -> 5529789 | J44: 5624789
B45: 健康増進対策事業 | C45: 事業名）各種がん検診事業経費 | D45: =SUM(J45) -> 8419024 | E45: 事業計 | F45: =SUM(F46:F49) -> 595000 | G45: =SUM(G46:G49) -> 0 | H45: =SUM(H46:H49) -> 2693034 | I45: =SUM(I46:I49) -> 5130990 | J45: =SUM(J46:J49) -> 8419024
C46: 事業名）乳幼児・母子の保健事業経費 | E46: 各種がん検診事業経費 | F46: 7000 | H46: 390500 | I46: =J46-SUM(F46,G46,H46) -> 1525200 | J46: 1922700
C47: 事業名）特定健康診査・特定保健指導事業経費 | E47: 乳幼児・母子の保健事業経費 | F47: 69000 | I47: =J47-SUM(F47,G47,H47) -> 2726270 | J47: 2795270
C48: 事業名）脳ドック検診事業経費 | E48: 特定健康診査・特定保健指導事業経費 | F48: 519000 | H48: 2302534 | I48: =J48-SUM(F48,G48,H48) -> 164128 | J48: 2985662
E49: 脳ドック検診事業経費 | I49: =J49-SUM(F49,G49,H49) -> 715392 | J49: 715392
A50: 総計 | D50: =SUM(D4,D29,D37) -> 499396318 | F50: =SUM(F4,F29,F37) -> 205249040 | G50: =SUM(G4,G29,G37) -> 6100000 | H50: =SUM(H4,H29,H37) -> 32444664 | I50: =SUM(I4,I29,I37) -> 255602614 | J50: =SUM(J4,J29,J37) -> 499396318

Sheet R02決算
B1: 令和2年度一般会計決算における地方消費税交付金（社会保障財源化分）が充てられる社会保障施策に要する経費
B4: （歳入） | C4: 地方消費税交付金（社会保障財源化分） | I4: 35626
B6: （歳出） | C6: 地方消費税交付金（社会保障財源化分）が充てられる社会保障施策に要する経費 | I6: 475421
B8: 【社会保障施策に要する経費】 | J8: （単位：千円）
B9: 区分 | C9: 事業名 | E9: 令和2年度 決算額 | F9: 財源内訳
F10: 特定財源 | I10: 一般財源
F11: 国・道支出金 | G11: 地方債 | H11: その他 | I11: 地方消費税交付金 （社会保障財源化分） | J11: その他 | M11: 一般財源 総額 | N11: 一般財源 総額
B12: 社会福祉 | C12: 障害者福祉事業 | E12: 184503 | F12: 126850 | G12: 0 | H12: 350 | I12: =ROUND(I24/M24*M12,0) -> 7745 | J12: =E12-(F12+G12+H12+I12) -> 49558 | M12: =E12-(SUM(F12,G12,H12)) -> 57303 | N12: =I12+J12 -> 57303 | O12: =M12-N12 -> 0 | P12: =M12/M24*I24 -> 7744.9824
C13: 高齢者福祉事業 | E13: 39379 | F13: 2636 | G13: 2100 | H13: 1819 | I13: =ROUND(I24/M24*M13,0) -> 4436 | J13: =E13-(F13+G13+H13+I13) -> 28388 | M13: =E13-(SUM(F13,G13,H13)) -> 32824 | N13: =I13+J13 -> 32824 | O13: =M13-N13 -> 0 | P13: =M13/M24*I24 -> 4436.4397
C14: 児童福祉事業 | E14: 83707 | F14: 31386 | G14: 0 | H14: 11467 | I14: =ROUND(I24/M24*M14,0) -> 5522 | J14: =E14-(F14+G14+H14+I14) -> 35332 | M14: =E14-(SUM(F14,G14,H14)) -> 40854 | N14: =I14+J14 -> 40854 | O14: =M14-N14 -> 0 | P14: =M14/M24*I24 -> 5521.7617
C15: 小 計 | E15: =SUM(E12:E14) -> 307589 | F15: =SUM(F12:F14) -> 160872 | G15: =SUM(G12:G14) -> 2100 | H15: =SUM(H12:H14) -> 13636 | I15: =SUM(I12:I14) -> 17703 | J15: =SUM(J12:J14) -> 113278 | M15: =E15-(SUM(F15,G15,H15)) -> 130981 | N15: =I15+J15 -> 130981 | O15: =M15-N15 -> 0 | P15: =M15/M24*I24 -> 17703.184
B16: 社会保険 | C16: 国民健康保険事業 | E16: 27679 | F16: 15628 | G16: 0 | H16: 0 | I16: =ROUND(I24/M24*M16,0) -> 1629 | J16: =E16-(F16+G16+H16+I16) -> 10422 | M16: =E16-(SUM(F16,G16,H16)) -> 12051 | N16: =I16+J16 -> 12051 | O16: =M16-N16 -> 0 | P16: =M16/M24*I24 -> 1628.794
C17: 介護保険事業 | E17: 56735 | F17: 3585 | G17: 0 | H17: 0 | I17: =ROUND(I24/M24*M17,0) -> 7184 | J17: =E17-(F17+G17+H17+I17) -> 45966 | M17: =E17-(SUM(F17,G17,H17)) -> 53150 | N17: =I17+J17 -> 53150 | O17: =M17-N17 -> 0 | P17: =M17/M24*I24 -> 7183.6695
C18: 後期高齢者医療事業 | E18: 65243 | F18: 9501 | G18: 0 | H18: 0 | I18: =ROUND(I24/M24*M18,0) -> 7534 | J18: =E18-(F18+G18+H18+I18) -> 48208 | M18: =E18-(SUM(F18,G18,H18)) -> 55742 | N18: =I18+J18 -> 55742 | O18: =M18-N18 -> 0 | P18: =M18/M24*I24 -> 7534.0001
C19: 小 計 | E19: =SUM(E16:E18) -> 149657 | F19: =SUM(F16:F18) -> 28714 | G19: =SUM(G16:G18) -> 0 | H19: =SUM(H16:H18) -> 0 | I19: =SUM(I16:I18) -> 16347 | J19: =SUM(J16:J18) -> 104596 | M19: =E19-(SUM(F19,G19,H19)) -> 120943 | N19: =I19+J19 -> 120943 | O19: =M19-N19 -> 0 | P19: =M19/M24*I24 -> 16346.464
B20: 保健衛生 | C20: 医療施策事業 | E20: 5646 | F20: 1095 | G20: 3200 | H20: 23 | I20: =ROUND(I24/M24*M20,0) -> 179 | J20: =E20-(F20+G20+H20+I20) -> 1149 | M20: =E20-(SUM(F20,G20,H20)) -> 1328 | N20: =I20+J20 -> 1328 | O20: =M20-N20 -> 0 | P20: =M20/M24*I24 -> 179.49037
C21: 疾病予防対策事業 | E21: 5691 | F21: 194 | G21: 0 | H21: 0 | I21: =ROUND(I24/M24*M21,0) -> 743 | J21: =E21-(F21+G21+H21+I21) -> 4754 | M21: =E21-(SUM(F21,G21,H21)) -> 5497 | N21: =I21+J21 -> 5497 | O21: =M21-N21 -> 0 | P21: =M21/M24*I24 -> 742.96578
C22: 健康増進対策事業 | E22: 6838 | F22: 410 | G22: 0 | H22: 1590 | I22: =ROUND(I24/M24*M22,0) -> 654 | J22: =E22-(F22+G22+H22+I22) -> 4184 | M22: =E22-(SUM(F22,G22,H22)) -> 4838 | N22: =I22+J22 -> 4838 | O22: =M22-N22 -> 0 | P22: =M22/M24*I24 -> 653.89639
C23: 小 計 | E23: =SUM(E20:E22) -> 18175 | F23: =SUM(F20:F22) -> 1699 | G23: =SUM(G20:G22) -> 3200 | H23: =SUM(H20:H22) -> 1613 | I23: =SUM(I20:I22) -> 1576 | J23: =SUM(J20:J22) -> 10087 | M23: =E23-(SUM(F23,G23,H23)) -> 11663 | N23: =I23+J23 -> 11663 | O23: =M23-N23 -> 0 | P23: =M23/M24*I24 -> 1576.3525
B24: 合 計 | E24: =SUM(E23,E19,E15) -> 475421 | F24: =SUM(F23,F19,F15) -> 191285 | G24: =SUM(G23,G19,G15) -> 5300 | H24: =SUM(H23,H19,H15) -> 15249 | I24: =I4 -> 35626 | J24: =SUM(J23,J19,J15) -> 227961 | M24: =E24-(SUM(F24,G24,H24)) -> 263587 | N24: =I24+J24 -> 263587 | O24: =M24-N24 -> 0 | P24: =M24/M24*I24 -> 35626
B25: ※地方消費税交付金（社会保障財源化分）は、各事業に要する一般財源の比率に応じて按分して充当しています。

Sheet R02決算内訳
A1: 令和2年度一般会計決算における地方消費税交付金（社会保障財源化分）が充てられる社会保障施策に要する経費
J2: （単位：円）
A3: 区分 | B3: 事業名 | C3: 対象（款項又は事業） | D3: 決算額 | E3: 事業名 | F3: 国・道支出金 | G3: 地方債 | H3: その他 | I3: 一般財源 | J3: 計
A4: 社会福祉 | D4: =SUM(D5,D11,D24) -> 307589310 | E4: 区分計 | F4: =SUM(F5,F11,F24) -> 160871560 | G4: =SUM(G5,G11,G24) -> 2100000 | H4: =SUM(H5,H11,H24) -> 13635745 | I4: =SUM(I5,I11,I24) -> 130982005 | J4: =SUM(J5,J11,J24) -> 307589310
B5: 障害者福祉事業 | C5: 款）民生費 項）心身障害者福祉費 | D5: =SUM(J5) -> 184502739 | E5: 事業計 | F5: =SUM(F6:F10) -> 126849500 | G5: =SUM(G6:G10) -> 0 | H5: =SUM(H6:H10) -> 349626 | I5: =SUM(I6:I10) -> 57303613 | J5: =SUM(J6:J10) -> 184502739
E6: 重度心身障害者医療費助成事業 | F6: 2362000 | H6: 349626 | I6: =J6-SUM(F6,G6,H6) -> 2375420 | J6: 5087046
E7: 身体障害児支援費事業 | I7: =J7-SUM(F7,G7,H7) -> 338558 | J7: 338558
E8: 障害者自立支援給付等事業 | F8: 120975000 | I8: =J8-SUM(F8,G8,H8) -> 44813097 | J8: 165788097
E9: 障害者自立支援医療給付事業 | F9: 2212500 | I9: =J9-SUM(F9,G9,H9) -> 2448018 | J9: 4660518
E10: 地域生活支援事業 | F10: 1300000 | I10: =J10-SUM(F10,G10,H10) -> 7328520 | J10: 8628520
B11: 高齢者福祉事業 | C11: 款）民生費 項）老人福祉費 | D11: =SUM(J11) -> 39379509 | E11: 事業計 | F11: =SUM(F12:F23) -> 2636400 | G11: =SUM(G12:G23) -> 2100000 | H11: =SUM(H12:H23) -> 1819129 | I11: =SUM(I12:I23) -> 32823980 | J11: =SUM(J12:J23) -> 39379509
E12: 生活支援ハウス運営委託事業 | F12: 2550000 | H12: 1588609 | I12: =J12-SUM(F12,G12,H12) -> 10905984 | J12: 15044593
E13: 在宅高齢者短期入所委託事業 | H13: 17573 | I13: =J13-SUM(F13,G13,H13) -> 158157 | J13: 175730
E14: 介護予防通所委託事業 | H14: 125913 | I14: =J14-SUM(F14,G14,H14) -> 11785998 | J14: 11911911
E15: 介護予防家事援助委託事業 | H15: 8784 | I15: =J15-SUM(F15,G15,H15) -> 6312482 | J15: 6321266
E16: 高齢者在宅生活支援事業 | I16: =J16-SUM(F16,G16,H16) -> 654815 | J16: 654815
E17: 緊急通報システム管理委託事業 | G17: 800000 | H17: 78250 | I17: =J17-SUM(F17,G17,H17) -> 32506 | J17: 910756
E18: 老人福祉一般事務経費 | I18: =J18-SUM(F18,G18,H18) -> 320640 | J18: 320640
E19: 長寿祝金支給事業 | I19: =J19-SUM(F19,G19,H19) -> 410000 | J19: 410000
E20: 老人クラブ活動事業 | F20: 86400 | I20: =J20-SUM(F20,G20,H20) -> 313600 | J20: 400000
E21: 介護サービス利用者負担軽減事業 | F21: 0 | I21: =J21-SUM(F21,G21,H21) -> 0 | J21: 0
E22: 路線バス無料化事業 | G22: 1300000 | I22: =J22-SUM(F22,G22,H22) -> 86000 | J22: 1386000
E23: 老人福祉施設入所措置事業 | I23: =J23-SUM(F23,G23,H23) -> 1843798 | J23: 1843798
B24: 児童福祉事業 | C24: 款）民生費 項）児童福祉費 | D24: =SUM(J24) -> 83707062 | E24: 事業計 | F24: =SUM(F25:F27) -> 31385660 | G24: =SUM(G25:G27) -> 0 | H24: =SUM(H25:H27) -> 11466990 | I24: =SUM(I25:I27) -> 40854412 | J24: =SUM(J25:J27) -> 83707062
E25: 児童手当事業 | F25: 23572750 | I25: =J25-SUM(F25,G25,H25) -> 4259284 | J25: 27832034
E26: 保育及び子育て環境整備事業 | F26: 7812910 | H26: 11466990 | I26: =J26-SUM(F26,G26,H26) -> 36375652 | J26: 55655552
E27: 公用車運行管理経費 | I27: =J27-SUM(F27,G27,H27) -> 219476 | J27: 219476
A28: 社会保険 | D28: =SUM(D29,D31,D33) -> 149657025 | E28: 区分計 | F28: =SUM(F29,F31,F33) -> 28714103 | G28: =SUM(G29,G31,G33) -> 0 | H28: =SUM(H29,H31,H33) -> 0 | I28: =SUM(I29,I31,I33) -> 120942922 | J28: =SUM(J29,J31,J33) -> 149657025
B29: 国民健康保険事業 | C29: 事業名）国民健康保険特別会計繰出金 | D29: =SUM(J29) -> 27678897 | E29: 事業計 | F29: =SUM(F30) -> 15627849 | G29: =SUM(G30) -> 0 | H29: =SUM(H30) -> 0 | I29: =SUM(I30) -> 12051048 | J29: =SUM(J30) -> 27678897
E30: 国民健康保険特別会計繰出金 | F30: 15627849 | I30: =J30-SUM(F30,G30,H30) -> 12051048 | J30: 27678897
B31: 介護保険事業 | C31: 事業名）介護保険特別会計繰出金 | D31: =SUM(J31) -> 56735024 | E31: 事業計 | F31: =SUM(F32) -> 3585450 | G31: =SUM(G32) -> 0 | H31: =SUM(H32) -> 0 | I31: =SUM(I32) -> 53149574 | J31: =SUM(J32) -> 56735024
E32: 介護保険特別会計繰出金 | F32: 3585450 | I32: =J32-SUM(F32,G32,H32) -> 53149574 | J32: 56735024
B33: 後期高齢者医療事業 | C33: 事業名）後期高齢者医療療養給付費負担金 | D33: =SUM(J33) -> 65243104 | E33: 事業計 | F33: =SUM(F34:F35) -> 9500804 | G33: =SUM(G34:G35) -> 0 | H33: =SUM(H34:H35) -> 0 | I33: =SUM(I34:I35) -> 55742300 | J33: =SUM(J34:J35) -> 65243104
C34: 事業名）後期高齢者医療特別会計繰出金 | E34: 後期高齢者医療療養給付費負担金 | I34: =J34-SUM(F34,G34,H34) -> 50112365 | J34: 50112365
E35: 後期高齢者医療特別会計繰出金 | F35: 9500804 | I35: =J35-SUM(F35,G35,H35) -> 5629935 | J35: 15130739
A36: 保健衛生 | D36: =SUM(D37,D41,D44) -> 18175118 | E36: 区分計 | F36: =SUM(F37,F41,F44) -> 1699000 | G36: =SUM(G37,G41,G44) -> 3200000 | H36: =SUM(H37,H41,H44) -> 1612457 | I36: =SUM(I37,I41,I44) -> 11663661 | J36: =SUM(J37,J41,J44) -> 18175118
B37: 医療施策事業 | C37: 事業名）ひとり親家庭等医療費助成事業 | D37: =SUM(J37) -> 5646220 | E37: 事業計 | F37: =SUM(F38:F40) -> 1095000 | G37: =SUM(G38:G40) -> 3200000 | H37: =SUM(H38:H40) -> 22473 | I37: =SUM(I38:I40) -> 1328747 | J37: =SUM(J38:J40) -> 5646220
C38: 事業名）乳幼児医療費助成事業 | E38: ひとり親家庭等医療費助成事業 | F38: 323000 | H38: 22473 | I38: =J38-SUM(F38,G38,H38) -> 403295 | J38: 748768
C39: 事業名）未熟児養育医療費助成事業 | E39: 乳幼児医療費助成事業 | F39: 772000 | G39: 3200000 | I39: =J39-SUM(F39,G39,H39) -> 925452 | J39: 4897452
E40: 未熟児養育医療費助成事業 | F40: 0 | H40: 0 | I40: =J40-SUM(F40,G40,H40) -> 0 | J40: 0
B41: 疾病予防対策事業 | C41: 事業名）予防事業一般事務経費 | D41: =SUM(J41) -> 5691098 | E41: 事業計 | F41: =SUM(F42:F43) -> 194000 | G41: =SUM(G42:G43) -> 0 | H41: =SUM(H42:H43) -> 0 | I41: =SUM(I42:I43) -> 5497098 | J41: =SUM(J42:J43) -> 5691098
C42: 事業名）各種予防接種事業経費 | E42: 予防事業一般事務経費 | I42: =J42-SUM(F42,G42,H42) -> 155830 | J42: 155830
E43: 各種予防接種事業経費 | F43: 194000 | I43: =J43-SUM(F43,G43,H43) -> 5341268 | J43: 5535268
B44: 健康増進対策事業 | C44: 事業名）各種がん検診事業経費 | D44: =SUM(J44) -> 6837800 | E44: 事業計 | F44: =SUM(F45:F48) -> 410000 | G44: =SUM(G45:G48) -> 0 | H44: =SUM(H45:H48) -> 1589984 | I44: =SUM(I45:I48) -> 4837816 | J44: =SUM(J45:J48) -> 6837800
C45: 事業名）乳幼児・母子の保健事業経費 | E45: 各種がん検診事業経費 | F45: 6000 | H45: 263000 | I45: =J45-SUM(F45,G45,H45) -> 1279282 | J45: 1548282
C46: 事業名）特定健康診査・特定保健指導事業経費 | E46: 乳幼児・母子の保健事業経費 | I46: =J46-SUM(F46,G46,H46) -> 3207253 | J46: 3207253
C47: 事業名）脳ドック検診事業経費 | E47: 特定健康診査・特定保健指導事業経費 | F47: 404000 | H47: 1297174 | I47: =J47-SUM(F47,G47,H47) -> 8491 | J47: 1709665
E48: 脳ドック検診事業経費 | H48: 29810 | I48: =J48-SUM(F48,G48,H48) -> 342790 | J48: 372600
A49: 総計 | D49: =SUM(D4,D28,D36) -> 475421453 | F49: =SUM(F4,F28,F36) -> 191284663 | G49: =SUM(G4,G28,G36) -> 5300000 | H49: =SUM(H4,H28,H36) -> 15248202 | I49: =SUM(I4,I28,I36) -> 263588588 | J49: =SUM(J4,J28,J36) -> 475421453

Sheet R01決算
B1: 令和元年度一般会計決算における地方消費税交付金（社会保障財源化分）が充てられる社会保障施策に要する経費
B4: （歳入） | C4: 地方消費税交付金（社会保障財源化分） | I4: 22980
B6: （歳出） | C6: 地方消費税交付金（社会保障財源化分）が充てられる社会保障施策に要する経費 | I6: 473071
B8: 【社会保障施策に要する経費】 | J8: （単位：千円）
B9: 区分 | C9: 事業名 | E9: 令和元年度 決算額 | F9: 財源内訳
F10: 特定財源 | I10: 一般財源
F11: 国・道支出金 | G11: 地方債 | H11: その他 | I11: 地方消費税交付金 （社会保障財源化分） | J11: その他 | M11: 一般財源 総額 | N11: 一般財源 総額
B12: 社会福祉 | C12: 障害者福祉事業 | E12: 162671 | F12: 118083 | G12: 0 | H12: 381 | I12: =ROUND(I24/M24*M12,0) -> 3755 | J12: =E12-(F12+G12+H12+I12) -> 40452 | M12: =E12-(SUM(F12,G12,H12)) -> 44207 | N12: =I12+J12 -> 44207 | O12: =M12-N12 -> 0 | P12: =M12/M24*I24 -> 3754.525
C13: 高齢者福祉事業 | E13: 41296 | F13: 188 | G13: 2100 | H13: 1873 | I13: =ROUND(I24/M24*M13,0) -> 3154 | J13: =E13-(F13+G13+H13+I13) -> 33981 | M13: =E13-(SUM(F13,G13,H13)) -> 37135 | N13: =I13+J13 -> 37135 | O13: =M13-N13 -> 0 | P13: =M13/M24*I24 -> 3153.8962
C14: 児童福祉事業 | E14: 80978 | F14: 33585 | G14: 0 | H14: 10080 | I14: =ROUND(I24/M24*M14,0) -> 3169 | J14: =E14-(F14+G14+H14+I14) -> 34144 | M14: =E14-(SUM(F14,G14,H14)) -> 37313 | N14: =I14+J14 -> 37313 | O14: =M14-N14 -> 0 | P14: =M14/M24*I24 -> 3169.0138
C15: 小計 | E15: =SUM(E12:E14) -> 284945 | F15: =SUM(F12:F14) -> 151856 | G15: =SUM(G12:G14) -> 2100 | H15: =SUM(H12:H14) -> 12334 | I15: =SUM(I12:I14) -> 10078 | J15: =SUM(J12:J14) -> 108577 | M15: =E15-(SUM(F15,G15,H15)) -> 118655 | N15: =I15+J15 -> 118655 | O15: =M15-N15 -> 0 | P15: =M15/M24*I24 -> 10077.435
B16: 社会保険 | C16: 国民健康保険事業 | E16: 29820 | F16: 15510 | G16: 0 | H16: 0 | I16: =ROUND(I24/M24*M16,0) -> 1215 | J16: =E16-(F16+G16+H16+I16) -> 13095 | M16: =E16-(SUM(F16,G16,H16)) -> 14310 | N16: =I16+J16 -> 14310 | O16: =M16-N16 -> 0 | P16: =M16/M24*I24 -> 1215.3562
C17: 介護保険事業 | E17: 52380 | F17: 2154 | G17: 0 | H17: 0 | I17: =ROUND(I24/M24*M17,0) -> 4266 | J17: =E17-(F17+G17+H17+I17) -> 45960 | M17: =E17-(SUM(F17,G17,H17)) -> 50226 | N17: =I17+J17 -> 50226 | O17: =M17-N17 -> 0 | P17: =M17/M24*I24 -> 4265.7221
C18: 後期高齢者医療事業 | E18: 76329 | F18: 9531 | G18: 0 | H18: 0 | I18: =ROUND(I24/M24*M18,0) -> 5673 | J18: =E18-(F18+G18+H18+I18) -> 61125 | M18: =E18-(SUM(F18,G18,H18)) -> 66798 | N18: =I18+J18 -> 66798 | O18: =M18-N18 -> 0 | P18: =M18/M24*I24 -> 5673.1912
C19: 小計 | E19: =SUM(E16:E18) -> 158529 | F19: =SUM(F16:F18) -> 27195 | G19: =SUM(G16:G18) -> 0 | H19: =SUM(H16:H18) -> 0 | I19: =SUM(I16:I18) -> 11154 | J19: =SUM(J16:J18) -> 120180 | M19: =E19-(SUM(F19,G19,H19)) -> 131334 | N19: =I19+J19 -> 131334 | O19: =M19-N19 -> 0 | P19: =M19/M24*I24 -> 11154.27
B20: 保健衛生 | C20: 医療施策事業 | E20: 8871 | F20: 1994 | G20: 0 | H20: 192 | I20: =ROUND(I24/M24*M20,0) -> 568 | J20: =E20-(F20+G20+H20+I20) -> 6117 | M20: =E20-(SUM(F20,G20,H20)) -> 6685 | N20: =I20+J20 -> 6685 | O20: =M20-N20 -> 0 | P20: =M20/M24*I24 -> 567.76076
C21: 疾病予防対策事業 | E21: 5754 | F21: 78 | G21: 0 | H21: 0 | I21: =ROUND(I24/M24*M21,0) -> 482 | J21: =E21-(F21+G21+H21+I21) -> 5194 | M21: =E21-(SUM(F21,G21,H21)) -> 5676 | N21: =I21+J21 -> 5676 | O21: =M21-N21 -> 0 | P21: =M21/M24*I24 -> 482.06583
C22: 健康増進対策事業 | E22: 14972 | F22: 875 | G22: 0 | H22: 5873 | I22: =ROUND(I24/M24*M22,0) -> 698 | J22: =E22-(F22+G22+H22+I22) -> 7526 | M22: =E22-(SUM(F22,G22,H22)) -> 8224 | N22: =I22+J22 -> 8224 | O22: =M22-N22 -> 0 | P22: =M22/M24*I24 -> 698.46888
C23: 小計 | E23: =SUM(E20:E22) -> 29597 | F23: =SUM(F20:F22) -> 2947 | G23: =SUM(G20:G22) -> 0 | H23: =SUM(H20:H22) -> 6065 | I23: =SUM(I20:I22) -> 1748 | J23: =SUM(J20:J22) -> 18837 | M23: =E23-(SUM(F23,G23,H23)) -> 20585 | N23: =I23+J23 -> 20585 | O23: =M23-N23 -> 0 | P23: =M23/M24*I24 -> 1748.2955
B24: 合計 | E24: =SUM(E23,E19,E15) -> 473071 | F24: =SUM(F23,F19,F15) -> 181998 | G24: =SUM(G23,G19,G15) -> 2100 | H24: =SUM(H23,H19,H15) -> 18399 | I24: =I4 -> 22980 | J24: =SUM(J23,J19,J15) -> 247594 | M24: =E24-(SUM(F24,G24,H24)) -> 270574 | N24: =I24+J24 -> 270574 | O24: =M24-N24 -> 0 | P24: =M24/M24*I24 -> 22980
B25: ※地方消費税交付金（社会保障財源化分）は、各事業に要する一般財源の比率に応じて按分して充当しています。

Sheet R01決算内訳
A1: 令和元年度一般会計決算における地方消費税交付金（社会保障財源化分）が充てられる社会保障施策に要する経費
J2: （単位：円）
A3: 区分 | B3: 事業名 | C3: 対象（款項又は事業） | D3: 決算額 | E3: 事業名 | F3: 国・道支出金 | G3: 地方債 | H3: その他 | I3: 一般財源 | J3: 計
A4: 社会福祉 | D4: =SUM(D5,D11,D24) -> 284944702 | E4: 区分計 | F4: =SUM(F5,F11,F24) -> 151855598 | G4: =SUM(G5,G11,G24) -> 2100000 | H4: =SUM(H5,H11,H24) -> 12333482 | I4: =SUM(I5,I11,I24) -> 118655622 | J4: =SUM(J5,J11,J24) -> 284944702
B5: 障害者福祉事業 | C5: 款）民生費 項）心身障害者福祉費 | D5: =SUM(J5) -> 162670725 | E5: 事業計 | F5: =SUM(F6:F10) -> 118083105 | G5: =SUM(G6:G10) -> 0 | H5: =SUM(H6:H10) -> 381100 | I5: =SUM(I6:I10) -> 44206520 | J5: =SUM(J6:J10) -> 162670725
E6: 重度心身障害者医療費助成事業 | F6: 2291000 | H6: 381100 | I6: =J6-SUM(F6,G6,H6) -> 2403771 | J6: 5075871
E7: 身体障害児支援費事業 | I7: =J7-SUM(F7,G7,H7) -> 141670 | J7: 141670
E8: 障害者自立支援給付等事業 | F8: 113548194 | I8: =J8-SUM(F8,G8,H8) -> 34562979 | J8: 148111173
E9: 障害者自立支援医療給付事業 | F9: 824911 | I9: =J9-SUM(F9,G9,H9) -> 0 | J9: 824911
E10: 地域生活支援事業 | F10: 1419000 | I10: =J10-SUM(F10,G10,H10) -> 7098100 | J10: 8517100
B11: 高齢者福祉事業 | C11: 款）民生費 項）老人福祉費 | D11: =SUM(J11) -> 41296301 | E11: 事業計 | F11: =SUM(F12:F23) -> 187400 | G11: =SUM(G12:G23) -> 2100000 | H11: =SUM(H12:H23) -> 1873082 | I11: =SUM(I12:I23) -> 37135819 | J11: =SUM(J12:J23) -> 41296301
E12: 生活支援ハウス運営委託事業 | H12: 1533000 | I12: =J12-SUM(F12,G12,H12) -> 14163045 | J12: 15696045
E13: 在宅高齢者短期入所委託事業 | H13: 19008 | I13: =J13-SUM(F13,G13,H13) -> 171072 | J13: 190080
E14: 介護予防通所委託事業 | H14: 210474 | I14: =J14-SUM(F14,G14,H14) -> 12725657 | J14: 12936131
E15: 介護予防家事援助委託事業 | H15: 36600 | I15: =J15-SUM(F15,G15,H15) -> 6363400 | J15: 6400000
E16: 高齢者在宅生活支援事業 | I16: =J16-SUM(F16,G16,H16) -> 534054 | J16: 534054
E17: 緊急通報システム管理委託事業 | G17: 800000 | H17: 74000 | I17: =J17-SUM(F17,G17,H17) -> 8774 | J17: 882774
E18: 老人福祉一般事務経費 | I18: =J18-SUM(F18,G18,H18) -> 539139 | J18: 539139
E19: 長寿祝金支給事業 | I19: =J19-SUM(F19,G19,H19) -> 210000 | J19: 210000
E20: 老人クラブ活動事業 | F20: 178400 | I20: =J20-SUM(F20,G20,H20) -> 521600 | J20: 700000
E21: 介護サービス利用者負担軽減事業 | F21: 9000 | I21: =J21-SUM(F21,G21,H21) -> 5000 | J21: 14000
E22: 路線バス無料化事業 | G22: 1300000 | I22: =J22-SUM(F22,G22,H22) -> 60800 | J22: 1360800
E23: 老人福祉施設入所措置事業 | I23: =J23-SUM(F23,G23,H23) -> 1833278 | J23: 1833278
B24: 児童福祉事業 | C24: 款）民生費 項）児童福祉費 | D24: =SUM(J24) -> 80977676 | E24: 事業計 | F24: =SUM(F25:F27) -> 33585093 | G24: =SUM(G25:G27) -> 0 | H24: =SUM(H25:H27) -> 10079300 | I24: =SUM(I25:I27) -> 37313283 | J24: =SUM(J25:J27) -> 80977676
E25: 児童手当事業 | F25: 24238834 | I25: =J25-SUM(F25,G25,H25) -> 4449169 | J25: 28688003
E26: 保育及び子育て環境整備事業 | F26: 9346259 | H26: 10079300 | I26: =J26-SUM(F26,G26,H26) -> 32767268 | J26: 52192827
E27: 公用車運行管理経費 | I27: =J27-SUM(F27,G27,H27) -> 96846 | J27: 96846
A28: 社会保険 | D28: =SUM(D29,D31,D33) -> 158528690 | E28: 区分計 | F28: =SUM(F29,F31,F33) -> 27194755 | G28: =SUM(G29,G31,G33) -> 0 | H28: =SUM(H29,H31,H33) -> 0 | I28: =SUM(I29,I31,I33) -> 131333935 | J28: =SUM(J29,J31,J33) -> 158528690
B29: 国民健康保険事業 | C29: 事業名）国民健康保険特別会計繰出金 | D29: =SUM(J29) -> 29819625 | E29: 事業計 | F29: =SUM(F30) -> 15509506 | G29: =SUM(G30) -> 0 | H29: =SUM(H30) -> 0 | I29: =SUM(I30) -> 14310119 | J29: =SUM(J30) -> 29819625
E30: 国民健康保険特別会計繰出金 | F30: 15509506 | I30: =J30-SUM(F30,G30,H30) -> 14310119 | J30: 29819625
B31: 介護保険事業 | C31: 事業名）介護保険特別会計繰出金 | D31: =SUM(J31) -> 52380151 | E31: 事業計 | F31: =SUM(F32) -> 2153700 | G31: =SUM(G32) -> 0 | H31: =SUM(H32) -> 0 | I31: =SUM(I32) -> 50226451 | J31: =SUM(J32) -> 52380151
E32: 介護保険特別会計繰出金 | F32: 2153700 | I32: =J32-SUM(F32,G32,H32) -> 50226451 | J32: 52380151
B33: 後期高齢者医療事業 | C33: 事業名）後期高齢者医療療養給付費負担金 | D33: =SUM(J33) -> 76328914 | E33: 事業計 | F33: =SUM(F34:F35) -> 9531549 | G33: =SUM(G34:G35) -> 0 | H33: =SUM(H34:H35) -> 0 | I33: =SUM(I34:I35) -> 66797365 | J33: =SUM(J34:J35) -> 76328914
C34: 事業名）後期高齢者医療特別会計繰出金 | E34: 後期高齢者医療療養給付費負担金 | I34: =J34-SUM(F34,G34,H34) -> 61153182 | J34: 61153182
E35: 後期高齢者医療特別会計繰出金 | F35: 9531549 | I35: =J35-SUM(F35,G35,H35) -> 5644183 | J35: 15175732
A36: 保健衛生 | D36: =SUM(D37,D41,D44) -> 29597574 | E36: 区分計 | F36: =SUM(F37,F41,F44) -> 2947296 | G36: =SUM(G37,G41,G44) -> 0 | H36: =SUM(H37,H41,H44) -> 6065257 | I36: =SUM(I37,I41,I44) -> 20585021 | J36: =SUM(J37,J41,J44) -> 29597574
B37: 医療施策事業 | C37: 事業名）ひとり親家庭等医療費助成事業 | D37: =SUM(J37) -> 8871599 | E37: 事業計 | F37: =SUM(F38:F40) -> 1994296 | G37: =SUM(G38:G40) -> 0 | H37: =SUM(H38:H40) -> 192337 | I37: =SUM(I38:I40) -> 6684966 | J37: =SUM(J38:J40) -> 8871599
C38: 事業名）乳幼児医療費助成事業 | E38: ひとり親家庭等医療費助成事業 | F38: 474000 | H38: 12699 | I38: =J38-SUM(F38,G38,H38) -> 544195 | J38: 1030894
C39: 事業名）未熟児養育医療費助成事業 | E39: 乳幼児医療費助成事業 | F39: 1360000 | H39: 25968 | I39: =J39-SUM(F39,G39,H39) -> 5659613 | J39: 7045581
E40: 未熟児養育医療費助成事業 | F40: 160296 | H40: 153670 | I40: =J40-SUM(F40,G40,H40) -> 481158 | J40: 795124
B41: 疾病予防対策事業 | C41: 事業名）予防事業一般事務経費 | D41: =SUM(J41) -> 5753909 | E41: 事業計 | F41: =SUM(F42:F43) -> 77686 | G41: =SUM(G42:G43) -> 0 | H41: =SUM(H42:H43) -> 0 | I41: =SUM(I42:I43) -> 5676223 | J41: =SUM(J42:J43) -> 5753909
C42: 事業名）各種予防接種事業経費 | E42: 予防事業一般事務経費 | I42: =J42-SUM(F42,G42,H42) -> 313043 | J42: 313043
E43: 各種予防接種事業経費 | F43: 77686 | I43: =J43-SUM(F43,G43,H43) -> 5363180 | J43: 5440866
B44: 健康増進対策事業 | C44: 事業名）各種がん検診事業経費 | D44: =SUM(J44) -> 14972066 | E44: 事業計 | F44: =SUM(F45:F48) -> 875314 | G44: =SUM(G45:G48) -> 0 | H44: =SUM(H45:H48) -> 5872920 | I44: =SUM(I45:I48) -> 8223832 | J44: =SUM(J45:J48) -> 14972066
C45: 事業名）乳幼児・母子の保健事業経費 | E45: 各種がん検診事業経費 | F45: 4000 | H45: 583300 | I45: =J45-SUM(F45,G45,H45) -> 2740299 | J45: 3327599
C46: 事業名）特定健康診査・特定保健指導事業経費 | E46: 乳幼児・母子の保健事業経費 | I46: =J46-SUM(F46,G46,H46) -> 2769830 | J46: 2769830
C47: 事業名）脳ドック検診事業経費 | E47: 特定健康診査・特定保健指導事業経費 | F47: 871314 | H47: 5189620 | I47: =J47-SUM(F47,G47,H47) -> 2114917 | J47: 8175851
E48: 脳ドック検診事業経費 | H48: 100000 | I48: =J48-SUM(F48,G48,H48) -> 598786 | J48: 698786
A49: 総計 | D49: =SUM(D4,D28,D36) -> 473070966 | F49: =SUM(F4,F28,F36) -> 181997649 | G49: =SUM(G4,G28,G36) -> 2100000 | H49: =SUM(H4,H28,H36) -> 18398739 | I49: =SUM(I4,I28,I36) -> 270574578 | J49: =SUM(J4,J28,J36) -> 473070966

Sheet H30決算
B1: 平成30年度一般会計決算における地方消費税交付金（社会保障財源化分）が充てられる社会保障施策に要する経費
B4: （歳入） | C4: 地方消費税交付金（社会保障財源化分） | I4: 24288
B6: （歳出） | C6: 地方消費税交付金（社会保障財源化分）が充てられる社会保障施策に要する経費 | I6: 480861
B8: 【社会保障施策に要する経費】 | J8: （単位：千円）
B9: 区分 | C9: 事業名 | E9: 平成30年度 決算額 | F9: 財源内訳
F10: 特定財源 | I10: 一般財源
F11: 国・道支出金 | G11: 地方債 | H11: その他 | I11: 地方消費税交付金 （社会保障財源化分） | J11: その他 | M11: 一般財源 総額 | N11: 一般財源 総額
B12: 社会福祉 | C12: 障害者福祉事業 | E12: 160107 | F12: 118487 | G12: 0 | H12: 771 | I12: =ROUND(I24/M24*M12,0) -> 3841 | J12: =E12-(F12+G12+H12+I12) -> 37008 | M12: =E12-(SUM(F12,G12,H12)) -> 40849 | N12: =I12+J12 -> 40849 | O12: =M12-N12 -> 0 | P12: =M12/M24*I24 -> 3840.8462
C13: 高齢者福祉事業 | E13: 43231 | F13: 229 | G13: 2200 | H13: 1384 | I13: =ROUND(I24/M24*M13,0) -> 3706 | J13: =E13-(F13+G13+H13+I13) -> 35712 | M13: =E13-(SUM(F13,G13,H13)) -> 39418 | N13: =I13+J13 -> 39418 | O13: =M13-N13 -> 0 | P13: =M13/M24*I24 -> 3706.2958
C14: 児童福祉事業 | E14: 96434 | F14: 34222 | G14: 0 | H14: 29657 | I14: =ROUND(I24/M24*M14,0) -> 3061 | J14: =E14-(F14+G14+H14+I14) -> 29494 | M14: =E14-(SUM(F14,G14,H14)) -> 32555 | N14: =I14+J14 -> 32555 | O14: =M14-N14 -> 0 | P14: =M14/M24*I24 -> 3060.999
C15: 小計 | E15: =SUM(E12:E14) -> 299772 | F15: =SUM(F12:F14) -> 152938 | G15: =SUM(G12:G14) -> 2200 | H15: =SUM(H12:H14) -> 31812 | I15: =SUM(I12:I14) -> 10608 | J15: =SUM(J12:J14) -> 102214 | M15: =E15-(SUM(F15,G15,H15)) -> 112822 | N15: =I15+J15 -> 112822 | O15: =M15-N15 -> 0 | P15: =M15/M24*I24 -> 10608.141
B16: 社会保険 | C16: 国民健康保険事業 | E16: 34035 | F16: 17183 | G16: 0 | H16: 0 | I16: =ROUND(I24/M24*M16,0)-1 -> 1584 | J16: =E16-(F16+G16+H16+I16) -> 15268 | M16: =E16-(SUM(F16,G16,H16)) -> 16852 | N16: =I16+J16 -> 16852 | O16: =M16-N16 -> 0 | P16: =M16/M24*I24 -> 1584.5171
C17: 介護保険事業 | E17: 46807 | F17: 633 | G17: 0 | H17: 0 | I17: =ROUND(I24/M24*M17,0) -> 4342 | J17: =E17-(F17+G17+H17+I17) -> 41832 | M17: =E17-(SUM(F17,G17,H17)) -> 46174 | N17: =I17+J17 -> 46174 | O17: =M17-N17 -> 0 | P17: =M17/M24*I24 -> 4341.5318
C18: 後期高齢者医療事業 | E18: 69320 | F18: 9830 | G18: 0 | H18: 0 | I18: =ROUND(I24/M24*M18,0) -> 5594 | J18: =E18-(F18+G18+H18+I18) -> 53896 | M18: =E18-(SUM(F18,G18,H18)) -> 59490 | N18: =I18+J18 -> 59490 | O18: =M18-N18 -> 0 | P18: =M18/M24*I24 -> 5593.5749
C19: 小計 | E19: =SUM(E16:E18) -> 150162 | F19: =SUM(F16:F18) -> 27646 | G19: =SUM(G16:G18) -> 0 | H19: =SUM(H16:H18) -> 0 | I19: =SUM(I16:I18) -> 11520 | J19: =SUM(J16:J18) -> 110996 | M19: =E19-(SUM(F19,G19,H19)) -> 122516 | N19: =I19+J19 -> 122516 | O19: =M19-N19 -> 0 | P19: =M19/M24*I24 -> 11519.624
B20: 保健衛生 | C20: 医療施策事業 | E20: 7323 | F20: 1482 | G20: 0 | H20: 287 | I20: =ROUND(I24/M24*M20,0) -> 522 | J20: =E20-(F20+G20+H20+I20) -> 5032 | M20: =E20-(SUM(F20,G20,H20)) -> 5554 | N20: =I20+J20 -> 5554 | O20: =M20-N20 -> 0 | P20: =M20/M24*I24 -> 522.21743
C21: 疾病予防対策事業 | E21: 7279 | F21: 0 | G21: 0 | H21: 0 | I21: =ROUND(I24/M24*M21,0) -> 684 | J21: =E21-(F21+G21+H21+I21) -> 6595 | M21: =E21-(SUM(F21,G21,H21)) -> 7279 | N21: =I21+J21 -> 7279 | O21: =M21-N21 -> 0 | P21: =M21/M24*I24 -> 684.41136
C22: 健康増進対策事業 | E22: 16325 | F22: 270 | G22: 0 | H22: 5913 | I22: =ROUND(I24/M24*M22,0) -> 954 | J22: =E22-(F22+G22+H22+I22) -> 9188 | M22: =E22-(SUM(F22,G22,H22)) -> 10142 | N22: =I22+J22 -> 10142 | O22: =M22-N22 -> 0 | P22: =M22/M24*I24 -> 953.60627
C23: 小計 | E23: =SUM(E20:E22) -> 30927 | F23: =SUM(F20:F22) -> 1752 | G23: =SUM(G20:G22) -> 0 | H23: =SUM(H20:H22) -> 6200 | I23: =SUM(I20:I22) -> 2160 | J23: =SUM(J20:J22) -> 20815 | M23: =E23-(SUM(F23,G23,H23)) -> 22975 | N23: =I23+J23 -> 22975 | O23: =M23-N23 -> 0 | P23: =M23/M24*I24 -> 2160.2351
B24: 合計 | E24: =SUM(E23,E19,E15) -> 480861 | F24: =SUM(F23,F19,F15) -> 182336 | G24: =SUM(G23,G19,G15) -> 2200 | H24: =SUM(H23,H19,H15) -> 38012 | I24: =I4 -> 24288 | J24: =SUM(J23,J19,J15) -> 234025 | M24: =E24-(SUM(F24,G24,H24)) -> 258313 | N24: =I24+J24 -> 258313 | O24: =M24-N24 -> 0 | P24: =M24/M24*I24 -> 24288
B25: ※地方消費税交付金（社会保障財源化分）は、各事業に要する一般財源の比率に応じて按分して充当しています。

Sheet H30決算内訳
A1: 平成30年度一般会計決算における地方消費税交付金（社会保障財源化分）が充てられる社会保障施策に要する経費
J2: （単位：円）
A3: 区分 | B3: 事業名 | C3: 対象（款項又は事業） | D3: 決算額 | E3: 事業名 | F3: 国・道支出金 | G3: 地方債 | H3: その他 | I3: 一般財源 | J3: 計
A4: 社会福祉 | D4: =SUM(D5,D11,D24) -> 299772363 | E4: 区分計 | F4: =SUM(F5,F11,F24) -> 152938182 | G4: =SUM(G5,G11,G24) -> 2200000 | H4: =SUM(H5,H11,H24) -> 31811476 | I4: =SUM(I5,I11,I24) -> 112822705 | J4: =SUM(J5,J11,J24) -> 299772363
B5: 障害者福祉事業 | C5: 款）民生費 項）心身障害者福祉費 | D5: =SUM(J5) -> 160106900 | E5: 事業計 | F5: =SUM(F6:F10) -> 118486641 | G5: =SUM(G6:G10) -> 0 | H5: =SUM(H6:H10) -> 771210 | I5: =SUM(I6:I10) -> 40849049 | J5: =SUM(J6:J10) -> 160106900
E6: 重度心身障害者医療費助成事業 | F6: 2335000 | H6: 771210 | I6: =J6-SUM(F6,G6,H6) -> 2319199 | J6: 5425409
E7: 身体障害児支援費事業 | I7: =J7-SUM(F7,G7,H7) -> 176434 | J7: 176434
E8: 障害者自立支援給付等事業 | F8: 113850000 | I8: =J8-SUM(F8,G8,H8) -> 31037806 | J8: 144887806
E9: 障害者自立支援医療給付事業 | F9: 871641 | I9: =J9-SUM(F9,G9,H9) -> 0 | J9: 871641
E10: 地域生活支援事業 | F10: 1430000 | I10: =J10-SUM(F10,G10,H10) -> 7315610 | J10: 8745610
B11: 高齢者福祉事業 | C11: 款）民生費 項）老人福祉費 | D11: =SUM(J11) -> 43230872 | E11: 事業計 | F11: =SUM(F12:F23) -> 229244 | G11: =SUM(G12:G23) -> 2200000 | H11: =SUM(H12:H23) -> 1383326 | I11: =SUM(I12:I23) -> 39418302 | J11: =SUM(J12:J23) -> 43230872
E12: 生活支援ハウス運営委託事業 | H12: 503901 | I12: =J12-SUM(F12,G12,H12) -> 15197246 | J12: 15701147
E13: 在宅高齢者短期入所委託事業 | H13: 16544 | I13: =J13-SUM(F13,G13,H13) -> 148896 | J13: 165440
E14: 介護予防通所委託事業 | H14: 251856 | I14: =J14-SUM(F14,G14,H14) -> 14494427 | J14: 14746283
E15: 介護予防家事援助委託事業 | H15: 1525 | I15: =J15-SUM(F15,G15,H15) -> 6048475 | J15: 6050000
E16: 高齢者在宅生活支援事業 | H16: 527000 | I16: =J16-SUM(F16,G16,H16) -> 276630 | J16: 803630
E17: 緊急通報システム管理委託事業 | G17: 900000 | H17: 82500 | I17: =J17-SUM(F17,G17,H17) -> 5854 | J17: 988354
E18: 老人福祉一般事務経費 | I18: =J18-SUM(F18,G18,H18) -> 511620 | J18: 511620
E19: 長寿祝金支給事業 | I19: =J19-SUM(F19,G19,H19) -> 190000 | J19: 190000
E20: 老人クラブ活動事業 | F20: 200244 | I20: =J20-SUM(F20,G20,H20) -> 619756 | J20: 820000
E21: 介護サービス利用者負担軽減事業 | F21: 29000 | I21: =J21-SUM(F21,G21,H21) -> 10000 | J21: 39000
E22: 路線バス無料化事業 | G22: 1300000 | I22: =J22-SUM(F22,G22,H22) -> 60800 | J22: 1360800
E23: 老人福祉施設入所措置事業 | I23: =J23-SUM(F23,G23,H23) -> 1854598 | J23: 1854598
B24: 児童福祉事業 | C24: 款）民生費 項）児童福祉費 | D24: =SUM(J24) -> 96434591 | E24: 事業計 | F24: =SUM(F25:F27) -> 34222297 | G24: =SUM(G25:G27) -> 0 | H24: =SUM(H25:H27) -> 29656940 | I24: =SUM(I25:I27) -> 32555354 | J24: =SUM(J25:J27) -> 96434591
E25: 児童手当事業 | F25: 24609306 | I25: =J25-SUM(F25,G25,H25) -> 4496420 | J25: 29105726
E26: 保育及び子育て環境整備事業 | F26: 9612991 | H26: 29656940 | I26: =J26-SUM(F26,G26,H26) -> 27818059 | J26: 67087990
E27: 公用車運行管理経費 | I27: =J27-SUM(F27,G27,H27) -> 240875 | J27: 240875
A28: 社会保険 | D28: =SUM(D29,D31,D33) -> 150161868 | E28: 区分計 | F28: =SUM(F29,F31,F33) -> 27646018 | G28: =SUM(G29,G31,G33) -> 0 | H28: =SUM(H29,H31,H33) -> 0 | I28: =SUM(I29,I31,I33) -> 122515850 | J28: =SUM(J29,J31,J33) -> 150161868
B29: 国民健康保険事業 | C29: 事業名）国民健康保険特別会計繰出金 | D29: =SUM(J29) -> 34035310 | E29: 事業計 | F29: =SUM(F30) -> 17182732 | G29: =SUM(G30) -> 0 | H29: =SUM(H30) -> 0 | I29: =SUM(I30) -> 16852578 | J29: =SUM(J30) -> 34035310
E30: 国民健康保険特別会計繰出金 | F30: 17182732 | I30: =J30-SUM(F30,G30,H30) -> 16852578 | J30: 34035310
B31: 介護保険事業 | C31: 事業名）介護保険特別会計繰出金 | D31: =SUM(J31) -> 46807013 | E31: 事業計 | F31: =SUM(F32) -> 632700 | G31: =SUM(G32) -> 0 | H31: =SUM(H32) -> 0 | I31: =SUM(I32) -> 46174313 | J31: =SUM(J32) -> 46807013
E32: 介護保険特別会計繰出金 | F32: 632700 | I32: =J32-SUM(F32,G32,H32) -> 46174313 | J32: 46807013
B33: 後期高齢者医療事業 | C33: 事業名）後期高齢者医療療養給付費負担金 | D33: =SUM(J33) -> 69319545 | E33: 事業計 | F33: =SUM(F34:F35) -> 9830586 | G33: =SUM(G34:G35) -> 0 | H33: =SUM(H34:H35) -> 0 | I33: =SUM(I34:I35) -> 59488959 | J33: =SUM(J34:J35) -> 69319545
C34: 事業名）後期高齢者医療特別会計繰出金 | E34: 後期高齢者医療療養給付費負担金 | I34: =J34-SUM(F34,G34,H34) -> 52980097 | J34: 52980097
E35: 後期高齢者医療特別会計繰出金 | F35: 9830586 | I35: =J35-SUM(F35,G35,H35) -> 6508862 | J35: 16339448
A36: 保健衛生 | D36: =SUM(D37,D41,D44) -> 30926816 | E36: 区分計 | F36: =SUM(F37,F41,F44) -> 1752000 | G36: =SUM(G37,G41,G44) -> 0 | H36: =SUM(H37,H41,H44) -> 6200365 | I36: =SUM(I37,I41,I44) -> 22974451 | J36: =SUM(J37,J41,J44) -> 30926816
B37: 医療施策事業 | C37: 事業名）ひとり親家庭等医療費助成事業 | D37: =SUM(J37) -> 7323167 | E37: 事業計 | F37: =SUM(F38:F40) -> 1482000 | G37: =SUM(G38:G40) -> 0 | H37: =SUM(H38:H40) -> 287300 | I37: =SUM(I38:I40) -> 5553867 | J37: =SUM(J38:J40) -> 7323167
C38: 事業名）乳幼児医療費助成事業 | E38: ひとり親家庭等医療費助成事業 | F38: 394000 | H38: 66306 | I38: =J38-SUM(F38,G38,H38) -> 452610 | J38: 912916
C39: 事業名）未熟児養育医療費助成事業 | E39: 乳幼児医療費助成事業 | F39: 1088000 | H39: 220994 | I39: =J39-SUM(F39,G39,H39) -> 5101257 | J39: 6410251
E40: 未熟児養育医療費助成事業 | I40: =J40-SUM(F40,G40,H40) -> 0
B41: 疾病予防対策事業 | C41: 事業名）予防事業一般事務経費 | D41: =SUM(J41) -> 7278720 | E41: 事業計 | F41: =SUM(F42:F43) -> 0 | G41: =SUM(G42:G43) -> 0 | H41: =SUM(H42:H43) -> 0 | I41: =SUM(I42:I43) -> 7278720 | J41: =SUM(J42:J43) -> 7278720
C42: 事業名）各種予防接種事業経費 | E42: 予防事業一般事務経費 | I42: =J42-SUM(F42,G42,H42) -> 347596 | J42: 347596
E43: 各種予防接種事業経費 | I43: =J43-SUM(F43,G43,H43) -> 6931124 | J43: 6931124
B44: 健康増進対策事業 | C44: 事業名）各種がん検診事業経費 | D44: =SUM(J44) -> 16324929 | E44: 事業計 | F44: =SUM(F45:F48) -> 270000 | G44: =SUM(G45:G48) -> 0 | H44: =SUM(H45:H48) -> 5913065 | I44: =SUM(I45:I48) -> 10141864 | J44: =SUM(J45:J48) -> 16324929
C45: 事業名）乳幼児・母子の保健事業経費 | E45: 各種がん検診事業経費 | F45: 7000 | H45: 703700 | I45: =J45-SUM(F45,G45,H45) -> 3158224 | J45: 3868924
C46: 事業名）特定健康診査・特定保健指導事業経費 | E46: 乳幼児・母子の保健事業経費 | I46: =J46-SUM(F46,G46,H46) -> 2857011 | J46: 2857011
C47: 事業名）脳ドック検診事業経費 | E47: 特定健康診査・特定保健指導事業経費 | F47: 263000 | H47: 5044365 | I47: =J47-SUM(F47,G47,H47) -> 3421629 | J47: 8728994
E48: 脳ドック検診事業経費 | H48: 165000 | I48: =J48-SUM(F48,G48,H48) -> 705000 | J48: 870000
A49: 総計 | D49: =SUM(D4,D28,D36) -> 480861047 | F49: =SUM(F4,F28,F36) -> 182336200 | G49: =SUM(G4,G28,G36) -> 2200000 | H49: =SUM(H4,H28,H36) -> 38011841 | I49: =SUM(I4,I28,I36) -> 258313006 | J49: =SUM(J4,J28,J36) -> 480861047

Sheet H29決算
B1: 平成29年度一般会計決算における地方消費税交付金（社会保障財源化分）が充てられる社会保障施策に要する経費
B4: （歳入） | C4: 地方消費税交付金（社会保障財源化分） | I4: 23895
B6: （歳出） | C6: 地方消費税交付金（社会保障財源化分）が充てられる社会保障施策に要する経費 | I6: 486109
B8: 【社会保障施策に要する経費】 | J8: （単位：千円）
B9: 区分 | C9: 事業名 | E9: 平成29年度 決算額 | F9: 財源内訳
F10: 特定財源 | I10: 一般財源
F11: 国・道支出金 | G11: 地方債 | H11: その他 | I11: 地方消費税交付金 （社会保障財源化分） | J11: その他 | M11: 一般財源 総額 | N11: 一般財源 総額
B12: 社会福祉 | C12: 障害者福祉事業 | E12: 164481 | F12: 117345 | G12: 0 | H12: 2378 | I12: =ROUND(I24/M24*M12,0) -> 3954 | J12: =E12-(F12+G12+H12+I12) -> 40804 | M12: =E12-(SUM(F12,G12,H12)) -> 44758 | N12: =I12+J12 -> 44758 | O12: =M12-N12 -> 0 | P12: =M12/M24*I24 -> 3954.0974
C13: 高齢者福祉事業 | E13: 44728 | F13: 202 | G13: 900 | H13: 588 | I13: =ROUND(I24/M24*M13,0) -> 3802 | J13: =E13-(F13+G13+H13+I13) -> 39236 | M13: =E13-(SUM(F13,G13,H13)) -> 43038 | N13: =I13+J13 -> 43038 | O13: =M13-N13 -> 0 | P13: =M13/M24*I24 -> 3802.1459
C14: 児童福祉事業 | E14: 99735 | F14: 35030 | G14: 0 | H14: 17253 | I14: =ROUND(I24/M24*M14,0) -> 4192 | J14: =E14-(F14+G14+H14+I14) -> 43260 | M14: =E14-(SUM(F14,G14,H14)) -> 47452 | N14: =I14+J14 -> 47452 | O14: =M14-N14 -> 0 | P14: =M14/M24*I24 -> 4192.096
C15: 小計 | E15: =SUM(E12:E14) -> 308944 | F15: =SUM(F12:F14) -> 152577 | G15: =SUM(G12:G14) -> 900 | H15: =SUM(H12:H14) -> 20219 | I15: =SUM(I12:I14) -> 11948 | J15: =SUM(J12:J14) -> 123300 | M15: =E15-(SUM(F15,G15,H15)) -> 135248 | N15: =I15+J15 -> 135248 | O15: =M15-N15 -> 0 | P15: =M15/M24*I24 -> 11948.339
B16: 社会保険 | C16: 国民健康保険事業 | E16: 34980 | F16: 17713 | G16: 0 | H16: 0 | I16: =ROUND(I24/M24*M16,0)+1 -> 1526 | J16: =E16-(F16+G16+H16+I16) -> 15741 | M16: =E16-(SUM(F16,G16,H16)) -> 17267 | N16: =I16+J16 -> 17267 | O16: =M16-N16 -> 0 | P16: =M16/M24*I24 -> 1525.4346
C17: 介護保険事業 | E17: 45112 | F17: 591 | G17: 0 | H17: 0 | I17: =ROUND(I24/M24*M17,0) -> 3933 | J17: =E17-(F17+G17+H17+I17) -> 40588 | M17: =E17-(SUM(F17,G17,H17)) -> 44521 | N17: =I17+J17 -> 44521 | O17: =M17-N17 -> 0 | P17: =M17/M24*I24 -> 3933.1599
C18: 後期高齢者医療事業 | E18: 65611 | F18: 9478 | G18: 0 | H18: 0 | I18: =ROUND(I24/M24*M18,0) -> 4959 | J18: =E18-(F18+G18+H18+I18) -> 51174 | M18: =E18-(SUM(F18,G18,H18)) -> 56133 | N18: =I18+J18 -> 56133 | O18: =M18-N18 -> 0 | P18: =M18/M24*I24 -> 4959.0096
C19: 小計 | E19: =SUM(E16:E18) -> 145703 | F19: =SUM(F16:F18) -> 27782 | G19: =SUM(G16:G18) -> 0 | H19: =SUM(H16:H18) -> 0 | I19: =SUM(I16:I18) -> 10418 | J19: =SUM(J16:J18) -> 107503 | M19: =E19-(SUM(F19,G19,H19)) -> 117921 | N19: =I19+J19 -> 117921 | O19: =M19-N19 -> 0 | P19: =M19/M24*I24 -> 10417.604
B20: 保健衛生 | C20: 医療施策事業 | E20: 8259 | F20: 1504 | G20: 0 | H20: 5887 | I20: =ROUND(I24/M24*M20,0) -> 77 | J20: =E20-(F20+G20+H20+I20) -> 791 | M20: =E20-(SUM(F20,G20,H20)) -> 868 | N20: =I20+J20 -> 868 | O20: =M20-N20 -> 0 | P20: =M20/M24*I24 -> 76.682528
C21: 疾病予防対策事業 | E21: 6931 | F21: 0 | G21: 0 | H21: 150 | I21: =ROUND(I24/M24*M21,0) -> 599 | J21: =E21-(F21+G21+H21+I21) -> 6182 | M21: =E21-(SUM(F21,G21,H21)) -> 6781 | N21: =I21+J21 -> 6781 | O21: =M21-N21 -> 0 | P21: =M21/M24*I24 -> 599.06016
C22: 健康増進対策事業 | E22: 16272 | F22: 319 | G22: 0 | H22: =6295-1 -> 6294 | I22: =ROUND(I24/M24*M22,0) -> 853 | J22: =E22-(F22+G22+H22+I22) -> 8806 | M22: =E22-(SUM(F22,G22,H22)) -> 9659 | N22: =I22+J22 -> 9659 | O22: =M22-N22 -> 0 | P22: =M22/M24*I24 -> 853.31398
C23: 小計 | E23: =SUM(E20:E22) -> 31462 | F23: =SUM(F20:F22) -> 1823 | G23: =SUM(G20:G22) -> 0 | H23: =SUM(H20:H22) -> 12331 | I23: =SUM(I20:I22) -> 1529 | J23: =SUM(J20:J22) -> 15779 | M23: =E23-(SUM(F23,G23,H23)) -> 17308 | N23: =I23+J23 -> 17308 | O23: =M23-N23 -> 0 | P23: =M23/M24*I24 -> 1529.0567
B24: 合計 | E24: =SUM(E23,E19,E15) -> 486109 | F24: =SUM(F23,F19,F15) -> 182182 | G24: =SUM(G23,G19,G15) -> 900 | H24: =SUM(H23,H19,H15) -> 32550 | I24: =I4 -> 23895 | J24: =SUM(J23,J19,J15) -> 246582 | M24: =E24-(SUM(F24,G24,H24)) -> 270477 | N24: =I24+J24 -> 270477 | O24: =M24-N24 -> 0 | P24: =M24/M24*I24 -> 23895
B25: ※地方消費税交付金（社会保障財源化分）は、各事業に要する一般財源の比率に応じて按分して充当しています。

Sheet H29決算内訳
A1: 平成29年度一般会計決算における地方消費税交付金（社会保障財源化分）が充てられる社会保障施策に要する経費
J2: （単位：円）
A3: 区分 | B3: 事業名 | C3: 対象（款項又は事業） | D3: 決算額 | E3: 事業名 | F3: 国・道支出金 | G3: 地方債 | H3: その他 | I3: 一般財源 | J3: 計
A4: 社会福祉 | D4: =SUM(D5,D11,D25) -> 308944164 | E4: 区分計 | F4: =SUM(F5,F11,F25) -> 152577446 | G4: =SUM(G5,G11,G25) -> 900000 | H4: =SUM(H5,H11,H25) -> 20219093 | I4: =SUM(I5,I11,I25) -> 135247625 | J4: =SUM(J5,J11,J25) -> 308944164
B5: 障害者福祉事業 | C5: 款）民生費 項）心身障害者福祉費 | D5: =SUM(J5) -> 164481513 | E5: 事業計 | F5: =SUM(F6:F10) -> 117345402 | G5: =SUM(G6:G10) -> 0 | H5: =SUM(H6:H10) -> 2377955 | I5: =SUM(I6:I10) -> 44758156 | J5: =SUM(J6:J10) -> 164481513
E6: 重度心身障害者医療費助成事業 | F6: 2121000 | H6: 2377955 | I6: =J6-SUM(F6,G6,H6) -> 2122235 | J6: 6621190
E7: 身体障害児支援費事業 | I7: =J7-SUM(F7,G7,H7) -> 223930 | J7: 223930
E8: 障害者自立支援給付等事業 | F8: 112700000 | I8: =J8-SUM(F8,G8,H8) -> 34920031 | J8: 147620031
E9: 障害者自立支援医療給付事業 | F9: 986402 | I9: =J9-SUM(F9,G9,H9) -> 0 | J9: 986402
E10: 地域生活支援事業 | F10: 1538000 | I10: =J10-SUM(F10,G10,H10) -> 7491960 | J10: 9029960
B11: 高齢者福祉事業 | C11: 款）民生費 項）老人福祉費 | D11: =SUM(J11) -> 44728135 | E11: 事業計 | F11: =SUM(F12:F24) -> 202461 | G11: =SUM(G12:G24) -> 900000 | H11: =SUM(H12:H24) -> 588338 | I11: =SUM(I12:I24) -> 43037336 | J11: =SUM(J12:J24) -> 44728135
E12: 生活支援ハウス運営委託事業 | H12: 291000 | I12: =J12-SUM(F12,G12,H12) -> 15815497 | J12: 16106497
E13: 在宅高齢者短期入所委託事業 | H13: 34594 | I13: =J13-SUM(F13,G13,H13) -> 311346 | J13: 345940
E14: 介護予防通所委託事業 | H14: 175494 | I14: =J14-SUM(F14,G14,H14) -> 15724506 | J14: 15900000
E15: 介護予防家事援助委託事業 | I15: =J15-SUM(F15,G15,H15) -> 5350000 | J15: 5350000
E16: 高齢者在宅生活支援事業 | I16: =J16-SUM(F16,G16,H16) -> 703022 | J16: 703022
E17: 緊急通報システム管理委託事業 | G17: 900000 | H17: 87250 | I17: =J17-SUM(F17,G17,H17) -> 40202 | J17: 1027452
E18: 老人福祉一般事務経費 | I18: =J18-SUM(F18,G18,H18) -> 452200 | J18: 452200
E19: 長寿祝金支給事業 | I19: =J19-SUM(F19,G19,H19) -> 420000 | J19: 420000
E20: 老人クラブ活動事業 | F20: 183461 | I20: =J20-SUM(F20,G20,H20) -> 636539 | J20: 820000
E21: 介護サービス利用者負担軽減事業 | F21: 19000 | I21: =J21-SUM(F21,G21,H21) -> 9000 | J21: 28000
E22: 路線バス無料化事業 | I22: =J22-SUM(F22,G22,H22) -> 1360800 | J22: 1360800
E23: 介護保険住宅改修拡大措置事業 | I23: =J23-SUM(F23,G23,H23) -> 361726 | J23: 361726
E24: 老人福祉施設入所措置事業 | I24: =J24-SUM(F24,G24,H24) -> 1852498 | J24: 1852498
B25: 児童福祉事業 | C25: 款）民生費 項）児童福祉費 | D25: =SUM(J25) -> 99734516 | E25: 事業計 | F25: =SUM(F26:F28) -> 35029583 | G25: =SUM(G26:G28) -> 0 | H25: =SUM(H26:H28) -> 17252800 | I25: =SUM(I26:I28) -> 47452133 | J25: =SUM(J26:J28) -> 99734516
E26: 児童手当事業 | F26: 24986558 | I26: =J26-SUM(F26,G26,H26) -> 4979352 | J26: 29965910
E27: 保育及び子育て環境整備事業 | F27: 10043025 | H27: 17252800 | I27: =J27-SUM(F27,G27,H27) -> 42434643 | J27: 69730468
E28: 公用車運行管理経費 | I28: =J28-SUM(F28,G28,H28) -> 38138 | J28: 38138
A29: 社会保険 | D29: =SUM(D30,D32,D34) -> 145703326 | E29: 区分計 | F29: =SUM(F30,F32,F34) -> 27781502 | G29: =SUM(G30,G32,G34) -> 0 | H29: =SUM(H30,H32,H34) -> 0 | I29: =SUM(I30,I32,I34) -> 117921824 | J29: =SUM(J30,J32,J34) -> 145703326
B30: 国民健康保険事業 | C30: 事業名）国民健康保険特別会計繰出金 | D30: =SUM(J30) -> 34979716 | E30: 事業計 | F30: =SUM(F31) -> 17713286 | G30: =SUM(G31) -> 0 | H30: =SUM(H31) -> 0 | I30: =SUM(I31) -> 17266430 | J30: =SUM(J31) -> 34979716
E31: 国民健康保険特別会計繰出金 | F31: 17713286 | I31: =J31-SUM(F31,G31,H31) -> 17266430 | J31: 34979716
B32: 介護保険事業 | C32: 事業名）介護保険特別会計繰出金 | D32: =SUM(J32) -> 45112397 | E32: 事業計 | F32: =SUM(F33) -> 590625 | G32: =SUM(G33) -> 0 | H32: =SUM(H33) -> 0 | I32: =SUM(I33) -> 44521772 | J32: =SUM(J33) -> 45112397
E33: 介護保険特別会計繰出金 | F33: 590625 | I33: =J33-SUM(F33,G33,H33) -> 44521772 | J33: 45112397
B34: 後期高齢者医療事業 | C34: 事業名）後期高齢者医療療養給付費負担金 | D34: =SUM(J34) -> 65611213 | E34: 事業計 | F34: =SUM(F35:F36) -> 9477591 | G34: =SUM(G35:G36) -> 0 | H34: =SUM(H35:H36) -> 0 | I34: =SUM(I35:I36) -> 56133622 | J34: =SUM(J35:J36) -> 65611213
C35: 事業名）後期高齢者医療特別会計繰出金 | E35: 後期高齢者医療療養給付費負担金 | I35: =J35-SUM(F35,G35,H35) -> 50689425 | J35: 50689425
E36: 後期高齢者医療特別会計繰出金 | F36: 9477591 | I36: =J36-SUM(F36,G36,H36) -> 5444197 | J36: 14921788
A37: 保健衛生 | D37: =SUM(D38,D42,D45) -> 31461772 | E37: 区分計 | F37: =SUM(F38,F42,F45) -> 1823000 | G37: =SUM(G38,G42,G45) -> 0 | H37: =SUM(H38,H42,H45) -> 12331118 | I37: =SUM(I38,I42,I45) -> 17307654 | J37: =SUM(J38,J42,J45) -> 31461772
B38: 医療施策事業 | C38: 事業名）ひとり親家庭等医療費助成事業 | D38: =SUM(J38) -> 8258712 | E38: 事業計 | F38: =SUM(F39:F41) -> 1504000 | G38: =SUM(G39:G41) -> 0 | H38: =SUM(H39:H41) -> 5886562 | I38: =SUM(I39:I41) -> 868150 | J38: =SUM(J39:J41) -> 8258712
C39: 事業名）乳幼児医療費助成事業 | E39: ひとり親家庭等医療費助成事業 | F39: 484000 | H39: 138571 | I39: =J39-SUM(F39,G39,H39) -> 558710 | J39: 1181281
C40: 事業名）未熟児養育医療費助成事業 | E40: 乳幼児医療費助成事業 | F40: 1020000 | H40: 5747991 | I40: =J40-SUM(F40,G40,H40) -> 309440 | J40: 7077431
E41: 未熟児養育医療費助成事業 | I41: =J41-SUM(F41,G41,H41) -> 0
B42: 疾病予防対策事業 | C42: 事業名）予防事業一般事務経費 | D42: =SUM(J42) -> 6931468 | E42: 事業計 | F42: =SUM(F43:F44) -> 0 | G42: =SUM(G43:G44) -> 0 | H42: =SUM(H43:H44) -> 150000 | I42: =SUM(I43:I44) -> 6781468 | J42: =SUM(J43:J44) -> 6931468
C43: 事業名）各種予防接種事業経費 | E43: 予防事業一般事務経費 | I43: =J43-SUM(F43,G43,H43) -> 368735 | J43: 368735
E44: 各種予防接種事業経費 | H44: 150000 | I44: =J44-SUM(F44,G44,H44) -> 6412733 | J44: 6562733
B45: 健康増進対策事業 | C45: 事業名）各種がん検診事業経費 | D45: =SUM(J45) -> 16271592 | E45: 事業計 | F45: =SUM(F46:F49) -> 319000 | G45: =SUM(G46:G49) -> 0 | H45: =SUM(H46:H49) -> 6294556 | I45: =SUM(I46:I49) -> 9658036 | J45: =SUM(J46:J49) -> 16271592
C46: 事業名）乳幼児・母子の保健事業経費 | E46: 各種がん検診事業経費 | F46: 8000 | H46: 869200 | I46: =J46-SUM(F46,G46,H46) -> 3016633 | J46: 3893833
C47: 事業名）特定健康診査・特定保健指導事業経費 | E47: 乳幼児・母子の保健事業経費 | I47: =J47-SUM(F47,G47,H47) -> 2760989 | J47: 2760989
C48: 事業名）脳ドック検診事業経費 | E48: 特定健康診査・特定保健指導事業経費 | F48: 311000 | H48: 5305356 | I48: =J48-SUM(F48,G48,H48) -> 2995414 | J48: 8611770
E49: 脳ドック検診事業経費 | H49: 120000 | I49: =J49-SUM(F49,G49,H49) -> 885000 | J49: 1005000
A50: 総計 | D50: =SUM(D4,D29,D37) -> 486109262 | F50: =SUM(F4,F29,F37) -> 182181948 | G50: =SUM(G4,G29,G37) -> 900000 | H50: =SUM(H4,H29,H37) -> 32550211 | I50: =SUM(I4,I29,I37) -> 270477103 | J50: =SUM(J4,J29,J37) -> 486109262

Sheet H28決算
B1: 平成28年度一般会計決算における地方消費税交付金（社会保障財源化分）が充てられる社会保障施策に要する経費
B4: （歳入） | C4: 地方消費税交付金（社会保障財源化分） | I4: 23337
B6: （歳出） | C6: 地方消費税交付金（社会保障財源化分）が充てられる社会保障施策に要する経費 | I6: =E24 -> 522380
B8: 【社会保障施策に要する経費】 | J8: （単位：千円）
B9: 区分 | C9: 事業名 | E9: 平成28年度 決算額 | F9: 財源内訳
F10: 特定財源 | I10: 一般財源
F11: 国・道支出金 | G11: 地方債 | H11: その他 | I11: 地方消費税交付金 （社会保障財源化分） | J11: その他 | M11: 一般財源 総額 | N11: 一般財源 総額
B12: 社会福祉 | C12: 障害者福祉事業 | E12: 164222 | F12: 116531 | H12: 395 | I12: =ROUND(I24/M24*M12,0) -> 3469 | J12: =E12-(F12+G12+H12+I12) -> 43827 | M12: =E12-(SUM(F12,G12,H12)) -> 47296 | N12: =I12+J12 -> 47296 | O12: =M12-N12 -> 0 | P12: =M12/M24*I24 -> 3468.8292
C13: 高齢者福祉事業 | E13: 42163 | F13: 192 | G13: 1000 | H13: 759 | I13: =ROUND(I24/M24*M13,0) -> 2949 | J13: =E13-(F13+G13+H13+I13) -> 37263 | M13: =E13-(SUM(F13,G13,H13)) -> 40212 | N13: =I13+J13 -> 40212 | O13: =M13-N13 -> 0 | P13: =M13/M24*I24 -> 2949.2676
C14: 児童福祉事業 | E14: 99460 | F14: 34091 | H14: 10392 | I14: =ROUND(I24/M24*M14,0) -> 4032 | J14: =E14-(F14+G14+H14+I14) -> 50945 | M14: =E14-(SUM(F14,G14,H14)) -> 54977 | N14: =I14+J14 -> 54977 | O14: =M14-N14 -> 0 | P14: =M14/M24*I24 -> 4032.1765
C15: 小計 | E15: =SUM(E12:E14) -> 305845 | F15: =SUM(F12:F14) -> 150814 | G15: =SUM(G12:G14) -> 1000 | H15: =SUM(H12:H14) -> 11546 | I15: =SUM(I12:I14) -> 10450 | J15: =SUM(J12:J14) -> 132035 | M15: =E15-(SUM(F15,G15,H15)) -> 142485 | N15: =I15+J15 -> 142485 | O15: =M15-N15 -> 0 | P15: =M15/M24*I24 -> 10450.273
B16: 社会保険 | C16: 国民健康保険事業 | E16: 72247 | F16: 16203 | I16: =ROUND(I24/M24*M16,0)+1 -> 4111 | J16: =E16-(F16+G16+H16+I16) -> 51933 | M16: =E16-(SUM(F16,G16,H16)) -> 56044 | N16: =I16+J16 -> 56044 | O16: =M16-N16 -> 0 | P16: =M16/M24*I24 -> 4110.4335
C17: 介護保険事業 | E17: 45672 | F17: 599 | I17: =ROUND(I24/M24*M17,0) -> 3306 | J17: =E17-(F17+G17+H17+I17) -> 41767 | M17: =E17-(SUM(F17,G17,H17)) -> 45073 | N17: =I17+J17 -> 45073 | O17: =M17-N17 -> 0 | P17: =M17/M24*I24 -> 3305.7877
C18: 後期高齢者医療事業 | E18: 65429 | F18: 9522 | I18: =ROUND(I24/M24*M18,0) -> 4100 | J18: =E18-(F18+G18+H18+I18) -> 51807 | M18: =E18-(SUM(F18,G18,H18)) -> 55907 | N18: =I18+J18 -> 55907 | O18: =M18-N18 -> 0 | P18: =M18/M24*I24 -> 4100.3855
C19: 小計 | E19: =SUM(E16:E18) -> 183348 | F19: =SUM(F16:F18) -> 26324 | G19: =SUM(G16:G18) -> 0 | H19: =SUM(H16:H18) -> 0 | I19: =SUM(I16:I18) -> 11517 | J19: =SUM(J16:J18) -> 145507 | M19: =E19-(SUM(F19,G19,H19)) -> 157024 | N19: =I19+J19 -> 157024 | O19: =M19-N19 -> 0 | P19: =M19/M24*I24 -> 11516.607
B20: 保健衛生 | C20: 医療施策事業 | E20: 9514 | F20: 1777 | H20: 5788 | I20: =ROUND(I24/M24*M20,0) -> 143 | J20: =E20-(F20+G20+H20+I20) -> 1806 | M20: =E20-(SUM(F20,G20,H20)) -> 1949 | N20: =I20+J20 -> 1949 | O20: =M20-N20 -> 0 | P20: =M20/M24*I24 -> 142.94545
C21: 疾病予防対策事業 | E21: 6505 | H21: 150 | I21: =ROUND(I24/M24*M21,0) -> 466 | J21: =E21-(F21+G21+H21+I21) -> 5889 | M21: =E21-(SUM(F21,G21,H21)) -> 6355 | N21: =I21+J21 -> 6355 | O21: =M21-N21 -> 0 | P21: =M21/M24*I24 -> 466.09458
C22: 健康増進対策事業 | E22: 17168 | F22: 341 | H22: 6450 | I22: =ROUND(I24/M24*M22,0) -> 761 | J22: =E22-(F22+G22+H22+I22) -> 9616 | M22: =E22-(SUM(F22,G22,H22)) -> 10377 | N22: =I22+J22 -> 10377 | O22: =M22-N22 -> 0 | P22: =M22/M24*I24 -> 761.08001
C23: 小計 | E23: =SUM(E20:E22) -> 33187 | F23: =SUM(F20:F22) -> 2118 | G23: =SUM(G20:G22) -> 0 | H23: =SUM(H20:H22) -> 12388 | I23: =SUM(I20:I22) -> 1370 | J23: =SUM(J20:J22) -> 17311 | M23: =E23-(SUM(F23,G23,H23)) -> 18681 | N23: =I23+J23 -> 18681 | O23: =M23-N23 -> 0 | P23: =M23/M24*I24 -> 1370.12
B24: 合計 | E24: =SUM(E23,E19,E15) -> 522380 | F24: =SUM(F23,F19,F15) -> 179256 | G24: =SUM(G23,G19,G15) -> 1000 | H24: =SUM(H23,H19,H15) -> 23934 | I24: =I4 -> 23337 | J24: =SUM(J23,J19,J15) -> 294853 | M24: =E24-(SUM(F24,G24,H24)) -> 318190 | N24: =I24+J24 -> 318190 | O24: =M24-N24 -> 0 | P24: =M24/M24*I24 -> 23337
B25: ※地方消費税交付金（社会保障財源化分）は、各事業に要する一般財源の比率に応じて按分して充当しています。

Sheet H28決算内訳
A1: 平成28年度一般会計決算における地方消費税交付金（社会保障財源化分）が充てられる社会保障施策に要する経費
J2: （単位：円）
A3: 区分 | B3: 事業名 | C3: 対象（款項又は事業） | D3: 決算額 | E3: 事業名 | F3: 国・道支出金 | G3: 地方債 | H3: その他 | I3: 一般財源 | J3: 計
A4: 社会福祉 | D4: =SUM(D5,D11,D25) -> 305844922 | E4: 区分計 | F4: =SUM(F5,F11,F25) -> 150814463 | G4: =SUM(G5,G11,G25) -> 1000000 | H4: =SUM(H5,H11,H25) -> 11545778 | I4: =SUM(I5,I11,I25) -> 142484681 | J4: =SUM(J5,J11,J25) -> 305844922
B5: 障害者福祉事業 | C5: 款）民生費 項）心身障害者福祉費 | D5: =SUM(J5) -> 164222472 | E5: 事業計 | F5: =SUM(F6:F10) -> 116531495 | G5: =SUM(G6:G10) -> 0 | H5: =SUM(H6:H10) -> 394812 | I5: =SUM(I6:I10) -> 47296165 | J5: =SUM(J6:J10) -> 164222472
E6: 重度心身障害者医療費助成事業 | F6: 2441000 | H6: 394812 | I6: =J6-SUM(F6,G6,H6) -> 2487787 | J6: 5323599
E7: 身体障害児支援費事業 | I7: =J7-SUM(F7,G7,H7) -> 43428 | J7: 43428
E8: 障害者自立支援給付等事業 | F8: 111349995 | I8: =J8-SUM(F8,G8,H8) -> 37113373 | J8: 148463368
E9: 障害者自立支援医療給付事業 | F9: 1177500 | I9: =J9-SUM(F9,G9,H9) -> 176467 | J9: 1353967
E10: 地域生活支援事業 | F10: 1563000 | I10: =J10-SUM(F10,G10,H10) -> 7475110 | J10: 9038110
B11: 高齢者福祉事業 | C11: 款）民生費 項）老人福祉費 | D11: =SUM(J11) -> 42162762 | E11: 事業計 | F11: =SUM(F12:F24) -> 192136 | G11: =SUM(G12:G24) -> 1000000 | H11: =SUM(H12:H24) -> 759366 | I11: =SUM(I12:I24) -> 40211260 | J11: =SUM(J12:J24) -> 42162762
E12: 生活支援ハウス運営委託事業 | H12: 373032 | I12: =J12-SUM(F12,G12,H12) -> 15423730 | J12: 15796762
E13: 在宅高齢者短期入所委託事業 | H13: 17248 | I13: =J13-SUM(F13,G13,H13) -> 155232 | J13: 172480
E14: 介護予防通所委託事業 | H14: 164217 | I14: =J14-SUM(F14,G14,H14) -> 14982755 | J14: 15146972
E15: 介護予防家事援助委託事業 | H15: 4636 | I15: =J15-SUM(F15,G15,H15) -> 3795364 | J15: 3800000
E16: 高齢者在宅生活支援事業 | I16: =J16-SUM(F16,G16,H16) -> 636431 | J16: 636431
E17: 緊急通報システム管理委託事業 | G17: 1000000 | H17: 100750 | I17: =J17-SUM(F17,G17,H17) -> 44352 | J17: 1145102
E18: 老人福祉一般事務経費 | I18: =J18-SUM(F18,G18,H18) -> 623258 | J18: 623258
E19: 長寿祝金支給事業 | I19: =J19-SUM(F19,G19,H19) -> 250000 | J19: 250000
E20: 老人クラブ活動事業 | F20: 180136 | I20: =J20-SUM(F20,G20,H20) -> 619864 | J20: 800000
E21: 介護サービス利用者負担軽減事業 | F21: 12000 | I21: =J21-SUM(F21,G21,H21) -> 4000 | J21: 16000
E22: 路線バス無料化事業 | I22: =J22-SUM(F22,G22,H22) -> 1360800 | J22: 1360800
E23: 介護保険住宅改修拡大措置事業 | I23: =J23-SUM(F23,G23,H23) -> 316305 | J23: 316305
E24: 老人福祉施設入所措置事業 | H24: 99483 | I24: =J24-SUM(F24,G24,H24) -> 1999169 | J24: 2098652
B25: 児童福祉事業 | C25: 款）民生費 項）児童福祉費 | D25: =SUM(J25) -> 99459688 | E25: 事業計 | F25: =SUM(F26:F28) -> 34090832 | G25: =SUM(G26:G28) -> 0 | H25: =SUM(H26:H28) -> 10391600 | I25: =SUM(I26:I28) -> 54977256 | J25: =SUM(J26:J28) -> 99459688
E26: 児童手当事業 | F26: 26291929 | I26: =J26-SUM(F26,G26,H26) -> 4938259 | J26: 31230188
E27: 保育及び子育て環境整備事業 | F27: 7798903 | H27: 10391600 | I27: =J27-SUM(F27,G27,H27) -> 49773098 | J27: 67963601
E28: 公用車運行管理経費 | I28: =J28-SUM(F28,G28,H28) -> 265899 | J28: 265899
A29: 社会保険 | D29: =SUM(D30,D32,D34) -> 183347849 | E29: 区分計 | F29: =SUM(F30,F32,F34) -> 26323912 | G29: =SUM(G30,G32,G34) -> 0 | H29: =SUM(H30,H32,H34) -> 0 | I29: =SUM(I30,I32,I34) -> 157023937 | J29: =SUM(J30,J32,J34) -> 183347849
B30: 国民健康保険事業 | C30: 事業名）国民健康保険特別会計繰出金 | D30: =SUM(J30) -> 72247411 | E30: 事業計 | F30: =SUM(F31) -> 16203307 | G30: =SUM(G31) -> 0 | H30: =SUM(H31) -> 0 | I30: =SUM(I31) -> 56044104 | J30: =SUM(J31) -> 72247411
E31: 国民健康保険特別会計繰出金 | F31: 16203307 | I31: =J31-SUM(F31,G31,H31) -> 56044104 | J31: 72247411
B32: 介護保険事業 | C32: 事業名）介護保険特別会計繰出金 | D32: =SUM(J32) -> 45671556 | E32: 事業計 | F32: =SUM(F33) -> 598500 | G32: =SUM(G33) -> 0 | H32: =SUM(H33) -> 0 | I32: =SUM(I33) -> 45073056 | J32: =SUM(J33) -> 45671556
E33: 介護保険特別会計繰出金 | F33: 598500 | I33: =J33-SUM(F33,G33,H33) -> 45073056 | J33: 45671556
B34: 後期高齢者医療事業 | C34: 事業名）後期高齢者医療療養給付費負担金 | D34: =SUM(J34) -> 65428882 | E34: 事業計 | F34: =SUM(F35:F36) -> 9522105 | G34: =SUM(G35:G36) -> 0 | H34: =SUM(H35:H36) -> 0 | I34: =SUM(I35:I36) -> 55906777 | J34: =SUM(J35:J36) -> 65428882
C35: 事業名）後期高齢者医療特別会計繰出金 | E35: 後期高齢者医療療養給付費負担金 | I35: =J35-SUM(F35,G35,H35) -> 50641882 | J35: 50641882
E36: 後期高齢者医療特別会計繰出金 | F36: 9522105 | I36: =J36-SUM(F36,G36,H36) -> 5264895 | J36: 14787000
A37: 保健衛生 | D37: =SUM(D38,D42,D45) -> 33187427 | E37: 区分計 | F37: =SUM(F38,F42,F45) -> 2118000 | G37: =SUM(G38,G42,G45) -> 0 | H37: =SUM(H38,H42,H45) -> 12388259 | I37: =SUM(I38,I42,I45) -> 18681168 | J37: =SUM(J38,J42,J45) -> 33187427
B38: 医療施策事業 | C38: 事業名）ひとり親家庭等医療費助成事業 | D38: =SUM(J38) -> 9514582 | E38: 事業計 | F38: =SUM(F39:F41) -> 1777000 | G38: =SUM(G39:G41) -> 0 | H38: =SUM(H39:H41) -> 5788503 | I38: =SUM(I39:I41) -> 1949079 | J38: =SUM(J39:J41) -> 9514582
C39: 事業名）乳幼児医療費助成事業 | E39: ひとり親家庭等医療費助成事業 | F39: 546000 | H39: 27792 | I39: =J39-SUM(F39,G39,H39) -> 581331 | J39: 1155123
C40: 事業名）未熟児養育医療費助成事業 | E40: 乳幼児医療費助成事業 | F40: 1231000 | H40: 5760711 | I40: =J40-SUM(F40,G40,H40) -> 1367748 | J40: 8359459
E41: 未熟児養育医療費助成事業 | I41: =J41-SUM(F41,G41,H41) -> 0 | J41: 0
B42: 疾病予防対策事業 | C42: 事業名）予防事業一般事務経費 | D42: =SUM(J42) -> 6504509 | E42: 事業計 | F42: =SUM(F43:F44) -> 0 | G42: =SUM(G43:G44) -> 0 | H42: =SUM(H43:H44) -> 150000 | I42: =SUM(I43:I44) -> 6354509 | J42: =SUM(J43:J44) -> 6504509
C43: 事業名）各種予防接種事業経費 | E43: 予防事業一般事務経費 | I43: =J43-SUM(F43,G43,H43) -> 466812 | J43: 466812
E44: 各種予防接種事業経費 | H44: 150000 | I44: =J44-SUM(F44,G44,H44) -> 5887697 | J44: 6037697
B45: 健康増進対策事業 | C45: 事業名）各種がん検診事業経費 | D45: =SUM(J45) -> 17168336 | E45: 事業計 | F45: =SUM(F46:F49) -> 341000 | G45: =SUM(G46:G49) -> 0 | H45: =SUM(H46:H49) -> 6449756 | I45: =SUM(I46:I49) -> 10377580 | J45: =SUM(J46:J49) -> 17168336
C46: 事業名）乳幼児・母子の保健事業経費 | E46: 各種がん検診事業経費 | F46: 20000 | H46: 933500 | I46: =J46-SUM(F46,G46,H46) -> 3281826 | J46: 4235326
C47: 事業名）特定健康診査・特定保健指導事業経費 | E47: 乳幼児・母子の保健事業経費 | I47: =J47-SUM(F47,G47,H47) -> 2433429 | J47: 2433429
C48: 事業名）脳ドック検診事業経費 | E48: 特定健康診査・特定保健指導事業経費 | F48: 321000 | H48: 5416256 | I48: =J48-SUM(F48,G48,H48) -> 3787325 | J48: 9524581
E49: 脳ドック検診事業経費 | H49: 100000 | I49: =J49-SUM(F49,G49,H49) -> 875000 | J49: 975000
A50: 総計 | D50: =SUM(D4,D29,D37) -> 522380198 | F50: =SUM(F4,F29,F37) -> 179256375 | G50: =SUM(G4,G29,G37) -> 1000000 | H50: =SUM(H4,H29,H37) -> 23934037 | I50: =SUM(I4,I29,I37) -> 318189786 | J50: =SUM(J4,J29,J37) -> 522380198

Sheet Sheet3
